Workbook

Sheet Resumo
A1: Talentos e habilidades declaradas
A2: Elegíveis para convite | B2: =COUNTIF(Habilidades!$N$2:$N$201,"Elegível para convite")
A3: Confirmar interesse | B3: =COUNTIF(Habilidades!$N$2:$N$201,"Confirmar interesse")
A4: Revisar antes de convidar | B4: =COUNTIF(Habilidades!$N$2:$N$201,"Revisar antes de convidar")
A5: Cadastros incompletos | B5: =COUNTIF(Habilidades!$N$2:$N$201,"Cadastro incompleto")
A6: Não convidar | B6: =COUNTIF(Habilidades!$N$2:$N$201,"Não convidar")
A7: Revisão próxima | B7: =COUNTIFS(Habilidades!$O$2:$O$201,">=0",Habilidades!$O$2:$O$201,"<="&Listas!$B$3,Habilidades!$N$2:$N$201,"Elegível para convite")+COUNTIFS(Habilidades!$O$2:$O$201,">=0",Habilidades!$O$2:$O$201,"<="&Listas!$B$3,Habilidades!$N$2:$N$201,"Confirmar interesse")
A8: Declarações ativas | B8: =COUNTIF(Habilidades!$L$2:$L$201,"Ativo")
A10: Alertas | B10: ="Alertas: revisão pendente = "&B4&", cadastros incompletos = "&B5&", revisão próxima = "&B7&"."
A12: Possíveis convites por área
A13: Área de serviço | B13: Possíveis convites
A14: =Listas!A7 | B14: =COUNTIFS(Habilidades!$C$2:$C$201,A14,Habilidades!$N$2:$N$201,"Elegível para convite")+COUNTIFS(Habilidades!$C$2:$C$201,A14,Habilidades!$N$2:$N$201,"Confirmar interesse")
A15: =Listas!A8 | B15: =COUNTIFS(Habilidades!$C$2:$C$201,A15,Habilidades!$N$2:$N$201,"Elegível para convite")+COUNTIFS(Habilidades!$C$2:$C$201,A15,Habilidades!$N$2:$N$201,"Confirmar interesse")
A16: =Listas!A9 | B16: =COUNTIFS(Habilidades!$C$2:$C$201,A16,Habilidades!$N$2:$N$201,"Elegível para convite")+COUNTIFS(Habilidades!$C$2:$C$201,A16,Habilidades!$N$2:$N$201,"Confirmar interesse")
A17: =Listas!A10 | B17: =COUNTIFS(Habilidades!$C$2:$C$201,A17,Habilidades!$N$2:$N$201,"Elegível para convite")+COUNTIFS(Habilidades!$C$2:$C$201,A17,Habilidades!$N$2:$N$201,"Confirmar interesse")
A18: =Listas!A11 | B18: =COUNTIFS(Habilidades!$C$2:$C$201,A18,Habilidades!$N$2:$N$201,"Elegível para convite")+COUNTIFS(Habilidades!$C$2:$C$201,A18,Habilidades!$N$2:$N$201,"Confirmar interesse")
A19: =Listas!A12 | B19: =COUNTIFS(Habilidades!$C$2:$C$201,A19,Habilidades!$N$2:$N$201,"Elegível para convite")+COUNTIFS(Habilidades!$C$2:$C$201,A19,Habilidades!$N$2:$N$201,"Confirmar interesse")
A20: =Listas!A13 | B20: =COUNTIFS(Habilidades!$C$2:$C$201,A20,Habilidades!$N$2:$N$201,"Elegível para convite")+COUNTIFS(Habilidades!$C$2:$C$201,A20,Habilidades!$N$2:$N$201,"Confirmar interesse")
A21: =Listas!A14 | B21: =COUNTIFS(Habilidades!$C$2:$C$201,A21,Habilidades!$N$2:$N$201,"Elegível para convite")+COUNTIFS(Habilidades!$C$2:$C$201,A21,Habilidades!$N$2:$N$201,"Confirmar interesse")
A23: As contagens representam declarações de habilidades, não membros únicos.
A25: Uso administrativo restrito: códigos internos e observações são sensíveis. Não registre telefone, e-mail, endereço, credenciais ou dados bancários.
A27: O resultado orienta apenas um convite inicial e não constitui escala, designação ministerial, avaliação de desempenho, comprovação de competência ou certificação.
A29: O contato e a confirmação ocorrerão fora desta pasta.

Sheet Habilidades
A1: ID da declaração | B1: Código interno do membro | C1: Área de serviço | D1: Talento ou habilidade | E1: Nível declarado | F1: Interesse em servir | G1: Disponibilidade geral | H1: Frequência preferida | I1: Aceita receber convite? | J1: Data da declaração | K1: Revisar até | L1: Status cadastral | M1: Observações administrativas | N1: Situação para convite | O1: Dias até revisão | Q1: Apoio interno — áreas | R1: Apoio interno — talentos | S1: Apoio interno — níveis | T1: Apoio interno — interesses | U1: Apoio interno — disponibilidades | V1: Apoio interno — frequências | W1: Apoio interno — convite | X1: Apoio interno — status | Y1: Apoio interno — referência e alerta
A2: TAL-001 | B2: MEM-FICT-001 | C2: Música e louvor | D2: Canto | E2: Intermediário | F2: Sim | G2: Noites | H2: Mensal | I2: Sim | J2: 46096 | K2: =IF(OR(J2="",Listas!$B$2=""),"",IFERROR(EDATE(J2,Listas!$B$2),"")) | L2: Ativo | M2: Exemplo fictício — sem dados pessoais. | N2: =IF(COUNTA(A2:J2,L2:M2)=0,"",IF(OR(A2="",B2="",C2="",D2="",E2="",F2="",G2="",H2="",I2="",J2="",K2="",L2="",Listas!$B$4=""),"Cadastro incompleto",IF(OR(L2<>"Ativo",I2<>"Sim",F2="Não"),"Não convidar",IF(K2<Listas!$B$4,"Revisar antes de convidar",IF(F2="Talvez","Confirmar interesse","Elegível para convite"))))) | O2: =IF(OR(A2="",K2="",Listas!$B$4=""),"",IFERROR(K2-Listas!$B$4,"")) | Q2: =Listas!A7 | R2: =Listas!B7 | S2: =Listas!C7 | T2: =Listas!D7 | U2: =Listas!E7 | V2: =Listas!F7 | W2: =Listas!G7 | X2: =Listas!H7 | Y2: =Listas!$B$4
A3: TAL-002 | B3: MEM-FICT-002 | C3: Comunicação | D3: Fotografia | E3: Avançado | F3: Talvez | G3: Fins de semana | H3: Pontual | I3: Sim | J3: 46244 | K3: =IF(OR(J3="",Listas!$B$2=""),"",IFERROR(EDATE(J3,Listas!$B$2),"")) | L3: Ativo | M3: Exemplo fictício — sem dados pessoais. | N3: =IF(COUNTA(A3:J3,L3:M3)=0,"",IF(OR(A3="",B3="",C3="",D3="",E3="",F3="",G3="",H3="",I3="",J3="",K3="",L3="",Listas!$B$4=""),"Cadastro incompleto",IF(OR(L3<>"Ativo",I3<>"Sim",F3="Não"),"Não convidar",IF(K3<Listas!$B$4,"Revisar antes de convidar",IF(F3="Talvez","Confirmar interesse","Elegível para convite"))))) | O3: =IF(OR(A3="",K3="",Listas!$B$4=""),"",IFERROR(K3-Listas!$B$4,"")) | Q3: =Listas!A8 | R3: =Listas!B8 | S3: =Listas!C8 | T3: =Listas!D8 | U3: =Listas!E8 | V3: =Listas!F8 | W3: =Listas!G8 | X3: =Listas!H8 | Y3: =Listas!$B$3
A4: TAL-003 | B4: MEM-FICT-003 | C4: Apoio administrativo | D4: Planilhas | E4: Intermediário | F4: Sim | G4: Dias úteis | H4: Mensal | I4: Sim | J4: 45848 | K4: =IF(OR(J4="",Listas!$B$2=""),"",IFERROR(EDATE(J4,Listas!$B$2),"")) | L4: Ativo | M4: Exemplo fictício — sem dados pessoais. | N4: =IF(COUNTA(A4:J4,L4:M4)=0,"",IF(OR(A4="",B4="",C4="",D4="",E4="",F4="",G4="",H4="",I4="",J4="",K4="",L4="",Listas!$B$4=""),"Cadastro incompleto",IF(OR(L4<>"Ativo",I4<>"Sim",F4="Não"),"Não convidar",IF(K4<Listas!$B$4,"Revisar antes de convidar",IF(F4="Talvez","Confirmar interesse","Elegível para convite"))))) | O4: =IF(OR(A4="",K4="",Listas!$B$4=""),"",IFERROR(K4-Listas!$B$4,"")) | Q4: =Listas!A9 | R4: =Listas!B9 | S4: =Listas!C9 | T4: =Listas!D9 | U4: =Listas!E9 | V4: =Listas!F9 | W4: ="" | X4: =""
A5: TAL-004 | B5: MEM-FICT-004 | C5: Recepção e acolhimento | D5: Recepção | E5: Iniciante | F5: Sim | G5: Fins de semana | H5: Quinzenal | I5: Não | J5: 46270 | K5: =IF(OR(J5="",Listas!$B$2=""),"",IFERROR(EDATE(J5,Listas!$B$2),"")) | L5: Ativo | M5: Exemplo fictício — sem dados pessoais. | N5: =IF(COUNTA(A5:J5,L5:M5)=0,"",IF(OR(A5="",B5="",C5="",D5="",E5="",F5="",G5="",H5="",I5="",J5="",K5="",L5="",Listas!$B$4=""),"Cadastro incompleto",IF(OR(L5<>"Ativo",I5<>"Sim",F5="Não"),"Não convidar",IF(K5<Listas!$B$4,"Revisar antes de convidar",IF(F5="Talvez","Confirmar interesse","Elegível para convite"))))) | O5: =IF(OR(A5="",K5="",Listas!$B$4=""),"",IFERROR(K5-Listas!$B$4,"")) | Q5: =Listas!A10 | R5: =Listas!B10 | S5: ="" | T5: ="" | U5: =Listas!E10 | V5: =Listas!F10 | W5: ="" | X5: =""
A6: TAL-005 | B6: MEM-FICT-005 | C6: Ensino | D6: Ensino | E6: Avançado | F6: Não | G6: Noites | H6: Mensal | I6: Sim | J6: 46174 | K6: =IF(OR(J6="",Listas!$B$2=""),"",IFERROR(EDATE(J6,Listas!$B$2),"")) | L6: Ativo | M6: Exemplo fictício — sem dados pessoais. | N6: =IF(COUNTA(A6:J6,L6:M6)=0,"",IF(OR(A6="",B6="",C6="",D6="",E6="",F6="",G6="",H6="",I6="",J6="",K6="",L6="",Listas!$B$4=""),"Cadastro incompleto",IF(OR(L6<>"Ativo",I6<>"Sim",F6="Não"),"Não convidar",IF(K6<Listas!$B$4,"Revisar antes de convidar",IF(F6="Talvez","Confirmar interesse","Elegível para convite"))))) | O6: =IF(OR(A6="",K6="",Listas!$B$4=""),"",IFERROR(K6-Listas!$B$4,"")) | Q6: =Listas!A11 | R6: =Listas!B11 | S6: ="" | T6: ="" | U6: =Listas!E11 | V6: =Listas!F11 | W6: ="" | X6: =""
A7: TAL-006 | B7: MEM-FICT-006 | C7: Manutenção e logística | D7: Reparos gerais | E7: Intermediário | F7: Sim | G7: Dias úteis | H7: Pontual | I7: Sim | J7: 46252 | K7: =IF(OR(J7="",Listas!$B$2=""),"",IFERROR(EDATE(J7,Listas!$B$2),"")) | L7: Inativo | M7: Exemplo fictício — sem dados pessoais. | N7: =IF(COUNTA(A7:J7,L7:M7)=0,"",IF(OR(A7="",B7="",C7="",D7="",E7="",F7="",G7="",H7="",I7="",J7="",K7="",L7="",Listas!$B$4=""),"Cadastro incompleto",IF(OR(L7<>"Ativo",I7<>"Sim",F7="Não"),"Não convidar",IF(K7<Listas!$B$4,"Revisar antes de convidar",IF(F7="Talvez","Confirmar interesse","Elegível para convite"))))) | O7: =IF(OR(A7="",K7="",Listas!$B$4=""),"",IFERROR(K7-Listas!$B$4,"")) | Q7: =Listas!A12 | R7: =Listas!B12 | S7: ="" | T7: ="" | U7: ="" | V7: ="" | W7: ="" | X7: =""
A8: TAL-007 | B8: MEM-FICT-007 | C8: Ação social | D8: Cozinha | E8: Intermediário | F8: Sim | H8: Pontual | I8: Sim | J8: 46267 | K8: =IF(OR(J8="",Listas!$B$2=""),"",IFERROR(EDATE(J8,Listas!$B$2),"")) | L8: Ativo | M8: Exemplo fictício — sem dados pessoais. | N8: =IF(COUNTA(A8:J8,L8:M8)=0,"",IF(OR(A8="",B8="",C8="",D8="",E8="",F8="",G8="",H8="",I8="",J8="",K8="",L8="",Listas!$B$4=""),"Cadastro incompleto",IF(OR(L8<>"Ativo",I8<>"Sim",F8="Não"),"Não convidar",IF(K8<Listas!$B$4,"Revisar antes de convidar",IF(F8="Talvez","Confirmar interesse","Elegível para convite"))))) | O8: =IF(OR(A8="",K8="",Listas!$B$4=""),"",IFERROR(K8-Listas!$B$4,"")) | Q8: =Listas!A13 | R8: =Listas!B13 | S8: ="" | T8: ="" | U8: ="" | V8: ="" | W8: ="" | X8: =""
A9: TAL-008 | B9: MEM-FICT-008 | C9: Tecnologia e audiovisual | D9: Sonorização | E9: Avançado | F9: Sim | G9: Fins de semana | H9: Mensal | I9: Sim | J9: 45920 | K9: =IF(OR(J9="",Listas!$B$2=""),"",IFERROR(EDATE(J9,Listas!$B$2),"")) | L9: Ativo | M9: Exemplo fictício — sem dados pessoais. | N9: =IF(COUNTA(A9:J9,L9:M9)=0,"",IF(OR(A9="",B9="",C9="",D9="",E9="",F9="",G9="",H9="",I9="",J9="",K9="",L9="",Listas!$B$4=""),"Cadastro incompleto",IF(OR(L9<>"Ativo",I9<>"Sim",F9="Não"),"Não convidar",IF(K9<Listas!$B$4,"Revisar antes de convidar",IF(F9="Talvez","Confirmar interesse","Elegível para convite"))))) | O9: =IF(OR(A9="",K9="",Listas!$B$4=""),"",IFERROR(K9-Listas!$B$4,"")) | Q9: =Listas!A14 | R9: =Listas!B14 | S9: ="" | T9: ="" | U9: ="" | V9: ="" | W9: ="" | X9: =""
A10: TAL-009 | B10: MEM-FICT-001 | C10: Música e louvor | D10: Instrumento musical | E10: Avançado | F10: Sim | G10: Flexível | H10: Pontual | I10: Sim | J10: 46266 | K10: =IF(OR(J10="",Listas!$B$2=""),"",IFERROR(EDATE(J10,Listas!$B$2),"")) | L10: Ativo | M10: Exemplo fictício — sem dados pessoais. | N10: =IF(COUNTA(A10:J10,L10:M10)=0,"",IF(OR(A10="",B10="",C10="",D10="",E10="",F10="",G10="",H10="",I10="",J10="",K10="",L10="",Listas!$B$4=""),"Cadastro incompleto",IF(OR(L10<>"Ativo",I10<>"Sim",F10="Não"),"Não convidar",IF(K10<Listas!$B$4,"Revisar antes de convidar",IF(F10="Talvez","Confirmar interesse","Elegível para convite"))))) | O10: =IF(OR(A10="",K10="",Listas!$B$4=""),"",IFERROR(K10-Listas!$B$4,"")) | Q10: ="" | R10: =Listas!B15 | S10: ="" | T10: ="" | U10: ="" | V10: ="" | W10: ="" | X10: =""
A11: TAL-010 | B11: MEM-FICT-010 | C11: Comunicação | D11: Design gráfico | E11: Intermediário | F11: Sim | G11: Noites | H11: Mensal | I11: Sim | J11: 45899 | K11: =IF(OR(J11="",Listas!$B$2=""),"",IFERROR(EDATE(J11,Listas!$B$2),"")) | L11: Ativo | M11: Exemplo fictício — sem dados pessoais. | N11: =IF(COUNTA(A11:J11,L11:M11)=0,"",IF(OR(A11="",B11="",C11="",D11="",E11="",F11="",G11="",H11="",I11="",J11="",K11="",L11="",Listas!$B$4=""),"Cadastro incompleto",IF(OR(L11<>"Ativo",I11<>"Sim",F11="Não"),"Não convidar",IF(K11<Listas!$B$4,"Revisar antes de convidar",IF(F11="Talvez","Confirmar interesse","Elegível para convite"))))) | O11: =IF(OR(A11="",K11="",Listas!$B$4=""),"",IFERROR(K11-Listas!$B$4,"")) | Q11: ="" | R11: =Listas!B16 | S11: ="" | T11: ="" | U11: ="" | V11: ="" | W11: ="" | X11: =""
K12: =IF(OR(J12="",Listas!$B$2=""),"",IFERROR(EDATE(J12,Listas!$B$2),"")) | N12: =IF(COUNTA(A12:J12,L12:M12)=0,"",IF(OR(A12="",B12="",C12="",D12="",E12="",F12="",G12="",H12="",I12="",J12="",K12="",L12="",Listas!$B$4=""),"Cadastro incompleto",IF(OR(L12<>"Ativo",I12<>"Sim",F12="Não"),"Não convidar",IF(K12<Listas!$B$4,"Revisar antes de convidar",IF(F12="Talvez","Confirmar interesse","Elegível para convite"))))) | O12: =IF(OR(A12="",K12="",Listas!$B$4=""),"",IFERROR(K12-Listas!$B$4,"")) | Q12: ="" | R12: =Listas!B17 | S12: ="" | T12: ="" | U12: ="" | V12: ="" | W12: ="" | X12: =""
K13: =IF(OR(J13="",Listas!$B$2=""),"",IFERROR(EDATE(J13,Listas!$B$2),"")) | N13: =IF(COUNTA(A13:J13,L13:M13)=0,"",IF(OR(A13="",B13="",C13="",D13="",E13="",F13="",G13="",H13="",I13="",J13="",K13="",L13="",Listas!$B$4=""),"Cadastro incompleto",IF(OR(L13<>"Ativo",I13<>"Sim",F13="Não"),"Não convidar",IF(K13<Listas!$B$4,"Revisar antes de convidar",IF(F13="Talvez","Confirmar interesse","Elegível para convite"))))) | O13: =IF(OR(A13="",K13="",Listas!$B$4=""),"",IFERROR(K13-Listas!$B$4,"")) | Q13: ="" | R13: =Listas!B18 | S13: ="" | T13: ="" | U13: ="" | V13: ="" | W13: ="" | X13: =""
K14: =IF(OR(J14="",Listas!$B$2=""),"",IFERROR(EDATE(J14,Listas!$B$2),"")) | N14: =IF(COUNTA(A14:J14,L14:M14)=0,"",IF(OR(A14="",B14="",C14="",D14="",E14="",F14="",G14="",H14="",I14="",J14="",K14="",L14="",Listas!$B$4=""),"Cadastro incompleto",IF(OR(L14<>"Ativo",I14<>"Sim",F14="Não"),"Não convidar",IF(K14<Listas!$B$4,"Revisar antes de convidar",IF(F14="Talvez","Confirmar interesse","Elegível para convite"))))) | O14: =IF(OR(A14="",K14="",Listas!$B$4=""),"",IFERROR(K14-Listas!$B$4,"")) | Q14: ="" | R14: =Listas!B19 | S14: ="" | T14: ="" | U14: ="" | V14: ="" | W14: ="" | X14: =""
K15: =IF(OR(J15="",Listas!$B$2=""),"",IFERROR(EDATE(J15,Listas!$B$2),"")) | N15: =IF(COUNTA(A15:J15,L15:M15)=0,"",IF(OR(A15="",B15="",C15="",D15="",E15="",F15="",G15="",H15="",I15="",J15="",K15="",L15="",Listas!$B$4=""),"Cadastro incompleto",IF(OR(L15<>"Ativo",I15<>"Sim",F15="Não"),"Não convidar",IF(K15<Listas!$B$4,"Revisar antes de convidar",IF(F15="Talvez","Confirmar interesse","Elegível para convite"))))) | O15: =IF(OR(A15="",K15="",Listas!$B$4=""),"",IFERROR(K15-Listas!$B$4,"")) | Q15: ="" | R15: =Listas!B20 | S15: ="" | T15: ="" | U15: ="" | V15: ="" | W15: ="" | X15: =""
K16: =IF(OR(J16="",Listas!$B$2=""),"",IFERROR(EDATE(J16,Listas!$B$2),"")) | N16: =IF(COUNTA(A16:J16,L16:M16)=0,"",IF(OR(A16="",B16="",C16="",D16="",E16="",F16="",G16="",H16="",I16="",J16="",K16="",L16="",Listas!$B$4=""),"Cadastro incompleto",IF(OR(L16<>"Ativo",I16<>"Sim",F16="Não"),"Não convidar",IF(K16<Listas!$B$4,"Revisar antes de convidar",IF(F16="Talvez","Confirmar interesse","Elegível para convite"))))) | O16: =IF(OR(A16="",K16="",Listas!$B$4=""),"",IFERROR(K16-Listas!$B$4,"")) | Q16: ="" | R16: =Listas!B21 | S16: ="" | T16: ="" | U16: ="" | V16: ="" | W16: ="" | X16: =""
K17: =IF(OR(J17="",Listas!$B$2=""),"",IFERROR(EDATE(J17,Listas!$B$2),"")) | N17: =IF(COUNTA(A17:J17,L17:M17)=0,"",IF(OR(A17="",B17="",C17="",D17="",E17="",F17="",G17="",H17="",I17="",J17="",K17="",L17="",Listas!$B$4=""),"Cadastro incompleto",IF(OR(L17<>"Ativo",I17<>"Sim",F17="Não"),"Não convidar",IF(K17<Listas!$B$4,"Revisar antes de convidar",IF(F17="Talvez","Confirmar interesse","Elegível para convite"))))) | O17: =IF(OR(A17="",K17="",Listas!$B$4=""),"",IFERROR(K17-Listas!$B$4,"")) | Q17: ="" | R17: =Listas!B22 | S17: ="" | T17: ="" | U17: ="" | V17: ="" | W17: ="" | X17: =""
K18: =IF(OR(J18="",Listas!$B$2=""),"",IFERROR(EDATE(J18,Listas!$B$2),"")) | N18: =IF(COUNTA(A18:J18,L18:M18)=0,"",IF(OR(A18="",B18="",C18="",D18="",E18="",F18="",G18="",H18="",I18="",J18="",K18="",L18="",Listas!$B$4=""),"Cadastro incompleto",IF(OR(L18<>"Ativo",I18<>"Sim",F18="Não"),"Não convidar",IF(K18<Listas!$B$4,"Revisar antes de convidar",IF(F18="Talvez","Confirmar interesse","Elegível para convite"))))) | O18: =IF(OR(A18="",K18="",Listas!$B$4=""),"",IFERROR(K18-Listas!$B$4,"")) | Q18: ="" | R18: ="" | S18: ="" | T18: ="" | U18: ="" | V18: ="" | W18: ="" | X18: =""
K19: =IF(OR(J19="",Listas!$B$2=""),"",IFERROR(EDATE(J19,Listas!$B$2),"")) | N19: =IF(COUNTA(A19:J19,L19:M19)=0,"",IF(OR(A19="",B19="",C19="",D19="",E19="",F19="",G19="",H19="",I19="",J19="",K19="",L19="",Listas!$B$4=""),"Cadastro incompleto",IF(OR(L19<>"Ativo",I19<>"Sim",F19="Não"),"Não convidar",IF(K19<Listas!$B$4,"Revisar antes de convidar",IF(F19="Talvez","Confirmar interesse","Elegível para convite"))))) | O19: =IF(OR(A19="",K19="",Listas!$B$4=""),"",IFERROR(K19-Listas!$B$4,"")) | Q19: ="" | R19: ="" | S19: ="" | T19: ="" | U19: ="" | V19: ="" | W19: ="" | X19: =""
K20: =IF(OR(J20="",Listas!$B$2=""),"",IFERROR(EDATE(J20,Listas!$B$2),"")) | N20: =IF(COUNTA(A20:J20,L20:M20)=0,"",IF(OR(A20="",B20="",C20="",D20="",E20="",F20="",G20="",H20="",I20="",J20="",K20="",L20="",Listas!$B$4=""),"Cadastro incompleto",IF(OR(L20<>"Ativo",I20<>"Sim",F20="Não"),"Não convidar",IF(K20<Listas!$B$4,"Revisar antes de convidar",IF(F20="Talvez","Confirmar interesse","Elegível para convite"))))) | O20: =IF(OR(A20="",K20="",Listas!$B$4=""),"",IFERROR(K20-Listas!$B$4,"")) | Q20: ="" | R20: ="" | S20: ="" | T20: ="" | U20: ="" | V20: ="" | W20: ="" | X20: =""
K21: =IF(OR(J21="",Listas!$B$2=""),"",IFERROR(EDATE(J21,Listas!$B$2),"")) | N21: =IF(COUNTA(A21:J21,L21:M21)=0,"",IF(OR(A21="",B21="",C21="",D21="",E21="",F21="",G21="",H21="",I21="",J21="",K21="",L21="",Listas!$B$4=""),"Cadastro incompleto",IF(OR(L21<>"Ativo",I21<>"Sim",F21="Não"),"Não convidar",IF(K21<Listas!$B$4,"Revisar antes de convidar",IF(F21="Talvez","Confirmar interesse","Elegível para convite"))))) | O21: =IF(OR(A21="",K21="",Listas!$B$4=""),"",IFERROR(K21-Listas!$B$4,"")) | Q21: ="" | R21: ="" | S21: ="" | T21: ="" | U21: ="" | V21: ="" | W21: ="" | X21: =""
K22: =IF(OR(J22="",Listas!$B$2=""),"",IFERROR(EDATE(J22,Listas!$B$2),"")) | N22: =IF(COUNTA(A22:J22,L22:M22)=0,"",IF(OR(A22="",B22="",C22="",D22="",E22="",F22="",G22="",H22="",I22="",J22="",K22="",L22="",Listas!$B$4=""),"Cadastro incompleto",IF(OR(L22<>"Ativo",I22<>"Sim",F22="Não"),"Não convidar",IF(K22<Listas!$B$4,"Revisar antes de convidar",IF(F22="Talvez","Confirmar interesse","Elegível para convite"))))) | O22: =IF(OR(A22="",K22="",Listas!$B$4=""),"",IFERROR(K22-Listas!$B$4,"")) | Q22: ="" | R22: ="" | S22: ="" | T22: ="" | U22: ="" | V22: ="" | W22: ="" | X22: =""
K23: =IF(OR(J23="",Listas!$B$2=""),"",IFERROR(EDATE(J23,Listas!$B$2),"")) | N23: =IF(COUNTA(A23:J23,L23:M23)=0,"",IF(OR(A23="",B23="",C23="",D23="",E23="",F23="",G23="",H23="",I23="",J23="",K23="",L23="",Listas!$B$4=""),"Cadastro incompleto",IF(OR(L23<>"Ativo",I23<>"Sim",F23="Não"),"Não convidar",IF(K23<Listas!$B$4,"Revisar antes de convidar",IF(F23="Talvez","Confirmar interesse","Elegível para convite"))))) | O23: =IF(OR(A23="",K23="",Listas!$B$4=""),"",IFERROR(K23-Listas!$B$4,"")) | Q23: ="" | R23: ="" | S23: ="" | T23: ="" | U23: ="" | V23: ="" | W23: ="" | X23: =""
K24: =IF(OR(J24="",Listas!$B$2=""),"",IFERROR(EDATE(J24,Listas!$B$2),"")) | N24: =IF(COUNTA(A24:J24,L24:M24)=0,"",IF(OR(A24="",B24="",C24="",D24="",E24="",F24="",G24="",H24="",I24="",J24="",K24="",L24="",Listas!$B$4=""),"Cadastro incompleto",IF(OR(L24<>"Ativo",I24<>"Sim",F24="Não"),"Não convidar",IF(K24<Listas!$B$4,"Revisar antes de convidar",IF(F24="Talvez","Confirmar interesse","Elegível para convite"))))) | O24: =IF(OR(A24="",K24="",Listas!$B$4=""),"",IFERROR(K24-Listas!$B$4,"")) | Q24: ="" | R24: ="" | S24: ="" | T24: ="" | U24: ="" | V24: ="" | W24: ="" | X24: =""
K25: =IF(OR(J25="",Listas!$B$2=""),"",IFERROR(EDATE(J25,Listas!$B$2),"")) | N25: =IF(COUNTA(A25:J25,L25:M25)=0,"",IF(OR(A25="",B25="",C25="",D25="",E25="",F25="",G25="",H25="",I25="",J25="",K25="",L25="",Listas!$B$4=""),"Cadastro incompleto",IF(OR(L25<>"Ativo",I25<>"Sim",F25="Não"),"Não convidar",IF(K25<Listas!$B$4,"Revisar antes de convidar",IF(F25="Talvez","Confirmar interesse","Elegível para convite"))))) | O25: =IF(OR(A25="",K25="",Listas!$B$4=""),"",IFERROR(K25-Listas!$B$4,"")) | Q25: ="" | R25: ="" | S25: ="" | T25: ="" | U25: ="" | V25: ="" | W25: ="" | X25: =""
K26: =IF(OR(J26="",Listas!$B$2=""),"",IFERROR(EDATE(J26,Listas!$B$2),"")) | N26: =IF(COUNTA(A26:J26,L26:M26)=0,"",IF(OR(A26="",B26="",C26="",D26="",E26="",F26="",G26="",H26="",I26="",J26="",K26="",L26="",Listas!$B$4=""),"Cadastro incompleto",IF(OR(L26<>"Ativo",I26<>"Sim",F26="Não"),"Não convidar",IF(K26<Listas!$B$4,"Revisar antes de convidar",IF(F26="Talvez","Confirmar interesse","Elegível para convite"))))) | O26: =IF(OR(A26="",K26="",Listas!$B$4=""),"",IFERROR(K26-Listas!$B$4,"")) | Q26: ="" | R26: ="" | S26: ="" | T26: ="" | U26: ="" | V26: ="" | W26: ="" | X26: =""
K27: =IF(OR(J27="",Listas!$B$2=""),"",IFERROR(EDATE(J27,Listas!$B$2),"")) | N27: =IF(COUNTA(A27:J27,L27:M27)=0,"",IF(OR(A27="",B27="",C27="",D27="",E27="",F27="",G27="",H27="",I27="",J27="",K27="",L27="",Listas!$B$4=""),"Cadastro incompleto",IF(OR(L27<>"Ativo",I27<>"Sim",F27="Não"),"Não convidar",IF(K27<Listas!$B$4,"Revisar antes de convidar",IF(F27="Talvez","Confirmar interesse","Elegível para convite"))))) | O27: =IF(OR(A27="",K27="",Listas!$B$4=""),"",IFERROR(K27-Listas!$B$4,"")) | Q27: ="" | R27: ="" | S27: ="" | T27: ="" | U27: ="" | V27: ="" | W27: ="" | X27: =""
K28: =IF(OR(J28="",Listas!$B$2=""),"",IFERROR(EDATE(J28,Listas!$B$2),"")) | N28: =IF(COUNTA(A28:J28,L28:M28)=0,"",IF(OR(A28="",B28="",C28="",D28="",E28="",F28="",G28="",H28="",I28="",J28="",K28="",L28="",Listas!$B$4=""),"Cadastro incompleto",IF(OR(L28<>"Ativo",I28<>"Sim",F28="Não"),"Não convidar",IF(K28<Listas!$B$4,"Revisar antes de convidar",IF(F28="Talvez","Confirmar interesse","Elegível para convite"))))) | O28: =IF(OR(A28="",K28="",Listas!$B$4=""),"",IFERROR(K28-Listas!$B$4,"")) | Q28: ="" | R28: ="" | S28: ="" | T28: ="" | U28: ="" | V28: ="" | W28: ="" | X28: =""
K29: =IF(OR(J29="",Listas!$B$2=""),"",IFERROR(EDATE(J29,Listas!$B$2),"")) | N29: =IF(COUNTA(A29:J29,L29:M29)=0,"",IF(OR(A29="",B29="",C29="",D29="",E29="",F29="",G29="",H29="",I29="",J29="",K29="",L29="",Listas!$B$4=""),"Cadastro incompleto",IF(OR(L29<>"Ativo",I29<>"Sim",F29="Não"),"Não convidar",IF(K29<Listas!$B$4,"Revisar antes de convidar",IF(F29="Talvez","Confirmar interesse","Elegível para convite"))))) | O29: =IF(OR(A29="",K29="",Listas!$B$4=""),"",IFERROR(K29-Listas!$B$4,"")) | Q29: ="" | R29: ="" | S29: ="" | T29: ="" | U29: ="" | V29: ="" | W29: ="" | X29: =""
... K201: =IF(OR(J201="",Listas!$B$2=""),"",IFERROR(EDATE(J201,Listas!$B$2),"")) | N201: =IF(COUNTA(A201:J201,L201:M201)=0,"",IF(OR(A201="",B201="",C201="",D201="",E201="",F201="",G201="",H201="",I201="",J201="",K201="",L201="",Listas!$B$4=""),"Cadastro incompleto",IF(OR(L201<>"Ativo",I201<>"Sim",F201="Não"),"Não convidar",IF(K201<Listas!$B$4,"Revisar antes de convidar",IF(F201="Talvez","Confirmar interesse","Elegível para convite"))))) | O201: =IF(OR(A201="",K201="",Listas!$B$4=""),"",IFERROR(K201-Listas!$B$4,"")) | Q201: ="" | R201: ="" | S201: ="" | T201: ="" | U201: ="" | V201: ="" | W201: ="" | X201: =""

Sheet Listas
A1: Premissas e listas permitidas
A2: Validade da declaração em meses | B2: 12 | C2: Valor editável entre 1 e 60 meses.
A3: Antecedência do alerta em dias | B3: 30 | C3: Valor editável entre 0 e 180 dias.
A4: Data de referência | B4: =TODAY() | C4: Pode ser substituída por uma data de teste; use uma data entre 01/01/2020 e 31/12/2100.
A6: Áreas de serviço | B6: Talentos ou habilidades | C6: Níveis declarados | D6: Interesse em servir | E6: Disponibilidade geral | F6: Frequência preferida | G6: Aceita receber convite? | H6: Status cadastral
A7: Música e louvor | B7: Canto | C7: Iniciante | D7: Sim | E7: Dias úteis | F7: Pontual | G7: Sim | H7: Ativo
A8: Recepção e acolhimento | B8: Instrumento musical | C8: Intermediário | D8: Talvez | E8: Noites | F8: Mensal | G8: Não | H8: Inativo
A9: Comunicação | B9: Sonorização | C9: Avançado | D9: Não | E9: Fins de semana | F9: Quinzenal
A10: Ensino | B10: Fotografia | E10: Flexível | F10: Semanal
A11: Apoio administrativo | B11: Design gráfico | E11: Não informada | F11: A combinar
A12: Manutenção e logística | B12: Redação
A13: Ação social | B13: Ensino
A14: Tecnologia e audiovisual | B14: Organização de documentos
B15: Planilhas
B16: Recepção
B17: Cozinha
B18: Costura
B19: Reparos gerais
B20: Informática
B21: Logística de materiais
B22: Tradução
A24: As premissas e os valores permitidos são editáveis. Revise-os antes do uso administrativo.
A26: Nível declarado é autodeclaração e não representa certificação, avaliação ou comprovação de competência.
