Workbook

Sheet Resumo
A1: Situação administrativa de membresia
A2: Indicadores operacionais | B2: Valor
A3: Data de referência | B3: ='Listas'!$B$2
A4: Total de membros cadastrados | B4: =COUNTIF('Membros'!$A$2:$A$211,"<>")
A5: Membros com situação calculada | B5: =COUNTIFS('Membros'!$A$2:$A$211,"<>",'Membros'!$D$2:$D$211,"<>Sem movimentação")
A6: Membros sem movimentação | B6: =COUNTIF('Membros'!$D$2:$D$211,"Sem movimentação")
A7: Cadastros que exigem revisão | B7: =SUMPRODUCT(--('Membros'!$A$2:$A$211<>""),--('Membros'!$G$2:$G$211<>"OK"))
A8: Movimentações com alerta | B8: =SUMPRODUCT(--(LEN('Movimentações'!$I$2:$I$211)>0))
A10: Situação vigente | B10: Quantidade
A11: Ativa | B11: =COUNTIF('Membros'!$D$2:$D$211,A11)
A12: Inativa | B12: =COUNTIF('Membros'!$D$2:$D$211,A12)
A13: Transferida | B13: =COUNTIF('Membros'!$D$2:$D$211,A13)
A14: Desligada | B14: =COUNTIF('Membros'!$D$2:$D$211,A14)
A16: Escopo e cuidado administrativo
A17: Uso interno para registro cadastral e histórico de situações. Não representa aprovação eclesiástica, transferência oficial, acompanhamento pastoral ou parecer jurídico, contábil ou tributário.
A18: O identificador de exibição é opcional e deve ser tratado como dado administrativo sensível.
A19: Antes de usar, confira a data de referência e as categorias da planilha Listas.

Sheet Membros
A1: Código do membro | B1: Identificador de exibição | C1: Data de inclusão | D1: Situação atual | E1: Desde | F1: Dias na situação | G1: Alerta cadastral
A2: MBR-FIC-001 | B2: Pessoa Fictícia 01 | C2: 45296 | D2: =IF(A2="","",IFERROR(LOOKUP(2,1/(('Movimentações'!$B$2:$B$211=A2)*('Movimentações'!$H$2:$H$211="Vigente")),'Movimentações'!$E$2:$E$211),"Sem movimentação")) | E2: =IF(A2="","",IFERROR(LOOKUP(2,1/(('Movimentações'!$B$2:$B$211=A2)*('Movimentações'!$H$2:$H$211="Vigente")),'Movimentações'!$C$2:$C$211),"")) | F2: =IF(OR(A2="",E2=""),"",IF(E2>'Listas'!$B$2,"",'Listas'!$B$2-E2)) | G2: =IF(A2="","",IF(C2="","Preencher data de inclusão",IF(COUNTIF($A$2:$A$211,A2)>1,"Código duplicado",IF(D2="Sem movimentação","Sem movimentação",IF(SUMPRODUCT(('Movimentações'!$B$2:$B$211=A2)*(LEN('Movimentações'!$I$2:$I$211)>0))>0,"Revisar movimentação","OK")))))
A3: MBR-FIC-002 | B3: Pessoa Fictícia 02 | C3: 45332 | D3: =IF(A3="","",IFERROR(LOOKUP(2,1/(('Movimentações'!$B$2:$B$211=A3)*('Movimentações'!$H$2:$H$211="Vigente")),'Movimentações'!$E$2:$E$211),"Sem movimentação")) | E3: =IF(A3="","",IFERROR(LOOKUP(2,1/(('Movimentações'!$B$2:$B$211=A3)*('Movimentações'!$H$2:$H$211="Vigente")),'Movimentações'!$C$2:$C$211),"")) | F3: =IF(OR(A3="",E3=""),"",IF(E3>'Listas'!$B$2,"",'Listas'!$B$2-E3)) | G3: =IF(A3="","",IF(C3="","Preencher data de inclusão",IF(COUNTIF($A$2:$A$211,A3)>1,"Código duplicado",IF(D3="Sem movimentação","Sem movimentação",IF(SUMPRODUCT(('Movimentações'!$B$2:$B$211=A3)*(LEN('Movimentações'!$I$2:$I$211)>0))>0,"Revisar movimentação","OK")))))
A4: MBR-FIC-003 | B4: Pessoa Fictícia 03 | C4: 45366 | D4: =IF(A4="","",IFERROR(LOOKUP(2,1/(('Movimentações'!$B$2:$B$211=A4)*('Movimentações'!$H$2:$H$211="Vigente")),'Movimentações'!$E$2:$E$211),"Sem movimentação")) | E4: =IF(A4="","",IFERROR(LOOKUP(2,1/(('Movimentações'!$B$2:$B$211=A4)*('Movimentações'!$H$2:$H$211="Vigente")),'Movimentações'!$C$2:$C$211),"")) | F4: =IF(OR(A4="",E4=""),"",IF(E4>'Listas'!$B$2,"",'Listas'!$B$2-E4)) | G4: =IF(A4="","",IF(C4="","Preencher data de inclusão",IF(COUNTIF($A$2:$A$211,A4)>1,"Código duplicado",IF(D4="Sem movimentação","Sem movimentação",IF(SUMPRODUCT(('Movimentações'!$B$2:$B$211=A4)*(LEN('Movimentações'!$I$2:$I$211)>0))>0,"Revisar movimentação","OK")))))
A5: MBR-FIC-004 | B5: Pessoa Fictícia 04 | C5: 45402 | D5: =IF(A5="","",IFERROR(LOOKUP(2,1/(('Movimentações'!$B$2:$B$211=A5)*('Movimentações'!$H$2:$H$211="Vigente")),'Movimentações'!$E$2:$E$211),"Sem movimentação")) | E5: =IF(A5="","",IFERROR(LOOKUP(2,1/(('Movimentações'!$B$2:$B$211=A5)*('Movimentações'!$H$2:$H$211="Vigente")),'Movimentações'!$C$2:$C$211),"")) | F5: =IF(OR(A5="",E5=""),"",IF(E5>'Listas'!$B$2,"",'Listas'!$B$2-E5)) | G5: =IF(A5="","",IF(C5="","Preencher data de inclusão",IF(COUNTIF($A$2:$A$211,A5)>1,"Código duplicado",IF(D5="Sem movimentação","Sem movimentação",IF(SUMPRODUCT(('Movimentações'!$B$2:$B$211=A5)*(LEN('Movimentações'!$I$2:$I$211)>0))>0,"Revisar movimentação","OK")))))
A6: MBR-FIC-005 | B6: Pessoa Fictícia 05 | C6: 45413 | D6: =IF(A6="","",IFERROR(LOOKUP(2,1/(('Movimentações'!$B$2:$B$211=A6)*('Movimentações'!$H$2:$H$211="Vigente")),'Movimentações'!$E$2:$E$211),"Sem movimentação")) | E6: =IF(A6="","",IFERROR(LOOKUP(2,1/(('Movimentações'!$B$2:$B$211=A6)*('Movimentações'!$H$2:$H$211="Vigente")),'Movimentações'!$C$2:$C$211),"")) | F6: =IF(OR(A6="",E6=""),"",IF(E6>'Listas'!$B$2,"",'Listas'!$B$2-E6)) | G6: =IF(A6="","",IF(C6="","Preencher data de inclusão",IF(COUNTIF($A$2:$A$211,A6)>1,"Código duplicado",IF(D6="Sem movimentação","Sem movimentação",IF(SUMPRODUCT(('Movimentações'!$B$2:$B$211=A6)*(LEN('Movimentações'!$I$2:$I$211)>0))>0,"Revisar movimentação","OK")))))
A7: MBR-FIC-006 | B7: Pessoa Fictícia 06 | C7: 45455 | D7: =IF(A7="","",IFERROR(LOOKUP(2,1/(('Movimentações'!$B$2:$B$211=A7)*('Movimentações'!$H$2:$H$211="Vigente")),'Movimentações'!$E$2:$E$211),"Sem movimentação")) | E7: =IF(A7="","",IFERROR(LOOKUP(2,1/(('Movimentações'!$B$2:$B$211=A7)*('Movimentações'!$H$2:$H$211="Vigente")),'Movimentações'!$C$2:$C$211),"")) | F7: =IF(OR(A7="",E7=""),"",IF(E7>'Listas'!$B$2,"",'Listas'!$B$2-E7)) | G7: =IF(A7="","",IF(C7="","Preencher data de inclusão",IF(COUNTIF($A$2:$A$211,A7)>1,"Código duplicado",IF(D7="Sem movimentação","Sem movimentação",IF(SUMPRODUCT(('Movimentações'!$B$2:$B$211=A7)*(LEN('Movimentações'!$I$2:$I$211)>0))>0,"Revisar movimentação","OK")))))
A8: MBR-FIC-007 | B8: Pessoa Fictícia 07 | C8: 45491 | D8: =IF(A8="","",IFERROR(LOOKUP(2,1/(('Movimentações'!$B$2:$B$211=A8)*('Movimentações'!$H$2:$H$211="Vigente")),'Movimentações'!$E$2:$E$211),"Sem movimentação")) | E8: =IF(A8="","",IFERROR(LOOKUP(2,1/(('Movimentações'!$B$2:$B$211=A8)*('Movimentações'!$H$2:$H$211="Vigente")),'Movimentações'!$C$2:$C$211),"")) | F8: =IF(OR(A8="",E8=""),"",IF(E8>'Listas'!$B$2,"",'Listas'!$B$2-E8)) | G8: =IF(A8="","",IF(C8="","Preencher data de inclusão",IF(COUNTIF($A$2:$A$211,A8)>1,"Código duplicado",IF(D8="Sem movimentação","Sem movimentação",IF(SUMPRODUCT(('Movimentações'!$B$2:$B$211=A8)*(LEN('Movimentações'!$I$2:$I$211)>0))>0,"Revisar movimentação","OK")))))
A9: MBR-FIC-008 | B9: Pessoa Fictícia 08 | C9: 45529 | D9: =IF(A9="","",IFERROR(LOOKUP(2,1/(('Movimentações'!$B$2:$B$211=A9)*('Movimentações'!$H$2:$H$211="Vigente")),'Movimentações'!$E$2:$E$211),"Sem movimentação")) | E9: =IF(A9="","",IFERROR(LOOKUP(2,1/(('Movimentações'!$B$2:$B$211=A9)*('Movimentações'!$H$2:$H$211="Vigente")),'Movimentações'!$C$2:$C$211),"")) | F9: =IF(OR(A9="",E9=""),"",IF(E9>'Listas'!$B$2,"",'Listas'!$B$2-E9)) | G9: =IF(A9="","",IF(C9="","Preencher data de inclusão",IF(COUNTIF($A$2:$A$211,A9)>1,"Código duplicado",IF(D9="Sem movimentação","Sem movimentação",IF(SUMPRODUCT(('Movimentações'!$B$2:$B$211=A9)*(LEN('Movimentações'!$I$2:$I$211)>0))>0,"Revisar movimentação","OK")))))
D10: =IF(A10="","",IFERROR(LOOKUP(2,1/(('Movimentações'!$B$2:$B$211=A10)*('Movimentações'!$H$2:$H$211="Vigente")),'Movimentações'!$E$2:$E$211),"Sem movimentação")) | E10: =IF(A10="","",IFERROR(LOOKUP(2,1/(('Movimentações'!$B$2:$B$211=A10)*('Movimentações'!$H$2:$H$211="Vigente")),'Movimentações'!$C$2:$C$211),"")) | F10: =IF(OR(A10="",E10=""),"",IF(E10>'Listas'!$B$2,"",'Listas'!$B$2-E10)) | G10: =IF(A10="","",IF(C10="","Preencher data de inclusão",IF(COUNTIF($A$2:$A$211,A10)>1,"Código duplicado",IF(D10="Sem movimentação","Sem movimentação",IF(SUMPRODUCT(('Movimentações'!$B$2:$B$211=A10)*(LEN('Movimentações'!$I$2:$I$211)>0))>0,"Revisar movimentação","OK")))))
D11: =IF(A11="","",IFERROR(LOOKUP(2,1/(('Movimentações'!$B$2:$B$211=A11)*('Movimentações'!$H$2:$H$211="Vigente")),'Movimentações'!$E$2:$E$211),"Sem movimentação")) | E11: =IF(A11="","",IFERROR(LOOKUP(2,1/(('Movimentações'!$B$2:$B$211=A11)*('Movimentações'!$H$2:$H$211="Vigente")),'Movimentações'!$C$2:$C$211),"")) | F11: =IF(OR(A11="",E11=""),"",IF(E11>'Listas'!$B$2,"",'Listas'!$B$2-E11)) | G11: =IF(A11="","",IF(C11="","Preencher data de inclusão",IF(COUNTIF($A$2:$A$211,A11)>1,"Código duplicado",IF(D11="Sem movimentação","Sem movimentação",IF(SUMPRODUCT(('Movimentações'!$B$2:$B$211=A11)*(LEN('Movimentações'!$I$2:$I$211)>0))>0,"Revisar movimentação","OK")))))
D12: =IF(A12="","",IFERROR(LOOKUP(2,1/(('Movimentações'!$B$2:$B$211=A12)*('Movimentações'!$H$2:$H$211="Vigente")),'Movimentações'!$E$2:$E$211),"Sem movimentação")) | E12: =IF(A12="","",IFERROR(LOOKUP(2,1/(('Movimentações'!$B$2:$B$211=A12)*('Movimentações'!$H$2:$H$211="Vigente")),'Movimentações'!$C$2:$C$211),"")) | F12: =IF(OR(A12="",E12=""),"",IF(E12>'Listas'!$B$2,"",'Listas'!$B$2-E12)) | G12: =IF(A12="","",IF(C12="","Preencher data de inclusão",IF(COUNTIF($A$2:$A$211,A12)>1,"Código duplicado",IF(D12="Sem movimentação","Sem movimentação",IF(SUMPRODUCT(('Movimentações'!$B$2:$B$211=A12)*(LEN('Movimentações'!$I$2:$I$211)>0))>0,"Revisar movimentação","OK")))))
D13: =IF(A13="","",IFERROR(LOOKUP(2,1/(('Movimentações'!$B$2:$B$211=A13)*('Movimentações'!$H$2:$H$211="Vigente")),'Movimentações'!$E$2:$E$211),"Sem movimentação")) | E13: =IF(A13="","",IFERROR(LOOKUP(2,1/(('Movimentações'!$B$2:$B$211=A13)*('Movimentações'!$H$2:$H$211="Vigente")),'Movimentações'!$C$2:$C$211),"")) | F13: =IF(OR(A13="",E13=""),"",IF(E13>'Listas'!$B$2,"",'Listas'!$B$2-E13)) | G13: =IF(A13="","",IF(C13="","Preencher data de inclusão",IF(COUNTIF($A$2:$A$211,A13)>1,"Código duplicado",IF(D13="Sem movimentação","Sem movimentação",IF(SUMPRODUCT(('Movimentações'!$B$2:$B$211=A13)*(LEN('Movimentações'!$I$2:$I$211)>0))>0,"Revisar movimentação","OK")))))
D14: =IF(A14="","",IFERROR(LOOKUP(2,1/(('Movimentações'!$B$2:$B$211=A14)*('Movimentações'!$H$2:$H$211="Vigente")),'Movimentações'!$E$2:$E$211),"Sem movimentação")) | E14: =IF(A14="","",IFERROR(LOOKUP(2,1/(('Movimentações'!$B$2:$B$211=A14)*('Movimentações'!$H$2:$H$211="Vigente")),'Movimentações'!$C$2:$C$211),"")) | F14: =IF(OR(A14="",E14=""),"",IF(E14>'Listas'!$B$2,"",'Listas'!$B$2-E14)) | G14: =IF(A14="","",IF(C14="","Preencher data de inclusão",IF(COUNTIF($A$2:$A$211,A14)>1,"Código duplicado",IF(D14="Sem movimentação","Sem movimentação",IF(SUMPRODUCT(('Movimentações'!$B$2:$B$211=A14)*(LEN('Movimentações'!$I$2:$I$211)>0))>0,"Revisar movimentação","OK")))))
D15: =IF(A15="","",IFERROR(LOOKUP(2,1/(('Movimentações'!$B$2:$B$211=A15)*('Movimentações'!$H$2:$H$211="Vigente")),'Movimentações'!$E$2:$E$211),"Sem movimentação")) | E15: =IF(A15="","",IFERROR(LOOKUP(2,1/(('Movimentações'!$B$2:$B$211=A15)*('Movimentações'!$H$2:$H$211="Vigente")),'Movimentações'!$C$2:$C$211),"")) | F15: =IF(OR(A15="",E15=""),"",IF(E15>'Listas'!$B$2,"",'Listas'!$B$2-E15)) | G15: =IF(A15="","",IF(C15="","Preencher data de inclusão",IF(COUNTIF($A$2:$A$211,A15)>1,"Código duplicado",IF(D15="Sem movimentação","Sem movimentação",IF(SUMPRODUCT(('Movimentações'!$B$2:$B$211=A15)*(LEN('Movimentações'!$I$2:$I$211)>0))>0,"Revisar movimentação","OK")))))
D16: =IF(A16="","",IFERROR(LOOKUP(2,1/(('Movimentações'!$B$2:$B$211=A16)*('Movimentações'!$H$2:$H$211="Vigente")),'Movimentações'!$E$2:$E$211),"Sem movimentação")) | E16: =IF(A16="","",IFERROR(LOOKUP(2,1/(('Movimentações'!$B$2:$B$211=A16)*('Movimentações'!$H$2:$H$211="Vigente")),'Movimentações'!$C$2:$C$211),"")) | F16: =IF(OR(A16="",E16=""),"",IF(E16>'Listas'!$B$2,"",'Listas'!$B$2-E16)) | G16: =IF(A16="","",IF(C16="","Preencher data de inclusão",IF(COUNTIF($A$2:$A$211,A16)>1,"Código duplicado",IF(D16="Sem movimentação","Sem movimentação",IF(SUMPRODUCT(('Movimentações'!$B$2:$B$211=A16)*(LEN('Movimentações'!$I$2:$I$211)>0))>0,"Revisar movimentação","OK")))))
D17: =IF(A17="","",IFERROR(LOOKUP(2,1/(('Movimentações'!$B$2:$B$211=A17)*('Movimentações'!$H$2:$H$211="Vigente")),'Movimentações'!$E$2:$E$211),"Sem movimentação")) | E17: =IF(A17="","",IFERROR(LOOKUP(2,1/(('Movimentações'!$B$2:$B$211=A17)*('Movimentações'!$H$2:$H$211="Vigente")),'Movimentações'!$C$2:$C$211),"")) | F17: =IF(OR(A17="",E17=""),"",IF(E17>'Listas'!$B$2,"",'Listas'!$B$2-E17)) | G17: =IF(A17="","",IF(C17="","Preencher data de inclusão",IF(COUNTIF($A$2:$A$211,A17)>1,"Código duplicado",IF(D17="Sem movimentação","Sem movimentação",IF(SUMPRODUCT(('Movimentações'!$B$2:$B$211=A17)*(LEN('Movimentações'!$I$2:$I$211)>0))>0,"Revisar movimentação","OK")))))
D18: =IF(A18="","",IFERROR(LOOKUP(2,1/(('Movimentações'!$B$2:$B$211=A18)*('Movimentações'!$H$2:$H$211="Vigente")),'Movimentações'!$E$2:$E$211),"Sem movimentação")) | E18: =IF(A18="","",IFERROR(LOOKUP(2,1/(('Movimentações'!$B$2:$B$211=A18)*('Movimentações'!$H$2:$H$211="Vigente")),'Movimentações'!$C$2:$C$211),"")) | F18: =IF(OR(A18="",E18=""),"",IF(E18>'Listas'!$B$2,"",'Listas'!$B$2-E18)) | G18: =IF(A18="","",IF(C18="","Preencher data de inclusão",IF(COUNTIF($A$2:$A$211,A18)>1,"Código duplicado",IF(D18="Sem movimentação","Sem movimentação",IF(SUMPRODUCT(('Movimentações'!$B$2:$B$211=A18)*(LEN('Movimentações'!$I$2:$I$211)>0))>0,"Revisar movimentação","OK")))))
D19: =IF(A19="","",IFERROR(LOOKUP(2,1/(('Movimentações'!$B$2:$B$211=A19)*('Movimentações'!$H$2:$H$211="Vigente")),'Movimentações'!$E$2:$E$211),"Sem movimentação")) | E19: =IF(A19="","",IFERROR(LOOKUP(2,1/(('Movimentações'!$B$2:$B$211=A19)*('Movimentações'!$H$2:$H$211="Vigente")),'Movimentações'!$C$2:$C$211),"")) | F19: =IF(OR(A19="",E19=""),"",IF(E19>'Listas'!$B$2,"",'Listas'!$B$2-E19)) | G19: =IF(A19="","",IF(C19="","Preencher data de inclusão",IF(COUNTIF($A$2:$A$211,A19)>1,"Código duplicado",IF(D19="Sem movimentação","Sem movimentação",IF(SUMPRODUCT(('Movimentações'!$B$2:$B$211=A19)*(LEN('Movimentações'!$I$2:$I$211)>0))>0,"Revisar movimentação","OK")))))
D20: =IF(A20="","",IFERROR(LOOKUP(2,1/(('Movimentações'!$B$2:$B$211=A20)*('Movimentações'!$H$2:$H$211="Vigente")),'Movimentações'!$E$2:$E$211),"Sem movimentação")) | E20: =IF(A20="","",IFERROR(LOOKUP(2,1/(('Movimentações'!$B$2:$B$211=A20)*('Movimentações'!$H$2:$H$211="Vigente")),'Movimentações'!$C$2:$C$211),"")) | F20: =IF(OR(A20="",E20=""),"",IF(E20>'Listas'!$B$2,"",'Listas'!$B$2-E20)) | G20: =IF(A20="","",IF(C20="","Preencher data de inclusão",IF(COUNTIF($A$2:$A$211,A20)>1,"Código duplicado",IF(D20="Sem movimentação","Sem movimentação",IF(SUMPRODUCT(('Movimentações'!$B$2:$B$211=A20)*(LEN('Movimentações'!$I$2:$I$211)>0))>0,"Revisar movimentação","OK")))))
D21: =IF(A21="","",IFERROR(LOOKUP(2,1/(('Movimentações'!$B$2:$B$211=A21)*('Movimentações'!$H$2:$H$211="Vigente")),'Movimentações'!$E$2:$E$211),"Sem movimentação")) | E21: =IF(A21="","",IFERROR(LOOKUP(2,1/(('Movimentações'!$B$2:$B$211=A21)*('Movimentações'!$H$2:$H$211="Vigente")),'Movimentações'!$C$2:$C$211),"")) | F21: =IF(OR(A21="",E21=""),"",IF(E21>'Listas'!$B$2,"",'Listas'!$B$2-E21)) | G21: =IF(A21="","",IF(C21="","Preencher data de inclusão",IF(COUNTIF($A$2:$A$211,A21)>1,"Código duplicado",IF(D21="Sem movimentação","Sem movimentação",IF(SUMPRODUCT(('Movimentações'!$B$2:$B$211=A21)*(LEN('Movimentações'!$I$2:$I$211)>0))>0,"Revisar movimentação","OK")))))
... D211: =IF(A211="","",IFERROR(LOOKUP(2,1/(('Movimentações'!$B$2:$B$211=A211)*('Movimentações'!$H$2:$H$211="Vigente")),'Movimentações'!$E$2:$E$211),"Sem movimentação")) | E211: =IF(A211="","",IFERROR(LOOKUP(2,1/(('Movimentações'!$B$2:$B$211=A211)*('Movimentações'!$H$2:$H$211="Vigente")),'Movimentações'!$C$2:$C$211),"")) | F211: =IF(OR(A211="",E211=""),"",IF(E211>'Listas'!$B$2,"",'Listas'!$B$2-E211)) | G211: =IF(A211="","",IF(C211="","Preencher data de inclusão",IF(COUNTIF($A$2:$A$211,A211)>1,"Código duplicado",IF(D211="Sem movimentação","Sem movimentação",IF(SUMPRODUCT(('Movimentações'!$B$2:$B$211=A211)*(LEN('Movimentações'!$I$2:$I$211)>0))>0,"Revisar movimentação","OK")))))

Sheet Movimentações
A1: Ordem | B1: Código do membro | C1: Data efetiva | D1: Situação anterior | E1: Nova situação | F1: Motivo administrativo | G1: Consistência da origem | H1: Classificação | I1: Alerta | J1: Chave cronológica
A2: 1 | B2: MBR-FIC-001 | C2: 45296 | D2: Sem registro | E2: Ativa | F2: Admissão administrativa | G2: =IF(OR(A2="",B2="",C2="",D2="",E2=""),"",IF(COUNTIFS($B$2:$B$211,B2,$J$2:$J$211,"<"&J2)=0,IF(D2="Sem registro","OK","Revisar: origem inicial"),IFERROR(IF(D2=INDEX($E$2:$E$211,MATCH(AGGREGATE(14,6,$J$2:$J$211/(($B$2:$B$211=B2)*($J$2:$J$211<J2)),1),$J$2:$J$211,0)),"OK","Revisar: origem divergente"),"Revisar: histórico"))) | H2: =IF(OR(A2="",B2="",C2="",E2=""),"",IF(C2>'Listas'!$B$2,"Fora da referência",IF(COUNTIFS($B$2:$B$211,B2,$C$2:$C$211,">"&C2,$C$2:$C$211,"<="&'Listas'!$B$2,$E$2:$E$211,"<>")+COUNTIFS($B$2:$B$211,B2,$C$2:$C$211,C2,$A$2:$A$211,">"&A2,$E$2:$E$211,"<>")=0,"Vigente","Histórico"))) | I2: =IF(COUNTA(A2:F2)=0,"",IF(OR(A2="",B2="",C2="",D2="",E2="",F2=""),"Preencher campos obrigatórios",IF(COUNTIF($A$2:$A$211,A2)>1,"Ordem duplicada",IF(COUNTIF('Membros'!$A$2:$A$211,B2)<>1,"Código não cadastrado ou duplicado",IF(C2>'Listas'!$B$2,"Data após a referência",IF(C2<IFERROR(INDEX('Membros'!$C$2:$C$211,MATCH(B2,'Membros'!$A$2:$A$211,0)),C2),"Data anterior à inclusão",IF(D2=E2,"Situação sem alteração",IF(G2<>"OK",G2,"")))))))) | J2: =IF(OR(A2="",C2=""),"",C2*1000000+A2)
A3: 2 | B3: MBR-FIC-002 | C3: 45332 | D3: Sem registro | E3: Ativa | F3: Admissão administrativa | G3: =IF(OR(A3="",B3="",C3="",D3="",E3=""),"",IF(COUNTIFS($B$2:$B$211,B3,$J$2:$J$211,"<"&J3)=0,IF(D3="Sem registro","OK","Revisar: origem inicial"),IFERROR(IF(D3=INDEX($E$2:$E$211,MATCH(AGGREGATE(14,6,$J$2:$J$211/(($B$2:$B$211=B3)*($J$2:$J$211<J3)),1),$J$2:$J$211,0)),"OK","Revisar: origem divergente"),"Revisar: histórico"))) | H3: =IF(OR(A3="",B3="",C3="",E3=""),"",IF(C3>'Listas'!$B$2,"Fora da referência",IF(COUNTIFS($B$2:$B$211,B3,$C$2:$C$211,">"&C3,$C$2:$C$211,"<="&'Listas'!$B$2,$E$2:$E$211,"<>")+COUNTIFS($B$2:$B$211,B3,$C$2:$C$211,C3,$A$2:$A$211,">"&A3,$E$2:$E$211,"<>")=0,"Vigente","Histórico"))) | I3: =IF(COUNTA(A3:F3)=0,"",IF(OR(A3="",B3="",C3="",D3="",E3="",F3=""),"Preencher campos obrigatórios",IF(COUNTIF($A$2:$A$211,A3)>1,"Ordem duplicada",IF(COUNTIF('Membros'!$A$2:$A$211,B3)<>1,"Código não cadastrado ou duplicado",IF(C3>'Listas'!$B$2,"Data após a referência",IF(C3<IFERROR(INDEX('Membros'!$C$2:$C$211,MATCH(B3,'Membros'!$A$2:$A$211,0)),C3),"Data anterior à inclusão",IF(D3=E3,"Situação sem alteração",IF(G3<>"OK",G3,"")))))))) | J3: =IF(OR(A3="",C3=""),"",C3*1000000+A3)
A4: 3 | B4: MBR-FIC-003 | C4: 45366 | D4: Sem registro | E4: Ativa | F4: Admissão administrativa | G4: =IF(OR(A4="",B4="",C4="",D4="",E4=""),"",IF(COUNTIFS($B$2:$B$211,B4,$J$2:$J$211,"<"&J4)=0,IF(D4="Sem registro","OK","Revisar: origem inicial"),IFERROR(IF(D4=INDEX($E$2:$E$211,MATCH(AGGREGATE(14,6,$J$2:$J$211/(($B$2:$B$211=B4)*($J$2:$J$211<J4)),1),$J$2:$J$211,0)),"OK","Revisar: origem divergente"),"Revisar: histórico"))) | H4: =IF(OR(A4="",B4="",C4="",E4=""),"",IF(C4>'Listas'!$B$2,"Fora da referência",IF(COUNTIFS($B$2:$B$211,B4,$C$2:$C$211,">"&C4,$C$2:$C$211,"<="&'Listas'!$B$2,$E$2:$E$211,"<>")+COUNTIFS($B$2:$B$211,B4,$C$2:$C$211,C4,$A$2:$A$211,">"&A4,$E$2:$E$211,"<>")=0,"Vigente","Histórico"))) | I4: =IF(COUNTA(A4:F4)=0,"",IF(OR(A4="",B4="",C4="",D4="",E4="",F4=""),"Preencher campos obrigatórios",IF(COUNTIF($A$2:$A$211,A4)>1,"Ordem duplicada",IF(COUNTIF('Membros'!$A$2:$A$211,B4)<>1,"Código não cadastrado ou duplicado",IF(C4>'Listas'!$B$2,"Data após a referência",IF(C4<IFERROR(INDEX('Membros'!$C$2:$C$211,MATCH(B4,'Membros'!$A$2:$A$211,0)),C4),"Data anterior à inclusão",IF(D4=E4,"Situação sem alteração",IF(G4<>"OK",G4,"")))))))) | J4: =IF(OR(A4="",C4=""),"",C4*1000000+A4)
A5: 4 | B5: MBR-FIC-004 | C5: 45402 | D5: Sem registro | E5: Inativa | F5: Cadastro inicial | G5: =IF(OR(A5="",B5="",C5="",D5="",E5=""),"",IF(COUNTIFS($B$2:$B$211,B5,$J$2:$J$211,"<"&J5)=0,IF(D5="Sem registro","OK","Revisar: origem inicial"),IFERROR(IF(D5=INDEX($E$2:$E$211,MATCH(AGGREGATE(14,6,$J$2:$J$211/(($B$2:$B$211=B5)*($J$2:$J$211<J5)),1),$J$2:$J$211,0)),"OK","Revisar: origem divergente"),"Revisar: histórico"))) | H5: =IF(OR(A5="",B5="",C5="",E5=""),"",IF(C5>'Listas'!$B$2,"Fora da referência",IF(COUNTIFS($B$2:$B$211,B5,$C$2:$C$211,">"&C5,$C$2:$C$211,"<="&'Listas'!$B$2,$E$2:$E$211,"<>")+COUNTIFS($B$2:$B$211,B5,$C$2:$C$211,C5,$A$2:$A$211,">"&A5,$E$2:$E$211,"<>")=0,"Vigente","Histórico"))) | I5: =IF(COUNTA(A5:F5)=0,"",IF(OR(A5="",B5="",C5="",D5="",E5="",F5=""),"Preencher campos obrigatórios",IF(COUNTIF($A$2:$A$211,A5)>1,"Ordem duplicada",IF(COUNTIF('Membros'!$A$2:$A$211,B5)<>1,"Código não cadastrado ou duplicado",IF(C5>'Listas'!$B$2,"Data após a referência",IF(C5<IFERROR(INDEX('Membros'!$C$2:$C$211,MATCH(B5,'Membros'!$A$2:$A$211,0)),C5),"Data anterior à inclusão",IF(D5=E5,"Situação sem alteração",IF(G5<>"OK",G5,"")))))))) | J5: =IF(OR(A5="",C5=""),"",C5*1000000+A5)
A6: 5 | B6: MBR-FIC-005 | C6: 45413 | D6: Sem registro | E6: Ativa | F6: Admissão administrativa | G6: =IF(OR(A6="",B6="",C6="",D6="",E6=""),"",IF(COUNTIFS($B$2:$B$211,B6,$J$2:$J$211,"<"&J6)=0,IF(D6="Sem registro","OK","Revisar: origem inicial"),IFERROR(IF(D6=INDEX($E$2:$E$211,MATCH(AGGREGATE(14,6,$J$2:$J$211/(($B$2:$B$211=B6)*($J$2:$J$211<J6)),1),$J$2:$J$211,0)),"OK","Revisar: origem divergente"),"Revisar: histórico"))) | H6: =IF(OR(A6="",B6="",C6="",E6=""),"",IF(C6>'Listas'!$B$2,"Fora da referência",IF(COUNTIFS($B$2:$B$211,B6,$C$2:$C$211,">"&C6,$C$2:$C$211,"<="&'Listas'!$B$2,$E$2:$E$211,"<>")+COUNTIFS($B$2:$B$211,B6,$C$2:$C$211,C6,$A$2:$A$211,">"&A6,$E$2:$E$211,"<>")=0,"Vigente","Histórico"))) | I6: =IF(COUNTA(A6:F6)=0,"",IF(OR(A6="",B6="",C6="",D6="",E6="",F6=""),"Preencher campos obrigatórios",IF(COUNTIF($A$2:$A$211,A6)>1,"Ordem duplicada",IF(COUNTIF('Membros'!$A$2:$A$211,B6)<>1,"Código não cadastrado ou duplicado",IF(C6>'Listas'!$B$2,"Data após a referência",IF(C6<IFERROR(INDEX('Membros'!$C$2:$C$211,MATCH(B6,'Membros'!$A$2:$A$211,0)),C6),"Data anterior à inclusão",IF(D6=E6,"Situação sem alteração",IF(G6<>"OK",G6,"")))))))) | J6: =IF(OR(A6="",C6=""),"",C6*1000000+A6)
A7: 6 | B7: MBR-FIC-006 | C7: 45455 | D7: Sem registro | E7: Ativa | F7: Admissão administrativa | G7: =IF(OR(A7="",B7="",C7="",D7="",E7=""),"",IF(COUNTIFS($B$2:$B$211,B7,$J$2:$J$211,"<"&J7)=0,IF(D7="Sem registro","OK","Revisar: origem inicial"),IFERROR(IF(D7=INDEX($E$2:$E$211,MATCH(AGGREGATE(14,6,$J$2:$J$211/(($B$2:$B$211=B7)*($J$2:$J$211<J7)),1),$J$2:$J$211,0)),"OK","Revisar: origem divergente"),"Revisar: histórico"))) | H7: =IF(OR(A7="",B7="",C7="",E7=""),"",IF(C7>'Listas'!$B$2,"Fora da referência",IF(COUNTIFS($B$2:$B$211,B7,$C$2:$C$211,">"&C7,$C$2:$C$211,"<="&'Listas'!$B$2,$E$2:$E$211,"<>")+COUNTIFS($B$2:$B$211,B7,$C$2:$C$211,C7,$A$2:$A$211,">"&A7,$E$2:$E$211,"<>")=0,"Vigente","Histórico"))) | I7: =IF(COUNTA(A7:F7)=0,"",IF(OR(A7="",B7="",C7="",D7="",E7="",F7=""),"Preencher campos obrigatórios",IF(COUNTIF($A$2:$A$211,A7)>1,"Ordem duplicada",IF(COUNTIF('Membros'!$A$2:$A$211,B7)<>1,"Código não cadastrado ou duplicado",IF(C7>'Listas'!$B$2,"Data após a referência",IF(C7<IFERROR(INDEX('Membros'!$C$2:$C$211,MATCH(B7,'Membros'!$A$2:$A$211,0)),C7),"Data anterior à inclusão",IF(D7=E7,"Situação sem alteração",IF(G7<>"OK",G7,"")))))))) | J7: =IF(OR(A7="",C7=""),"",C7*1000000+A7)
A8: 7 | B8: MBR-FIC-007 | C8: 45491 | D8: Sem registro | E8: Ativa | F8: Admissão administrativa | G8: =IF(OR(A8="",B8="",C8="",D8="",E8=""),"",IF(COUNTIFS($B$2:$B$211,B8,$J$2:$J$211,"<"&J8)=0,IF(D8="Sem registro","OK","Revisar: origem inicial"),IFERROR(IF(D8=INDEX($E$2:$E$211,MATCH(AGGREGATE(14,6,$J$2:$J$211/(($B$2:$B$211=B8)*($J$2:$J$211<J8)),1),$J$2:$J$211,0)),"OK","Revisar: origem divergente"),"Revisar: histórico"))) | H8: =IF(OR(A8="",B8="",C8="",E8=""),"",IF(C8>'Listas'!$B$2,"Fora da referência",IF(COUNTIFS($B$2:$B$211,B8,$C$2:$C$211,">"&C8,$C$2:$C$211,"<="&'Listas'!$B$2,$E$2:$E$211,"<>")+COUNTIFS($B$2:$B$211,B8,$C$2:$C$211,C8,$A$2:$A$211,">"&A8,$E$2:$E$211,"<>")=0,"Vigente","Histórico"))) | I8: =IF(COUNTA(A8:F8)=0,"",IF(OR(A8="",B8="",C8="",D8="",E8="",F8=""),"Preencher campos obrigatórios",IF(COUNTIF($A$2:$A$211,A8)>1,"Ordem duplicada",IF(COUNTIF('Membros'!$A$2:$A$211,B8)<>1,"Código não cadastrado ou duplicado",IF(C8>'Listas'!$B$2,"Data após a referência",IF(C8<IFERROR(INDEX('Membros'!$C$2:$C$211,MATCH(B8,'Membros'!$A$2:$A$211,0)),C8),"Data anterior à inclusão",IF(D8=E8,"Situação sem alteração",IF(G8<>"OK",G8,"")))))))) | J8: =IF(OR(A8="",C8=""),"",C8*1000000+A8)
A9: 8 | B9: MBR-FIC-008 | C9: 45529 | D9: Sem registro | E9: Ativa | F9: Admissão administrativa | G9: =IF(OR(A9="",B9="",C9="",D9="",E9=""),"",IF(COUNTIFS($B$2:$B$211,B9,$J$2:$J$211,"<"&J9)=0,IF(D9="Sem registro","OK","Revisar: origem inicial"),IFERROR(IF(D9=INDEX($E$2:$E$211,MATCH(AGGREGATE(14,6,$J$2:$J$211/(($B$2:$B$211=B9)*($J$2:$J$211<J9)),1),$J$2:$J$211,0)),"OK","Revisar: origem divergente"),"Revisar: histórico"))) | H9: =IF(OR(A9="",B9="",C9="",E9=""),"",IF(C9>'Listas'!$B$2,"Fora da referência",IF(COUNTIFS($B$2:$B$211,B9,$C$2:$C$211,">"&C9,$C$2:$C$211,"<="&'Listas'!$B$2,$E$2:$E$211,"<>")+COUNTIFS($B$2:$B$211,B9,$C$2:$C$211,C9,$A$2:$A$211,">"&A9,$E$2:$E$211,"<>")=0,"Vigente","Histórico"))) | I9: =IF(COUNTA(A9:F9)=0,"",IF(OR(A9="",B9="",C9="",D9="",E9="",F9=""),"Preencher campos obrigatórios",IF(COUNTIF($A$2:$A$211,A9)>1,"Ordem duplicada",IF(COUNTIF('Membros'!$A$2:$A$211,B9)<>1,"Código não cadastrado ou duplicado",IF(C9>'Listas'!$B$2,"Data após a referência",IF(C9<IFERROR(INDEX('Membros'!$C$2:$C$211,MATCH(B9,'Membros'!$A$2:$A$211,0)),C9),"Data anterior à inclusão",IF(D9=E9,"Situação sem alteração",IF(G9<>"OK",G9,"")))))))) | J9: =IF(OR(A9="",C9=""),"",C9*1000000+A9)
A10: 9 | B10: MBR-FIC-002 | C10: 45671 | D10: Ativa | E10: Transferida | F10: Transferência registrada | G10: =IF(OR(A10="",B10="",C10="",D10="",E10=""),"",IF(COUNTIFS($B$2:$B$211,B10,$J$2:$J$211,"<"&J10)=0,IF(D10="Sem registro","OK","Revisar: origem inicial"),IFERROR(IF(D10=INDEX($E$2:$E$211,MATCH(AGGREGATE(14,6,$J$2:$J$211/(($B$2:$B$211=B10)*($J$2:$J$211<J10)),1),$J$2:$J$211,0)),"OK","Revisar: origem divergente"),"Revisar: histórico"))) | H10: =IF(OR(A10="",B10="",C10="",E10=""),"",IF(C10>'Listas'!$B$2,"Fora da referência",IF(COUNTIFS($B$2:$B$211,B10,$C$2:$C$211,">"&C10,$C$2:$C$211,"<="&'Listas'!$B$2,$E$2:$E$211,"<>")+COUNTIFS($B$2:$B$211,B10,$C$2:$C$211,C10,$A$2:$A$211,">"&A10,$E$2:$E$211,"<>")=0,"Vigente","Histórico"))) | I10: =IF(COUNTA(A10:F10)=0,"",IF(OR(A10="",B10="",C10="",D10="",E10="",F10=""),"Preencher campos obrigatórios",IF(COUNTIF($A$2:$A$211,A10)>1,"Ordem duplicada",IF(COUNTIF('Membros'!$A$2:$A$211,B10)<>1,"Código não cadastrado ou duplicado",IF(C10>'Listas'!$B$2,"Data após a referência",IF(C10<IFERROR(INDEX('Membros'!$C$2:$C$211,MATCH(B10,'Membros'!$A$2:$A$211,0)),C10),"Data anterior à inclusão",IF(D10=E10,"Situação sem alteração",IF(G10<>"OK",G10,"")))))))) | J10: =IF(OR(A10="",C10=""),"",C10*1000000+A10)
A11: 10 | B11: MBR-FIC-006 | C11: 45838 | D11: Ativa | E11: Inativa | F11: Atualização administrativa | G11: =IF(OR(A11="",B11="",C11="",D11="",E11=""),"",IF(COUNTIFS($B$2:$B$211,B11,$J$2:$J$211,"<"&J11)=0,IF(D11="Sem registro","OK","Revisar: origem inicial"),IFERROR(IF(D11=INDEX($E$2:$E$211,MATCH(AGGREGATE(14,6,$J$2:$J$211/(($B$2:$B$211=B11)*($J$2:$J$211<J11)),1),$J$2:$J$211,0)),"OK","Revisar: origem divergente"),"Revisar: histórico"))) | H11: =IF(OR(A11="",B11="",C11="",E11=""),"",IF(C11>'Listas'!$B$2,"Fora da referência",IF(COUNTIFS($B$2:$B$211,B11,$C$2:$C$211,">"&C11,$C$2:$C$211,"<="&'Listas'!$B$2,$E$2:$E$211,"<>")+COUNTIFS($B$2:$B$211,B11,$C$2:$C$211,C11,$A$2:$A$211,">"&A11,$E$2:$E$211,"<>")=0,"Vigente","Histórico"))) | I11: =IF(COUNTA(A11:F11)=0,"",IF(OR(A11="",B11="",C11="",D11="",E11="",F11=""),"Preencher campos obrigatórios",IF(COUNTIF($A$2:$A$211,A11)>1,"Ordem duplicada",IF(COUNTIF('Membros'!$A$2:$A$211,B11)<>1,"Código não cadastrado ou duplicado",IF(C11>'Listas'!$B$2,"Data após a referência",IF(C11<IFERROR(INDEX('Membros'!$C$2:$C$211,MATCH(B11,'Membros'!$A$2:$A$211,0)),C11),"Data anterior à inclusão",IF(D11=E11,"Situação sem alteração",IF(G11<>"OK",G11,"")))))))) | J11: =IF(OR(A11="",C11=""),"",C11*1000000+A11)
G12: =IF(OR(A12="",B12="",C12="",D12="",E12=""),"",IF(COUNTIFS($B$2:$B$211,B12,$J$2:$J$211,"<"&J12)=0,IF(D12="Sem registro","OK","Revisar: origem inicial"),IFERROR(IF(D12=INDEX($E$2:$E$211,MATCH(AGGREGATE(14,6,$J$2:$J$211/(($B$2:$B$211=B12)*($J$2:$J$211<J12)),1),$J$2:$J$211,0)),"OK","Revisar: origem divergente"),"Revisar: histórico"))) | H12: =IF(OR(A12="",B12="",C12="",E12=""),"",IF(C12>'Listas'!$B$2,"Fora da referência",IF(COUNTIFS($B$2:$B$211,B12,$C$2:$C$211,">"&C12,$C$2:$C$211,"<="&'Listas'!$B$2,$E$2:$E$211,"<>")+COUNTIFS($B$2:$B$211,B12,$C$2:$C$211,C12,$A$2:$A$211,">"&A12,$E$2:$E$211,"<>")=0,"Vigente","Histórico"))) | I12: =IF(COUNTA(A12:F12)=0,"",IF(OR(A12="",B12="",C12="",D12="",E12="",F12=""),"Preencher campos obrigatórios",IF(COUNTIF($A$2:$A$211,A12)>1,"Ordem duplicada",IF(COUNTIF('Membros'!$A$2:$A$211,B12)<>1,"Código não cadastrado ou duplicado",IF(C12>'Listas'!$B$2,"Data após a referência",IF(C12<IFERROR(INDEX('Membros'!$C$2:$C$211,MATCH(B12,'Membros'!$A$2:$A$211,0)),C12),"Data anterior à inclusão",IF(D12=E12,"Situação sem alteração",IF(G12<>"OK",G12,"")))))))) | J12: =IF(OR(A12="",C12=""),"",C12*1000000+A12)
G13: =IF(OR(A13="",B13="",C13="",D13="",E13=""),"",IF(COUNTIFS($B$2:$B$211,B13,$J$2:$J$211,"<"&J13)=0,IF(D13="Sem registro","OK","Revisar: origem inicial"),IFERROR(IF(D13=INDEX($E$2:$E$211,MATCH(AGGREGATE(14,6,$J$2:$J$211/(($B$2:$B$211=B13)*($J$2:$J$211<J13)),1),$J$2:$J$211,0)),"OK","Revisar: origem divergente"),"Revisar: histórico"))) | H13: =IF(OR(A13="",B13="",C13="",E13=""),"",IF(C13>'Listas'!$B$2,"Fora da referência",IF(COUNTIFS($B$2:$B$211,B13,$C$2:$C$211,">"&C13,$C$2:$C$211,"<="&'Listas'!$B$2,$E$2:$E$211,"<>")+COUNTIFS($B$2:$B$211,B13,$C$2:$C$211,C13,$A$2:$A$211,">"&A13,$E$2:$E$211,"<>")=0,"Vigente","Histórico"))) | I13: =IF(COUNTA(A13:F13)=0,"",IF(OR(A13="",B13="",C13="",D13="",E13="",F13=""),"Preencher campos obrigatórios",IF(COUNTIF($A$2:$A$211,A13)>1,"Ordem duplicada",IF(COUNTIF('Membros'!$A$2:$A$211,B13)<>1,"Código não cadastrado ou duplicado",IF(C13>'Listas'!$B$2,"Data após a referência",IF(C13<IFERROR(INDEX('Membros'!$C$2:$C$211,MATCH(B13,'Membros'!$A$2:$A$211,0)),C13),"Data anterior à inclusão",IF(D13=E13,"Situação sem alteração",IF(G13<>"OK",G13,"")))))))) | J13: =IF(OR(A13="",C13=""),"",C13*1000000+A13)
G14: =IF(OR(A14="",B14="",C14="",D14="",E14=""),"",IF(COUNTIFS($B$2:$B$211,B14,$J$2:$J$211,"<"&J14)=0,IF(D14="Sem registro","OK","Revisar: origem inicial"),IFERROR(IF(D14=INDEX($E$2:$E$211,MATCH(AGGREGATE(14,6,$J$2:$J$211/(($B$2:$B$211=B14)*($J$2:$J$211<J14)),1),$J$2:$J$211,0)),"OK","Revisar: origem divergente"),"Revisar: histórico"))) | H14: =IF(OR(A14="",B14="",C14="",E14=""),"",IF(C14>'Listas'!$B$2,"Fora da referência",IF(COUNTIFS($B$2:$B$211,B14,$C$2:$C$211,">"&C14,$C$2:$C$211,"<="&'Listas'!$B$2,$E$2:$E$211,"<>")+COUNTIFS($B$2:$B$211,B14,$C$2:$C$211,C14,$A$2:$A$211,">"&A14,$E$2:$E$211,"<>")=0,"Vigente","Histórico"))) | I14: =IF(COUNTA(A14:F14)=0,"",IF(OR(A14="",B14="",C14="",D14="",E14="",F14=""),"Preencher campos obrigatórios",IF(COUNTIF($A$2:$A$211,A14)>1,"Ordem duplicada",IF(COUNTIF('Membros'!$A$2:$A$211,B14)<>1,"Código não cadastrado ou duplicado",IF(C14>'Listas'!$B$2,"Data após a referência",IF(C14<IFERROR(INDEX('Membros'!$C$2:$C$211,MATCH(B14,'Membros'!$A$2:$A$211,0)),C14),"Data anterior à inclusão",IF(D14=E14,"Situação sem alteração",IF(G14<>"OK",G14,"")))))))) | J14: =IF(OR(A14="",C14=""),"",C14*1000000+A14)
G15: =IF(OR(A15="",B15="",C15="",D15="",E15=""),"",IF(COUNTIFS($B$2:$B$211,B15,$J$2:$J$211,"<"&J15)=0,IF(D15="Sem registro","OK","Revisar: origem inicial"),IFERROR(IF(D15=INDEX($E$2:$E$211,MATCH(AGGREGATE(14,6,$J$2:$J$211/(($B$2:$B$211=B15)*($J$2:$J$211<J15)),1),$J$2:$J$211,0)),"OK","Revisar: origem divergente"),"Revisar: histórico"))) | H15: =IF(OR(A15="",B15="",C15="",E15=""),"",IF(C15>'Listas'!$B$2,"Fora da referência",IF(COUNTIFS($B$2:$B$211,B15,$C$2:$C$211,">"&C15,$C$2:$C$211,"<="&'Listas'!$B$2,$E$2:$E$211,"<>")+COUNTIFS($B$2:$B$211,B15,$C$2:$C$211,C15,$A$2:$A$211,">"&A15,$E$2:$E$211,"<>")=0,"Vigente","Histórico"))) | I15: =IF(COUNTA(A15:F15)=0,"",IF(OR(A15="",B15="",C15="",D15="",E15="",F15=""),"Preencher campos obrigatórios",IF(COUNTIF($A$2:$A$211,A15)>1,"Ordem duplicada",IF(COUNTIF('Membros'!$A$2:$A$211,B15)<>1,"Código não cadastrado ou duplicado",IF(C15>'Listas'!$B$2,"Data após a referência",IF(C15<IFERROR(INDEX('Membros'!$C$2:$C$211,MATCH(B15,'Membros'!$A$2:$A$211,0)),C15),"Data anterior à inclusão",IF(D15=E15,"Situação sem alteração",IF(G15<>"OK",G15,"")))))))) | J15: =IF(OR(A15="",C15=""),"",C15*1000000+A15)
G16: =IF(OR(A16="",B16="",C16="",D16="",E16=""),"",IF(COUNTIFS($B$2:$B$211,B16,$J$2:$J$211,"<"&J16)=0,IF(D16="Sem registro","OK","Revisar: origem inicial"),IFERROR(IF(D16=INDEX($E$2:$E$211,MATCH(AGGREGATE(14,6,$J$2:$J$211/(($B$2:$B$211=B16)*($J$2:$J$211<J16)),1),$J$2:$J$211,0)),"OK","Revisar: origem divergente"),"Revisar: histórico"))) | H16: =IF(OR(A16="",B16="",C16="",E16=""),"",IF(C16>'Listas'!$B$2,"Fora da referência",IF(COUNTIFS($B$2:$B$211,B16,$C$2:$C$211,">"&C16,$C$2:$C$211,"<="&'Listas'!$B$2,$E$2:$E$211,"<>")+COUNTIFS($B$2:$B$211,B16,$C$2:$C$211,C16,$A$2:$A$211,">"&A16,$E$2:$E$211,"<>")=0,"Vigente","Histórico"))) | I16: =IF(COUNTA(A16:F16)=0,"",IF(OR(A16="",B16="",C16="",D16="",E16="",F16=""),"Preencher campos obrigatórios",IF(COUNTIF($A$2:$A$211,A16)>1,"Ordem duplicada",IF(COUNTIF('Membros'!$A$2:$A$211,B16)<>1,"Código não cadastrado ou duplicado",IF(C16>'Listas'!$B$2,"Data após a referência",IF(C16<IFERROR(INDEX('Membros'!$C$2:$C$211,MATCH(B16,'Membros'!$A$2:$A$211,0)),C16),"Data anterior à inclusão",IF(D16=E16,"Situação sem alteração",IF(G16<>"OK",G16,"")))))))) | J16: =IF(OR(A16="",C16=""),"",C16*1000000+A16)
G17: =IF(OR(A17="",B17="",C17="",D17="",E17=""),"",IF(COUNTIFS($B$2:$B$211,B17,$J$2:$J$211,"<"&J17)=0,IF(D17="Sem registro","OK","Revisar: origem inicial"),IFERROR(IF(D17=INDEX($E$2:$E$211,MATCH(AGGREGATE(14,6,$J$2:$J$211/(($B$2:$B$211=B17)*($J$2:$J$211<J17)),1),$J$2:$J$211,0)),"OK","Revisar: origem divergente"),"Revisar: histórico"))) | H17: =IF(OR(A17="",B17="",C17="",E17=""),"",IF(C17>'Listas'!$B$2,"Fora da referência",IF(COUNTIFS($B$2:$B$211,B17,$C$2:$C$211,">"&C17,$C$2:$C$211,"<="&'Listas'!$B$2,$E$2:$E$211,"<>")+COUNTIFS($B$2:$B$211,B17,$C$2:$C$211,C17,$A$2:$A$211,">"&A17,$E$2:$E$211,"<>")=0,"Vigente","Histórico"))) | I17: =IF(COUNTA(A17:F17)=0,"",IF(OR(A17="",B17="",C17="",D17="",E17="",F17=""),"Preencher campos obrigatórios",IF(COUNTIF($A$2:$A$211,A17)>1,"Ordem duplicada",IF(COUNTIF('Membros'!$A$2:$A$211,B17)<>1,"Código não cadastrado ou duplicado",IF(C17>'Listas'!$B$2,"Data após a referência",IF(C17<IFERROR(INDEX('Membros'!$C$2:$C$211,MATCH(B17,'Membros'!$A$2:$A$211,0)),C17),"Data anterior à inclusão",IF(D17=E17,"Situação sem alteração",IF(G17<>"OK",G17,"")))))))) | J17: =IF(OR(A17="",C17=""),"",C17*1000000+A17)
G18: =IF(OR(A18="",B18="",C18="",D18="",E18=""),"",IF(COUNTIFS($B$2:$B$211,B18,$J$2:$J$211,"<"&J18)=0,IF(D18="Sem registro","OK","Revisar: origem inicial"),IFERROR(IF(D18=INDEX($E$2:$E$211,MATCH(AGGREGATE(14,6,$J$2:$J$211/(($B$2:$B$211=B18)*($J$2:$J$211<J18)),1),$J$2:$J$211,0)),"OK","Revisar: origem divergente"),"Revisar: histórico"))) | H18: =IF(OR(A18="",B18="",C18="",E18=""),"",IF(C18>'Listas'!$B$2,"Fora da referência",IF(COUNTIFS($B$2:$B$211,B18,$C$2:$C$211,">"&C18,$C$2:$C$211,"<="&'Listas'!$B$2,$E$2:$E$211,"<>")+COUNTIFS($B$2:$B$211,B18,$C$2:$C$211,C18,$A$2:$A$211,">"&A18,$E$2:$E$211,"<>")=0,"Vigente","Histórico"))) | I18: =IF(COUNTA(A18:F18)=0,"",IF(OR(A18="",B18="",C18="",D18="",E18="",F18=""),"Preencher campos obrigatórios",IF(COUNTIF($A$2:$A$211,A18)>1,"Ordem duplicada",IF(COUNTIF('Membros'!$A$2:$A$211,B18)<>1,"Código não cadastrado ou duplicado",IF(C18>'Listas'!$B$2,"Data após a referência",IF(C18<IFERROR(INDEX('Membros'!$C$2:$C$211,MATCH(B18,'Membros'!$A$2:$A$211,0)),C18),"Data anterior à inclusão",IF(D18=E18,"Situação sem alteração",IF(G18<>"OK",G18,"")))))))) | J18: =IF(OR(A18="",C18=""),"",C18*1000000+A18)
G19: =IF(OR(A19="",B19="",C19="",D19="",E19=""),"",IF(COUNTIFS($B$2:$B$211,B19,$J$2:$J$211,"<"&J19)=0,IF(D19="Sem registro","OK","Revisar: origem inicial"),IFERROR(IF(D19=INDEX($E$2:$E$211,MATCH(AGGREGATE(14,6,$J$2:$J$211/(($B$2:$B$211=B19)*($J$2:$J$211<J19)),1),$J$2:$J$211,0)),"OK","Revisar: origem divergente"),"Revisar: histórico"))) | H19: =IF(OR(A19="",B19="",C19="",E19=""),"",IF(C19>'Listas'!$B$2,"Fora da referência",IF(COUNTIFS($B$2:$B$211,B19,$C$2:$C$211,">"&C19,$C$2:$C$211,"<="&'Listas'!$B$2,$E$2:$E$211,"<>")+COUNTIFS($B$2:$B$211,B19,$C$2:$C$211,C19,$A$2:$A$211,">"&A19,$E$2:$E$211,"<>")=0,"Vigente","Histórico"))) | I19: =IF(COUNTA(A19:F19)=0,"",IF(OR(A19="",B19="",C19="",D19="",E19="",F19=""),"Preencher campos obrigatórios",IF(COUNTIF($A$2:$A$211,A19)>1,"Ordem duplicada",IF(COUNTIF('Membros'!$A$2:$A$211,B19)<>1,"Código não cadastrado ou duplicado",IF(C19>'Listas'!$B$2,"Data após a referência",IF(C19<IFERROR(INDEX('Membros'!$C$2:$C$211,MATCH(B19,'Membros'!$A$2:$A$211,0)),C19),"Data anterior à inclusão",IF(D19=E19,"Situação sem alteração",IF(G19<>"OK",G19,"")))))))) | J19: =IF(OR(A19="",C19=""),"",C19*1000000+A19)
G20: =IF(OR(A20="",B20="",C20="",D20="",E20=""),"",IF(COUNTIFS($B$2:$B$211,B20,$J$2:$J$211,"<"&J20)=0,IF(D20="Sem registro","OK","Revisar: origem inicial"),IFERROR(IF(D20=INDEX($E$2:$E$211,MATCH(AGGREGATE(14,6,$J$2:$J$211/(($B$2:$B$211=B20)*($J$2:$J$211<J20)),1),$J$2:$J$211,0)),"OK","Revisar: origem divergente"),"Revisar: histórico"))) | H20: =IF(OR(A20="",B20="",C20="",E20=""),"",IF(C20>'Listas'!$B$2,"Fora da referência",IF(COUNTIFS($B$2:$B$211,B20,$C$2:$C$211,">"&C20,$C$2:$C$211,"<="&'Listas'!$B$2,$E$2:$E$211,"<>")+COUNTIFS($B$2:$B$211,B20,$C$2:$C$211,C20,$A$2:$A$211,">"&A20,$E$2:$E$211,"<>")=0,"Vigente","Histórico"))) | I20: =IF(COUNTA(A20:F20)=0,"",IF(OR(A20="",B20="",C20="",D20="",E20="",F20=""),"Preencher campos obrigatórios",IF(COUNTIF($A$2:$A$211,A20)>1,"Ordem duplicada",IF(COUNTIF('Membros'!$A$2:$A$211,B20)<>1,"Código não cadastrado ou duplicado",IF(C20>'Listas'!$B$2,"Data após a referência",IF(C20<IFERROR(INDEX('Membros'!$C$2:$C$211,MATCH(B20,'Membros'!$A$2:$A$211,0)),C20),"Data anterior à inclusão",IF(D20=E20,"Situação sem alteração",IF(G20<>"OK",G20,"")))))))) | J20: =IF(OR(A20="",C20=""),"",C20*1000000+A20)
G21: =IF(OR(A21="",B21="",C21="",D21="",E21=""),"",IF(COUNTIFS($B$2:$B$211,B21,$J$2:$J$211,"<"&J21)=0,IF(D21="Sem registro","OK","Revisar: origem inicial"),IFERROR(IF(D21=INDEX($E$2:$E$211,MATCH(AGGREGATE(14,6,$J$2:$J$211/(($B$2:$B$211=B21)*($J$2:$J$211<J21)),1),$J$2:$J$211,0)),"OK","Revisar: origem divergente"),"Revisar: histórico"))) | H21: =IF(OR(A21="",B21="",C21="",E21=""),"",IF(C21>'Listas'!$B$2,"Fora da referência",IF(COUNTIFS($B$2:$B$211,B21,$C$2:$C$211,">"&C21,$C$2:$C$211,"<="&'Listas'!$B$2,$E$2:$E$211,"<>")+COUNTIFS($B$2:$B$211,B21,$C$2:$C$211,C21,$A$2:$A$211,">"&A21,$E$2:$E$211,"<>")=0,"Vigente","Histórico"))) | I21: =IF(COUNTA(A21:F21)=0,"",IF(OR(A21="",B21="",C21="",D21="",E21="",F21=""),"Preencher campos obrigatórios",IF(COUNTIF($A$2:$A$211,A21)>1,"Ordem duplicada",IF(COUNTIF('Membros'!$A$2:$A$211,B21)<>1,"Código não cadastrado ou duplicado",IF(C21>'Listas'!$B$2,"Data após a referência",IF(C21<IFERROR(INDEX('Membros'!$C$2:$C$211,MATCH(B21,'Membros'!$A$2:$A$211,0)),C21),"Data anterior à inclusão",IF(D21=E21,"Situação sem alteração",IF(G21<>"OK",G21,"")))))))) | J21: =IF(OR(A21="",C21=""),"",C21*1000000+A21)
G22: =IF(OR(A22="",B22="",C22="",D22="",E22=""),"",IF(COUNTIFS($B$2:$B$211,B22,$J$2:$J$211,"<"&J22)=0,IF(D22="Sem registro","OK","Revisar: origem inicial"),IFERROR(IF(D22=INDEX($E$2:$E$211,MATCH(AGGREGATE(14,6,$J$2:$J$211/(($B$2:$B$211=B22)*($J$2:$J$211<J22)),1),$J$2:$J$211,0)),"OK","Revisar: origem divergente"),"Revisar: histórico"))) | H22: =IF(OR(A22="",B22="",C22="",E22=""),"",IF(C22>'Listas'!$B$2,"Fora da referência",IF(COUNTIFS($B$2:$B$211,B22,$C$2:$C$211,">"&C22,$C$2:$C$211,"<="&'Listas'!$B$2,$E$2:$E$211,"<>")+COUNTIFS($B$2:$B$211,B22,$C$2:$C$211,C22,$A$2:$A$211,">"&A22,$E$2:$E$211,"<>")=0,"Vigente","Histórico"))) | I22: =IF(COUNTA(A22:F22)=0,"",IF(OR(A22="",B22="",C22="",D22="",E22="",F22=""),"Preencher campos obrigatórios",IF(COUNTIF($A$2:$A$211,A22)>1,"Ordem duplicada",IF(COUNTIF('Membros'!$A$2:$A$211,B22)<>1,"Código não cadastrado ou duplicado",IF(C22>'Listas'!$B$2,"Data após a referência",IF(C22<IFERROR(INDEX('Membros'!$C$2:$C$211,MATCH(B22,'Membros'!$A$2:$A$211,0)),C22),"Data anterior à inclusão",IF(D22=E22,"Situação sem alteração",IF(G22<>"OK",G22,"")))))))) | J22: =IF(OR(A22="",C22=""),"",C22*1000000+A22)
G23: =IF(OR(A23="",B23="",C23="",D23="",E23=""),"",IF(COUNTIFS($B$2:$B$211,B23,$J$2:$J$211,"<"&J23)=0,IF(D23="Sem registro","OK","Revisar: origem inicial"),IFERROR(IF(D23=INDEX($E$2:$E$211,MATCH(AGGREGATE(14,6,$J$2:$J$211/(($B$2:$B$211=B23)*($J$2:$J$211<J23)),1),$J$2:$J$211,0)),"OK","Revisar: origem divergente"),"Revisar: histórico"))) | H23: =IF(OR(A23="",B23="",C23="",E23=""),"",IF(C23>'Listas'!$B$2,"Fora da referência",IF(COUNTIFS($B$2:$B$211,B23,$C$2:$C$211,">"&C23,$C$2:$C$211,"<="&'Listas'!$B$2,$E$2:$E$211,"<>")+COUNTIFS($B$2:$B$211,B23,$C$2:$C$211,C23,$A$2:$A$211,">"&A23,$E$2:$E$211,"<>")=0,"Vigente","Histórico"))) | I23: =IF(COUNTA(A23:F23)=0,"",IF(OR(A23="",B23="",C23="",D23="",E23="",F23=""),"Preencher campos obrigatórios",IF(COUNTIF($A$2:$A$211,A23)>1,"Ordem duplicada",IF(COUNTIF('Membros'!$A$2:$A$211,B23)<>1,"Código não cadastrado ou duplicado",IF(C23>'Listas'!$B$2,"Data após a referência",IF(C23<IFERROR(INDEX('Membros'!$C$2:$C$211,MATCH(B23,'Membros'!$A$2:$A$211,0)),C23),"Data anterior à inclusão",IF(D23=E23,"Situação sem alteração",IF(G23<>"OK",G23,"")))))))) | J23: =IF(OR(A23="",C23=""),"",C23*1000000+A23)
... G211: =IF(OR(A211="",B211="",C211="",D211="",E211=""),"",IF(COUNTIFS($B$2:$B$211,B211,$J$2:$J$211,"<"&J211)=0,IF(D211="Sem registro","OK","Revisar: origem inicial"),IFERROR(IF(D211=INDEX($E$2:$E$211,MATCH(AGGREGATE(14,6,$J$2:$J$211/(($B$2:$B$211=B211)*($J$2:$J$211<J211)),1),$J$2:$J$211,0)),"OK","Revisar: origem divergente"),"Revisar: histórico"))) | H211: =IF(OR(A211="",B211="",C211="",E211=""),"",IF(C211>'Listas'!$B$2,"Fora da referência",IF(COUNTIFS($B$2:$B$211,B211,$C$2:$C$211,">"&C211,$C$2:$C$211,"<="&'Listas'!$B$2,$E$2:$E$211,"<>")+COUNTIFS($B$2:$B$211,B211,$C$2:$C$211,C211,$A$2:$A$211,">"&A211,$E$2:$E$211,"<>")=0,"Vigente","Histórico"))) | I211: =IF(COUNTA(A211:F211)=0,"",IF(OR(A211="",B211="",C211="",D211="",E211="",F211=""),"Preencher campos obrigatórios",IF(COUNTIF($A$2:$A$211,A211)>1,"Ordem duplicada",IF(COUNTIF('Membros'!$A$2:$A$211,B211)<>1,"Código não cadastrado ou duplicado",IF(C211>'Listas'!$B$2,"Data após a referência",IF(C211<IFERROR(INDEX('Membros'!$C$2:$C$211,MATCH(B211,'Membros'!$A$2:$A$211,0)),C211),"Data anterior à inclusão",IF(D211=E211,"Situação sem alteração",IF(G211<>"OK",G211,"")))))))) | J211: =IF(OR(A211="",C211=""),"",C211*1000000+A211)

Sheet Listas
A1: Parâmetro | B1: Valor | D1: Situações permitidas | E1: Situações anteriores | F1: Motivos administrativos
A2: Data de referência | B2: 46276 | D2: Ativa | E2: Sem registro | F2: Cadastro inicial
D3: Inativa | E3: Ativa | F3: Admissão administrativa
D4: Transferida | E4: Inativa | F4: Transferência registrada
D5: Desligada | E5: Transferida | F5: Desligamento registrado
E6: Desligada | F6: Reativação
F7: Atualização administrativa
F8: Outro administrativo
