Workbook

Sheet Resumo
A1: Resumo do registro de pedidos de oração
A3: Indicador | B3: Resultado
A4: Total de pedidos | B4: =IF(COUNTIF(Pedidos!$A$5:$A$104,"<>")=0,"",COUNTIF(Pedidos!$A$5:$A$104,"<>"))
A5: Pedidos não encerrados | B5: =IF($B$4="","",SUM(B14:B16))
A6: Consentimentos pendentes | B6: =IF($B$4="","",COUNTIF(Pedidos!$E$5:$E$104,'Premissas'!$A$13))
A7: Revisões vencidas | B7: =IF($B$4="","",COUNTIFS(Pedidos!$J$5:$J$104,"<"&TODAY(),Pedidos!$J$5:$J$104,"<>",Pedidos!$I$5:$I$104,"<>"&'Premissas'!$C$14))
A8: Alertas para conferência | B8: =IF($B$4="","",COUNTIF(Pedidos!$M$5:$M$104,"Conferir"))
A9: Média de dias registrados | B9: =IF($B$4="","",IFERROR(AVERAGEIF(Pedidos!$L$5:$L$104,">=0"),""))
A10: Percentual encerrado | B10: =IFERROR(B17/B4,"")
A11: Data de referência | B11: =IF($B$4="","",TODAY())
A13: Situação | B13: Quantidade
A14: ='Premissas'!C11 | B14: =IF($B$4="","",COUNTIF(Pedidos!$I$5:$I$104,A14))
A15: ='Premissas'!C12 | B15: =IF($B$4="","",COUNTIF(Pedidos!$I$5:$I$104,A15))
A16: ='Premissas'!C13 | B16: =IF($B$4="","",COUNTIF(Pedidos!$I$5:$I$104,A16))
A17: ='Premissas'!C14 | B17: =IF($B$4="","",COUNTIF(Pedidos!$I$5:$I$104,A17))

Sheet Pedidos
A1: Registro de pedidos de oração
A2: Registro privado: use somente as informações necessárias, confira o consentimento e limite o acesso conforme a decisão local.
A4: Código | B4: Data do pedido | C4: Solicitante fictício | D4: Pedido de oração | E4: Consentimento | F4: Nível de acesso | G4: Responsável | H4: Ministério | I4: Situação | J4: Próxima revisão | K4: Data de encerramento | L4: Dias registrados | M4: Alerta
A5: ORA-2026-001 | B5: 46274 | C5: Pessoa Fictícia Alfa | D5: Cenário fictício: serenidade durante uma mudança de rotina. | E5: Sim | F5: Somente responsável | G5: Responsável Fictício A | H5: Cuidado Fraterno Fictício | I5: Em oração | J5: 46281 | L5: =IF($A5="","",IFERROR(IF(OR($B5="",$I5=""),"",IF($I5='Premissas'!$C$14,IF($K5="","",MAX(0,$K5-$B5)),MAX(0,TODAY()-$B5))),"")) | M5: =IF($A5="","",IFERROR(IF(OR($B5="",$D5="",$E5="",$F5="",$G5="",$H5="",$I5=""),"Conferir",IF($E5<>'Premissas'!$A$11,"Conferir",IF(OR(AND($J5<>"",$J5<$B5),AND($K5<>"",$K5<$B5),AND($I5='Premissas'!$C$14,$K5=""),AND($I5<>'Premissas'!$C$14,$K5<>""),AND($I5<>'Premissas'!$C$14,$J5<>"",$J5<TODAY()),AND($I5<>'Premissas'!$C$14,$J5="",TODAY()-$B5>'Premissas'!$B$5)),"Conferir","Em ordem"))),"Conferir"))
A6: ORA-2026-002 | B6: 46267 | C6: Pessoa Fictícia Beta | D6: Cenário fictício: sabedoria para organizar compromissos familiares. | E6: Sim | F6: Restrito à equipe | G6: Responsável Fictício B | H6: Intercessão Esperança Fictícia | I6: Em acompanhamento | J6: 46277 | L6: =IF($A6="","",IFERROR(IF(OR($B6="",$I6=""),"",IF($I6='Premissas'!$C$14,IF($K6="","",MAX(0,$K6-$B6)),MAX(0,TODAY()-$B6))),"")) | M6: =IF($A6="","",IFERROR(IF(OR($B6="",$D6="",$E6="",$F6="",$G6="",$H6="",$I6=""),"Conferir",IF($E6<>'Premissas'!$A$11,"Conferir",IF(OR(AND($J6<>"",$J6<$B6),AND($K6<>"",$K6<$B6),AND($I6='Premissas'!$C$14,$K6=""),AND($I6<>'Premissas'!$C$14,$K6<>""),AND($I6<>'Premissas'!$C$14,$J6<>"",$J6<TODAY()),AND($I6<>'Premissas'!$C$14,$J6="",TODAY()-$B6>'Premissas'!$B$5)),"Conferir","Em ordem"))),"Conferir"))
A7: ORA-2026-003 | B7: 46258 | C7: Pessoa Fictícia Gama | D7: Cenário fictício: ânimo para concluir uma etapa de estudos. | E7: Sim | F7: Restrito à equipe | G7: Responsável Fictício C | H7: Acolhimento Aurora Fictício | I7: Aguardando revisão | J7: 46274 | L7: =IF($A7="","",IFERROR(IF(OR($B7="",$I7=""),"",IF($I7='Premissas'!$C$14,IF($K7="","",MAX(0,$K7-$B7)),MAX(0,TODAY()-$B7))),"")) | M7: =IF($A7="","",IFERROR(IF(OR($B7="",$D7="",$E7="",$F7="",$G7="",$H7="",$I7=""),"Conferir",IF($E7<>'Premissas'!$A$11,"Conferir",IF(OR(AND($J7<>"",$J7<$B7),AND($K7<>"",$K7<$B7),AND($I7='Premissas'!$C$14,$K7=""),AND($I7<>'Premissas'!$C$14,$K7<>""),AND($I7<>'Premissas'!$C$14,$J7<>"",$J7<TODAY()),AND($I7<>'Premissas'!$C$14,$J7="",TODAY()-$B7>'Premissas'!$B$5)),"Conferir","Em ordem"))),"Conferir"))
A8: ORA-2026-004 | B8: 46251 | C8: Pessoa Fictícia Delta | D8: Cenário fictício: gratidão pela conclusão de uma viagem planejada. | E8: Sim | F8: Somente responsável | G8: Responsável Fictício D | H8: Pastoral Semeadura Fictícia | I8: Encerrado | K8: 46266 | L8: =IF($A8="","",IFERROR(IF(OR($B8="",$I8=""),"",IF($I8='Premissas'!$C$14,IF($K8="","",MAX(0,$K8-$B8)),MAX(0,TODAY()-$B8))),"")) | M8: =IF($A8="","",IFERROR(IF(OR($B8="",$D8="",$E8="",$F8="",$G8="",$H8="",$I8=""),"Conferir",IF($E8<>'Premissas'!$A$11,"Conferir",IF(OR(AND($J8<>"",$J8<$B8),AND($K8<>"",$K8<$B8),AND($I8='Premissas'!$C$14,$K8=""),AND($I8<>'Premissas'!$C$14,$K8<>""),AND($I8<>'Premissas'!$C$14,$J8<>"",$J8<TODAY()),AND($I8<>'Premissas'!$C$14,$J8="",TODAY()-$B8>'Premissas'!$B$5)),"Conferir","Em ordem"))),"Conferir"))
A9: ORA-2026-005 | B9: 46272 | C9: Pessoa Fictícia Épsilon | D9: Cenário fictício: clareza para uma decisão profissional simulada. | E9: Pendente | F9: Somente responsável | G9: Responsável Fictício A | H9: Intercessão Esperança Fictícia | I9: Em oração | J9: 46279 | L9: =IF($A9="","",IFERROR(IF(OR($B9="",$I9=""),"",IF($I9='Premissas'!$C$14,IF($K9="","",MAX(0,$K9-$B9)),MAX(0,TODAY()-$B9))),"")) | M9: =IF($A9="","",IFERROR(IF(OR($B9="",$D9="",$E9="",$F9="",$G9="",$H9="",$I9=""),"Conferir",IF($E9<>'Premissas'!$A$11,"Conferir",IF(OR(AND($J9<>"",$J9<$B9),AND($K9<>"",$K9<$B9),AND($I9='Premissas'!$C$14,$K9=""),AND($I9<>'Premissas'!$C$14,$K9<>""),AND($I9<>'Premissas'!$C$14,$J9<>"",$J9<TODAY()),AND($I9<>'Premissas'!$C$14,$J9="",TODAY()-$B9>'Premissas'!$B$5)),"Conferir","Em ordem"))),"Conferir"))
A10: ORA-2026-006 | B10: 46269 | C10: Pessoa Fictícia Zeta | D10: Cenário fictício: tranquilidade em uma conversa importante. | E10: Não | F10: Somente responsável | G10: Responsável Fictício B | H10: Cuidado Fraterno Fictício | I10: Em acompanhamento | J10: 46278 | L10: =IF($A10="","",IFERROR(IF(OR($B10="",$I10=""),"",IF($I10='Premissas'!$C$14,IF($K10="","",MAX(0,$K10-$B10)),MAX(0,TODAY()-$B10))),"")) | M10: =IF($A10="","",IFERROR(IF(OR($B10="",$D10="",$E10="",$F10="",$G10="",$H10="",$I10=""),"Conferir",IF($E10<>'Premissas'!$A$11,"Conferir",IF(OR(AND($J10<>"",$J10<$B10),AND($K10<>"",$K10<$B10),AND($I10='Premissas'!$C$14,$K10=""),AND($I10<>'Premissas'!$C$14,$K10<>""),AND($I10<>'Premissas'!$C$14,$J10<>"",$J10<TODAY()),AND($I10<>'Premissas'!$C$14,$J10="",TODAY()-$B10>'Premissas'!$B$5)),"Conferir","Em ordem"))),"Conferir"))
A11: ORA-2026-007 | B11: 46256 | C11: Pessoa Fictícia Eta | D11: Cenário fictício: perseverança em uma rotina de trabalho simulada. | E11: Sim | F11: Restrito à equipe | G11: Responsável Fictício C | H11: Pastoral Semeadura Fictícia | I11: Em oração | L11: =IF($A11="","",IFERROR(IF(OR($B11="",$I11=""),"",IF($I11='Premissas'!$C$14,IF($K11="","",MAX(0,$K11-$B11)),MAX(0,TODAY()-$B11))),"")) | M11: =IF($A11="","",IFERROR(IF(OR($B11="",$D11="",$E11="",$F11="",$G11="",$H11="",$I11=""),"Conferir",IF($E11<>'Premissas'!$A$11,"Conferir",IF(OR(AND($J11<>"",$J11<$B11),AND($K11<>"",$K11<$B11),AND($I11='Premissas'!$C$14,$K11=""),AND($I11<>'Premissas'!$C$14,$K11<>""),AND($I11<>'Premissas'!$C$14,$J11<>"",$J11<TODAY()),AND($I11<>'Premissas'!$C$14,$J11="",TODAY()-$B11>'Premissas'!$B$5)),"Conferir","Em ordem"))),"Conferir"))
A12: ORA-2026-008 | B12: 46262 | C12: Pessoa Fictícia Teta | D12: Cenário fictício: gratidão por uma reconciliação em narrativa fictícia. | E12: Sim | F12: Restrito à equipe | G12: Responsável Fictício D | H12: Acolhimento Aurora Fictício | I12: Encerrado | K12: 46273 | L12: =IF($A12="","",IFERROR(IF(OR($B12="",$I12=""),"",IF($I12='Premissas'!$C$14,IF($K12="","",MAX(0,$K12-$B12)),MAX(0,TODAY()-$B12))),"")) | M12: =IF($A12="","",IFERROR(IF(OR($B12="",$D12="",$E12="",$F12="",$G12="",$H12="",$I12=""),"Conferir",IF($E12<>'Premissas'!$A$11,"Conferir",IF(OR(AND($J12<>"",$J12<$B12),AND($K12<>"",$K12<$B12),AND($I12='Premissas'!$C$14,$K12=""),AND($I12<>'Premissas'!$C$14,$K12<>""),AND($I12<>'Premissas'!$C$14,$J12<>"",$J12<TODAY()),AND($I12<>'Premissas'!$C$14,$J12="",TODAY()-$B12>'Premissas'!$B$5)),"Conferir","Em ordem"))),"Conferir"))
A13: ORA-2026-009 | B13: 46275 | C13: Pessoa Fictícia Iota | D13: Cenário fictício: discernimento para planejar uma nova atividade. | E13: Sim | F13: Somente responsável | G13: Responsável Fictício A | H13: Cuidado Fraterno Fictício | I13: Em oração | J13: 46282 | L13: =IF($A13="","",IFERROR(IF(OR($B13="",$I13=""),"",IF($I13='Premissas'!$C$14,IF($K13="","",MAX(0,$K13-$B13)),MAX(0,TODAY()-$B13))),"")) | M13: =IF($A13="","",IFERROR(IF(OR($B13="",$D13="",$E13="",$F13="",$G13="",$H13="",$I13=""),"Conferir",IF($E13<>'Premissas'!$A$11,"Conferir",IF(OR(AND($J13<>"",$J13<$B13),AND($K13<>"",$K13<$B13),AND($I13='Premissas'!$C$14,$K13=""),AND($I13<>'Premissas'!$C$14,$K13<>""),AND($I13<>'Premissas'!$C$14,$J13<>"",$J13<TODAY()),AND($I13<>'Premissas'!$C$14,$J13="",TODAY()-$B13>'Premissas'!$B$5)),"Conferir","Em ordem"))),"Conferir"))
A14: ORA-2026-010 | B14: 46270 | C14: Pessoa Fictícia Capa | D14: Cenário fictício: esperança durante uma fase de espera simulada. | E14: Sim | F14: Restrito à equipe | G14: Responsável Fictício B | H14: Intercessão Esperança Fictícia | I14: Em acompanhamento | J14: 46280 | L14: =IF($A14="","",IFERROR(IF(OR($B14="",$I14=""),"",IF($I14='Premissas'!$C$14,IF($K14="","",MAX(0,$K14-$B14)),MAX(0,TODAY()-$B14))),"")) | M14: =IF($A14="","",IFERROR(IF(OR($B14="",$D14="",$E14="",$F14="",$G14="",$H14="",$I14=""),"Conferir",IF($E14<>'Premissas'!$A$11,"Conferir",IF(OR(AND($J14<>"",$J14<$B14),AND($K14<>"",$K14<$B14),AND($I14='Premissas'!$C$14,$K14=""),AND($I14<>'Premissas'!$C$14,$K14<>""),AND($I14<>'Premissas'!$C$14,$J14<>"",$J14<TODAY()),AND($I14<>'Premissas'!$C$14,$J14="",TODAY()-$B14>'Premissas'!$B$5)),"Conferir","Em ordem"))),"Conferir"))
L15: =IF($A15="","",IFERROR(IF(OR($B15="",$I15=""),"",IF($I15='Premissas'!$C$14,IF($K15="","",MAX(0,$K15-$B15)),MAX(0,TODAY()-$B15))),"")) | M15: =IF($A15="","",IFERROR(IF(OR($B15="",$D15="",$E15="",$F15="",$G15="",$H15="",$I15=""),"Conferir",IF($E15<>'Premissas'!$A$11,"Conferir",IF(OR(AND($J15<>"",$J15<$B15),AND($K15<>"",$K15<$B15),AND($I15='Premissas'!$C$14,$K15=""),AND($I15<>'Premissas'!$C$14,$K15<>""),AND($I15<>'Premissas'!$C$14,$J15<>"",$J15<TODAY()),AND($I15<>'Premissas'!$C$14,$J15="",TODAY()-$B15>'Premissas'!$B$5)),"Conferir","Em ordem"))),"Conferir"))
L16: =IF($A16="","",IFERROR(IF(OR($B16="",$I16=""),"",IF($I16='Premissas'!$C$14,IF($K16="","",MAX(0,$K16-$B16)),MAX(0,TODAY()-$B16))),"")) | M16: =IF($A16="","",IFERROR(IF(OR($B16="",$D16="",$E16="",$F16="",$G16="",$H16="",$I16=""),"Conferir",IF($E16<>'Premissas'!$A$11,"Conferir",IF(OR(AND($J16<>"",$J16<$B16),AND($K16<>"",$K16<$B16),AND($I16='Premissas'!$C$14,$K16=""),AND($I16<>'Premissas'!$C$14,$K16<>""),AND($I16<>'Premissas'!$C$14,$J16<>"",$J16<TODAY()),AND($I16<>'Premissas'!$C$14,$J16="",TODAY()-$B16>'Premissas'!$B$5)),"Conferir","Em ordem"))),"Conferir"))
L17: =IF($A17="","",IFERROR(IF(OR($B17="",$I17=""),"",IF($I17='Premissas'!$C$14,IF($K17="","",MAX(0,$K17-$B17)),MAX(0,TODAY()-$B17))),"")) | M17: =IF($A17="","",IFERROR(IF(OR($B17="",$D17="",$E17="",$F17="",$G17="",$H17="",$I17=""),"Conferir",IF($E17<>'Premissas'!$A$11,"Conferir",IF(OR(AND($J17<>"",$J17<$B17),AND($K17<>"",$K17<$B17),AND($I17='Premissas'!$C$14,$K17=""),AND($I17<>'Premissas'!$C$14,$K17<>""),AND($I17<>'Premissas'!$C$14,$J17<>"",$J17<TODAY()),AND($I17<>'Premissas'!$C$14,$J17="",TODAY()-$B17>'Premissas'!$B$5)),"Conferir","Em ordem"))),"Conferir"))
L18: =IF($A18="","",IFERROR(IF(OR($B18="",$I18=""),"",IF($I18='Premissas'!$C$14,IF($K18="","",MAX(0,$K18-$B18)),MAX(0,TODAY()-$B18))),"")) | M18: =IF($A18="","",IFERROR(IF(OR($B18="",$D18="",$E18="",$F18="",$G18="",$H18="",$I18=""),"Conferir",IF($E18<>'Premissas'!$A$11,"Conferir",IF(OR(AND($J18<>"",$J18<$B18),AND($K18<>"",$K18<$B18),AND($I18='Premissas'!$C$14,$K18=""),AND($I18<>'Premissas'!$C$14,$K18<>""),AND($I18<>'Premissas'!$C$14,$J18<>"",$J18<TODAY()),AND($I18<>'Premissas'!$C$14,$J18="",TODAY()-$B18>'Premissas'!$B$5)),"Conferir","Em ordem"))),"Conferir"))
L19: =IF($A19="","",IFERROR(IF(OR($B19="",$I19=""),"",IF($I19='Premissas'!$C$14,IF($K19="","",MAX(0,$K19-$B19)),MAX(0,TODAY()-$B19))),"")) | M19: =IF($A19="","",IFERROR(IF(OR($B19="",$D19="",$E19="",$F19="",$G19="",$H19="",$I19=""),"Conferir",IF($E19<>'Premissas'!$A$11,"Conferir",IF(OR(AND($J19<>"",$J19<$B19),AND($K19<>"",$K19<$B19),AND($I19='Premissas'!$C$14,$K19=""),AND($I19<>'Premissas'!$C$14,$K19<>""),AND($I19<>'Premissas'!$C$14,$J19<>"",$J19<TODAY()),AND($I19<>'Premissas'!$C$14,$J19="",TODAY()-$B19>'Premissas'!$B$5)),"Conferir","Em ordem"))),"Conferir"))
L20: =IF($A20="","",IFERROR(IF(OR($B20="",$I20=""),"",IF($I20='Premissas'!$C$14,IF($K20="","",MAX(0,$K20-$B20)),MAX(0,TODAY()-$B20))),"")) | M20: =IF($A20="","",IFERROR(IF(OR($B20="",$D20="",$E20="",$F20="",$G20="",$H20="",$I20=""),"Conferir",IF($E20<>'Premissas'!$A$11,"Conferir",IF(OR(AND($J20<>"",$J20<$B20),AND($K20<>"",$K20<$B20),AND($I20='Premissas'!$C$14,$K20=""),AND($I20<>'Premissas'!$C$14,$K20<>""),AND($I20<>'Premissas'!$C$14,$J20<>"",$J20<TODAY()),AND($I20<>'Premissas'!$C$14,$J20="",TODAY()-$B20>'Premissas'!$B$5)),"Conferir","Em ordem"))),"Conferir"))
L21: =IF($A21="","",IFERROR(IF(OR($B21="",$I21=""),"",IF($I21='Premissas'!$C$14,IF($K21="","",MAX(0,$K21-$B21)),MAX(0,TODAY()-$B21))),"")) | M21: =IF($A21="","",IFERROR(IF(OR($B21="",$D21="",$E21="",$F21="",$G21="",$H21="",$I21=""),"Conferir",IF($E21<>'Premissas'!$A$11,"Conferir",IF(OR(AND($J21<>"",$J21<$B21),AND($K21<>"",$K21<$B21),AND($I21='Premissas'!$C$14,$K21=""),AND($I21<>'Premissas'!$C$14,$K21<>""),AND($I21<>'Premissas'!$C$14,$J21<>"",$J21<TODAY()),AND($I21<>'Premissas'!$C$14,$J21="",TODAY()-$B21>'Premissas'!$B$5)),"Conferir","Em ordem"))),"Conferir"))
L22: =IF($A22="","",IFERROR(IF(OR($B22="",$I22=""),"",IF($I22='Premissas'!$C$14,IF($K22="","",MAX(0,$K22-$B22)),MAX(0,TODAY()-$B22))),"")) | M22: =IF($A22="","",IFERROR(IF(OR($B22="",$D22="",$E22="",$F22="",$G22="",$H22="",$I22=""),"Conferir",IF($E22<>'Premissas'!$A$11,"Conferir",IF(OR(AND($J22<>"",$J22<$B22),AND($K22<>"",$K22<$B22),AND($I22='Premissas'!$C$14,$K22=""),AND($I22<>'Premissas'!$C$14,$K22<>""),AND($I22<>'Premissas'!$C$14,$J22<>"",$J22<TODAY()),AND($I22<>'Premissas'!$C$14,$J22="",TODAY()-$B22>'Premissas'!$B$5)),"Conferir","Em ordem"))),"Conferir"))
L23: =IF($A23="","",IFERROR(IF(OR($B23="",$I23=""),"",IF($I23='Premissas'!$C$14,IF($K23="","",MAX(0,$K23-$B23)),MAX(0,TODAY()-$B23))),"")) | M23: =IF($A23="","",IFERROR(IF(OR($B23="",$D23="",$E23="",$F23="",$G23="",$H23="",$I23=""),"Conferir",IF($E23<>'Premissas'!$A$11,"Conferir",IF(OR(AND($J23<>"",$J23<$B23),AND($K23<>"",$K23<$B23),AND($I23='Premissas'!$C$14,$K23=""),AND($I23<>'Premissas'!$C$14,$K23<>""),AND($I23<>'Premissas'!$C$14,$J23<>"",$J23<TODAY()),AND($I23<>'Premissas'!$C$14,$J23="",TODAY()-$B23>'Premissas'!$B$5)),"Conferir","Em ordem"))),"Conferir"))
L24: =IF($A24="","",IFERROR(IF(OR($B24="",$I24=""),"",IF($I24='Premissas'!$C$14,IF($K24="","",MAX(0,$K24-$B24)),MAX(0,TODAY()-$B24))),"")) | M24: =IF($A24="","",IFERROR(IF(OR($B24="",$D24="",$E24="",$F24="",$G24="",$H24="",$I24=""),"Conferir",IF($E24<>'Premissas'!$A$11,"Conferir",IF(OR(AND($J24<>"",$J24<$B24),AND($K24<>"",$K24<$B24),AND($I24='Premissas'!$C$14,$K24=""),AND($I24<>'Premissas'!$C$14,$K24<>""),AND($I24<>'Premissas'!$C$14,$J24<>"",$J24<TODAY()),AND($I24<>'Premissas'!$C$14,$J24="",TODAY()-$B24>'Premissas'!$B$5)),"Conferir","Em ordem"))),"Conferir"))
L25: =IF($A25="","",IFERROR(IF(OR($B25="",$I25=""),"",IF($I25='Premissas'!$C$14,IF($K25="","",MAX(0,$K25-$B25)),MAX(0,TODAY()-$B25))),"")) | M25: =IF($A25="","",IFERROR(IF(OR($B25="",$D25="",$E25="",$F25="",$G25="",$H25="",$I25=""),"Conferir",IF($E25<>'Premissas'!$A$11,"Conferir",IF(OR(AND($J25<>"",$J25<$B25),AND($K25<>"",$K25<$B25),AND($I25='Premissas'!$C$14,$K25=""),AND($I25<>'Premissas'!$C$14,$K25<>""),AND($I25<>'Premissas'!$C$14,$J25<>"",$J25<TODAY()),AND($I25<>'Premissas'!$C$14,$J25="",TODAY()-$B25>'Premissas'!$B$5)),"Conferir","Em ordem"))),"Conferir"))
L26: =IF($A26="","",IFERROR(IF(OR($B26="",$I26=""),"",IF($I26='Premissas'!$C$14,IF($K26="","",MAX(0,$K26-$B26)),MAX(0,TODAY()-$B26))),"")) | M26: =IF($A26="","",IFERROR(IF(OR($B26="",$D26="",$E26="",$F26="",$G26="",$H26="",$I26=""),"Conferir",IF($E26<>'Premissas'!$A$11,"Conferir",IF(OR(AND($J26<>"",$J26<$B26),AND($K26<>"",$K26<$B26),AND($I26='Premissas'!$C$14,$K26=""),AND($I26<>'Premissas'!$C$14,$K26<>""),AND($I26<>'Premissas'!$C$14,$J26<>"",$J26<TODAY()),AND($I26<>'Premissas'!$C$14,$J26="",TODAY()-$B26>'Premissas'!$B$5)),"Conferir","Em ordem"))),"Conferir"))
... L104: =IF($A104="","",IFERROR(IF(OR($B104="",$I104=""),"",IF($I104='Premissas'!$C$14,IF($K104="","",MAX(0,$K104-$B104)),MAX(0,TODAY()-$B104))),"")) | M104: =IF($A104="","",IFERROR(IF(OR($B104="",$D104="",$E104="",$F104="",$G104="",$H104="",$I104=""),"Conferir",IF($E104<>'Premissas'!$A$11,"Conferir",IF(OR(AND($J104<>"",$J104<$B104),AND($K104<>"",$K104<$B104),AND($I104='Premissas'!$C$14,$K104=""),AND($I104<>'Premissas'!$C$14,$K104<>""),AND($I104<>'Premissas'!$C$14,$J104<>"",$J104<TODAY()),AND($I104<>'Premissas'!$C$14,$J104="",TODAY()-$B104>'Premissas'!$B$5)),"Conferir","Em ordem"))),"Conferir"))

Sheet Premissas
A1: Premissas do registro de pedidos de oração
A2: Ajuste os limites e as listas à rotina local. Os alertas indicam somente a necessidade de conferência humana.
A4: Premissa | B4: Valor | C4: Observação
A5: Prazo para revisão | B5: 14 | C5: Quantidade de dias usada quando não há próxima revisão informada.
A6: Data mínima permitida | B6: 42626 | C6: Limite editável para datas dos registros.
A7: Data máxima permitida | B7: 49926 | C7: Limite editável para datas dos registros.
A10: Consentimento | B10: Nível de acesso | C10: Situação | D10: Ministério | E10: Responsável
A11: Sim | B11: Somente responsável | C11: Em oração | D11: Cuidado Fraterno Fictício | E11: Responsável Fictício A
A12: Não | B12: Restrito à equipe | C12: Em acompanhamento | D12: Intercessão Esperança Fictícia | E12: Responsável Fictício B
A13: Pendente | C13: Aguardando revisão | D13: Acolhimento Aurora Fictício | E13: Responsável Fictício C
C14: Encerrado | D14: Pastoral Semeadura Fictícia | E14: Responsável Fictício D
