Workbook

Sheet Resumo
A1: Projeção de compromissos parcelados
A2: Indicadores calculados a partir das parcelas registradas.
A4: Saldo total em aberto | B4: =IFERROR(SUM(Compromissos!$M$5:$M$154),0) | D4: Saldo nos próximos 12 meses | E4: =IFERROR(SUMIFS(Compromissos!$M$5:$M$154,Compromissos!$E$5:$E$154,">="&Premissas!$B$4,Compromissos!$E$5:$E$154,"<"&EDATE(Premissas!$B$4,12),Compromissos!$M$5:$M$154,">0"),0)
A5: Vencido até hoje | B5: =IFERROR(SUMIFS(Compromissos!$M$5:$M$154,Compromissos!$N$5:$N$154,"Vencida"),0) | D5: Saldo após o horizonte | E5: =IFERROR(SUMIFS(Compromissos!$M$5:$M$154,Compromissos!$E$5:$E$154,">="&EDATE(Premissas!$B$4,12),Compromissos!$M$5:$M$154,">0"),0)
A6: A vencer no prazo de alerta | B6: =IFERROR(SUMIFS(Compromissos!$M$5:$M$154,Compromissos!$N$5:$N$154,"A vencer"),0) | D6: Parcelas canceladas | E6: =IFERROR(COUNTIF(Compromissos!$N$5:$N$154,"Cancelada"),0)
A7: Parcelas com saldo | B7: =IFERROR(COUNTIFS(Compromissos!$A$5:$A$154,"<>",Compromissos!$M$5:$M$154,">0"),0) | D7: Média mensal projetada | E7: =IFERROR(E4/12,0)
A8: Valor pago informado | B8: =IFERROR(SUMIFS(Compromissos!$L$5:$L$154,Compromissos!$A$5:$A$154,"<>"),0) | D8: Parcelas pagas | E8: =IFERROR(COUNTIF(Compromissos!$N$5:$N$154,"Paga"),0)
A10: Mês | B10: Saldo previsto | C10: Parcelas
A11: =Premissas!$B$4 | B11: =IFERROR(SUMIFS(Compromissos!$M$5:$M$154,Compromissos!$E$5:$E$154,">="&A11,Compromissos!$E$5:$E$154,"<"&EDATE(A11,1),Compromissos!$M$5:$M$154,">0"),0) | C11: =IFERROR(COUNTIFS(Compromissos!$E$5:$E$154,">="&A11,Compromissos!$E$5:$E$154,"<"&EDATE(A11,1),Compromissos!$M$5:$M$154,">0"),0)
A12: =EDATE(A11,1) | B12: =IFERROR(SUMIFS(Compromissos!$M$5:$M$154,Compromissos!$E$5:$E$154,">="&A12,Compromissos!$E$5:$E$154,"<"&EDATE(A12,1),Compromissos!$M$5:$M$154,">0"),0) | C12: =IFERROR(COUNTIFS(Compromissos!$E$5:$E$154,">="&A12,Compromissos!$E$5:$E$154,"<"&EDATE(A12,1),Compromissos!$M$5:$M$154,">0"),0)
A13: =EDATE(A12,1) | B13: =IFERROR(SUMIFS(Compromissos!$M$5:$M$154,Compromissos!$E$5:$E$154,">="&A13,Compromissos!$E$5:$E$154,"<"&EDATE(A13,1),Compromissos!$M$5:$M$154,">0"),0) | C13: =IFERROR(COUNTIFS(Compromissos!$E$5:$E$154,">="&A13,Compromissos!$E$5:$E$154,"<"&EDATE(A13,1),Compromissos!$M$5:$M$154,">0"),0)
A14: =EDATE(A13,1) | B14: =IFERROR(SUMIFS(Compromissos!$M$5:$M$154,Compromissos!$E$5:$E$154,">="&A14,Compromissos!$E$5:$E$154,"<"&EDATE(A14,1),Compromissos!$M$5:$M$154,">0"),0) | C14: =IFERROR(COUNTIFS(Compromissos!$E$5:$E$154,">="&A14,Compromissos!$E$5:$E$154,"<"&EDATE(A14,1),Compromissos!$M$5:$M$154,">0"),0)
A15: =EDATE(A14,1) | B15: =IFERROR(SUMIFS(Compromissos!$M$5:$M$154,Compromissos!$E$5:$E$154,">="&A15,Compromissos!$E$5:$E$154,"<"&EDATE(A15,1),Compromissos!$M$5:$M$154,">0"),0) | C15: =IFERROR(COUNTIFS(Compromissos!$E$5:$E$154,">="&A15,Compromissos!$E$5:$E$154,"<"&EDATE(A15,1),Compromissos!$M$5:$M$154,">0"),0)
A16: =EDATE(A15,1) | B16: =IFERROR(SUMIFS(Compromissos!$M$5:$M$154,Compromissos!$E$5:$E$154,">="&A16,Compromissos!$E$5:$E$154,"<"&EDATE(A16,1),Compromissos!$M$5:$M$154,">0"),0) | C16: =IFERROR(COUNTIFS(Compromissos!$E$5:$E$154,">="&A16,Compromissos!$E$5:$E$154,"<"&EDATE(A16,1),Compromissos!$M$5:$M$154,">0"),0)
A17: =EDATE(A16,1) | B17: =IFERROR(SUMIFS(Compromissos!$M$5:$M$154,Compromissos!$E$5:$E$154,">="&A17,Compromissos!$E$5:$E$154,"<"&EDATE(A17,1),Compromissos!$M$5:$M$154,">0"),0) | C17: =IFERROR(COUNTIFS(Compromissos!$E$5:$E$154,">="&A17,Compromissos!$E$5:$E$154,"<"&EDATE(A17,1),Compromissos!$M$5:$M$154,">0"),0)
A18: =EDATE(A17,1) | B18: =IFERROR(SUMIFS(Compromissos!$M$5:$M$154,Compromissos!$E$5:$E$154,">="&A18,Compromissos!$E$5:$E$154,"<"&EDATE(A18,1),Compromissos!$M$5:$M$154,">0"),0) | C18: =IFERROR(COUNTIFS(Compromissos!$E$5:$E$154,">="&A18,Compromissos!$E$5:$E$154,"<"&EDATE(A18,1),Compromissos!$M$5:$M$154,">0"),0)
A19: =EDATE(A18,1) | B19: =IFERROR(SUMIFS(Compromissos!$M$5:$M$154,Compromissos!$E$5:$E$154,">="&A19,Compromissos!$E$5:$E$154,"<"&EDATE(A19,1),Compromissos!$M$5:$M$154,">0"),0) | C19: =IFERROR(COUNTIFS(Compromissos!$E$5:$E$154,">="&A19,Compromissos!$E$5:$E$154,"<"&EDATE(A19,1),Compromissos!$M$5:$M$154,">0"),0)
A20: =EDATE(A19,1) | B20: =IFERROR(SUMIFS(Compromissos!$M$5:$M$154,Compromissos!$E$5:$E$154,">="&A20,Compromissos!$E$5:$E$154,"<"&EDATE(A20,1),Compromissos!$M$5:$M$154,">0"),0) | C20: =IFERROR(COUNTIFS(Compromissos!$E$5:$E$154,">="&A20,Compromissos!$E$5:$E$154,"<"&EDATE(A20,1),Compromissos!$M$5:$M$154,">0"),0)
A21: =EDATE(A20,1) | B21: =IFERROR(SUMIFS(Compromissos!$M$5:$M$154,Compromissos!$E$5:$E$154,">="&A21,Compromissos!$E$5:$E$154,"<"&EDATE(A21,1),Compromissos!$M$5:$M$154,">0"),0) | C21: =IFERROR(COUNTIFS(Compromissos!$E$5:$E$154,">="&A21,Compromissos!$E$5:$E$154,"<"&EDATE(A21,1),Compromissos!$M$5:$M$154,">0"),0)
A22: =EDATE(A21,1) | B22: =IFERROR(SUMIFS(Compromissos!$M$5:$M$154,Compromissos!$E$5:$E$154,">="&A22,Compromissos!$E$5:$E$154,"<"&EDATE(A22,1),Compromissos!$M$5:$M$154,">0"),0) | C22: =IFERROR(COUNTIFS(Compromissos!$E$5:$E$154,">="&A22,Compromissos!$E$5:$E$154,"<"&EDATE(A22,1),Compromissos!$M$5:$M$154,">0"),0)

Sheet Compromissos
A1: Registro de parcelas de compromissos fictícios
A2: Preencha uma linha por parcela. Alertas de prazo pedem conferência humana.
A3: Faixa preparada: 150 parcelas
A4: Código | B4: Compromisso | C4: Parcela | D4: Total de parcelas | E4: Vencimento | F4: Valor previsto | G4: Ministério | H4: Referência fictícia | I4: Responsável | J4: Status informado | K4: Data do pagamento | L4: Valor pago | M4: Saldo previsto | N4: Situação calculada
A5: FIC-001 | B5: Projetor fictício para sala multiuso | C5: 2 | D5: 6 | E5: 46244 | F5: 850 | G5: Administração Fictícia | H5: Patrimônio fictício Aurora | I5: Equipe Fictícia Alfa | J5: Prevista | M5: =IF(A5="","",IF(OR(NOT(ISNUMBER(F5)),J5=""),"",IFERROR(IF(J5="Cancelada",0,MAX(0,F5-N(L5))),""))) | N5: =IF(A5="","",IF(OR(NOT(ISNUMBER(E5)),NOT(ISNUMBER(F5)),J5=""),"Incompleto",IFERROR(IF(J5="Cancelada","Cancelada",IF(AND(ISNUMBER(M5),M5<=0),IF(J5="Paga","Paga","Sem saldo"),IF(E5<TODAY(),"Vencida",IF(E5<=TODAY()+Premissas!$B$5,"A vencer","Futura")))),"Conferir")))
A6: FIC-001 | B6: Projetor fictício para sala multiuso | C6: 3 | D6: 6 | E6: 46281 | F6: 850 | G6: Administração Fictícia | H6: Patrimônio fictício Aurora | I6: Equipe Fictícia Alfa | J6: Prevista | M6: =IF(A6="","",IF(OR(NOT(ISNUMBER(F6)),J6=""),"",IFERROR(IF(J6="Cancelada",0,MAX(0,F6-N(L6))),""))) | N6: =IF(A6="","",IF(OR(NOT(ISNUMBER(E6)),NOT(ISNUMBER(F6)),J6=""),"Incompleto",IFERROR(IF(J6="Cancelada","Cancelada",IF(AND(ISNUMBER(M6),M6<=0),IF(J6="Paga","Paga","Sem saldo"),IF(E6<TODAY(),"Vencida",IF(E6<=TODAY()+Premissas!$B$5,"A vencer","Futura")))),"Conferir")))
A7: FIC-001 | B7: Projetor fictício para sala multiuso | C7: 4 | D7: 6 | E7: 46311 | F7: 850 | G7: Administração Fictícia | H7: Patrimônio fictício Aurora | I7: Equipe Fictícia Alfa | J7: Prevista | M7: =IF(A7="","",IF(OR(NOT(ISNUMBER(F7)),J7=""),"",IFERROR(IF(J7="Cancelada",0,MAX(0,F7-N(L7))),""))) | N7: =IF(A7="","",IF(OR(NOT(ISNUMBER(E7)),NOT(ISNUMBER(F7)),J7=""),"Incompleto",IFERROR(IF(J7="Cancelada","Cancelada",IF(AND(ISNUMBER(M7),M7<=0),IF(J7="Paga","Paga","Sem saldo"),IF(E7<TODAY(),"Vencida",IF(E7<=TODAY()+Premissas!$B$5,"A vencer","Futura")))),"Conferir")))
A8: FIC-002 | B8: Cadeiras fictícias para auditório cenográfico | C8: 1 | D8: 4 | E8: 46239 | F8: 1250 | G8: Infraestrutura Fictícia | H8: Patrimônio fictício Ipê | I8: Equipe Fictícia Beta | J8: Paga | K8: 46239 | L8: 1250 | M8: =IF(A8="","",IF(OR(NOT(ISNUMBER(F8)),J8=""),"",IFERROR(IF(J8="Cancelada",0,MAX(0,F8-N(L8))),""))) | N8: =IF(A8="","",IF(OR(NOT(ISNUMBER(E8)),NOT(ISNUMBER(F8)),J8=""),"Incompleto",IFERROR(IF(J8="Cancelada","Cancelada",IF(AND(ISNUMBER(M8),M8<=0),IF(J8="Paga","Paga","Sem saldo"),IF(E8<TODAY(),"Vencida",IF(E8<=TODAY()+Premissas!$B$5,"A vencer","Futura")))),"Conferir")))
A9: FIC-002 | B9: Cadeiras fictícias para auditório cenográfico | C9: 2 | D9: 4 | E9: 46290 | F9: 1250 | G9: Infraestrutura Fictícia | H9: Patrimônio fictício Ipê | I9: Equipe Fictícia Beta | J9: Prevista | M9: =IF(A9="","",IF(OR(NOT(ISNUMBER(F9)),J9=""),"",IFERROR(IF(J9="Cancelada",0,MAX(0,F9-N(L9))),""))) | N9: =IF(A9="","",IF(OR(NOT(ISNUMBER(E9)),NOT(ISNUMBER(F9)),J9=""),"Incompleto",IFERROR(IF(J9="Cancelada","Cancelada",IF(AND(ISNUMBER(M9),M9<=0),IF(J9="Paga","Paga","Sem saldo"),IF(E9<TODAY(),"Vencida",IF(E9<=TODAY()+Premissas!$B$5,"A vencer","Futura")))),"Conferir")))
A10: FIC-003 | B10: Locação fictícia para encontro Horizonte | C10: 1 | D10: 3 | E10: 46305 | F10: 1480 | G10: Formação Fictícia | H10: Evento Fictício Horizonte | I10: Equipe Fictícia Gama | J10: Cancelada | M10: =IF(A10="","",IF(OR(NOT(ISNUMBER(F10)),J10=""),"",IFERROR(IF(J10="Cancelada",0,MAX(0,F10-N(L10))),""))) | N10: =IF(A10="","",IF(OR(NOT(ISNUMBER(E10)),NOT(ISNUMBER(F10)),J10=""),"Incompleto",IFERROR(IF(J10="Cancelada","Cancelada",IF(AND(ISNUMBER(M10),M10<=0),IF(J10="Paga","Paga","Sem saldo"),IF(E10<TODAY(),"Vencida",IF(E10<=TODAY()+Premissas!$B$5,"A vencer","Futura")))),"Conferir")))
A11: FIC-003 | B11: Locação fictícia para encontro Horizonte | C11: 2 | D11: 3 | E11: 46336 | F11: 1480 | G11: Formação Fictícia | H11: Evento Fictício Horizonte | I11: Equipe Fictícia Gama | J11: Prevista | M11: =IF(A11="","",IF(OR(NOT(ISNUMBER(F11)),J11=""),"",IFERROR(IF(J11="Cancelada",0,MAX(0,F11-N(L11))),""))) | N11: =IF(A11="","",IF(OR(NOT(ISNUMBER(E11)),NOT(ISNUMBER(F11)),J11=""),"Incompleto",IFERROR(IF(J11="Cancelada","Cancelada",IF(AND(ISNUMBER(M11),M11<=0),IF(J11="Paga","Paga","Sem saldo"),IF(E11<TODAY(),"Vencida",IF(E11<=TODAY()+Premissas!$B$5,"A vencer","Futura")))),"Conferir")))
A12: FIC-004 | B12: Ajuste fictício de iluminação cênica | C12: 1 | D12: 2 | E12: 46285 | F12: 920 | G12: Música Fictícia | H12: Patrimônio fictício Brisa | I12: Equipe Fictícia Delta | J12: Em conferência | L12: 300 | M12: =IF(A12="","",IF(OR(NOT(ISNUMBER(F12)),J12=""),"",IFERROR(IF(J12="Cancelada",0,MAX(0,F12-N(L12))),""))) | N12: =IF(A12="","",IF(OR(NOT(ISNUMBER(E12)),NOT(ISNUMBER(F12)),J12=""),"Incompleto",IFERROR(IF(J12="Cancelada","Cancelada",IF(AND(ISNUMBER(M12),M12<=0),IF(J12="Paga","Paga","Sem saldo"),IF(E12<TODAY(),"Vencida",IF(E12<=TODAY()+Premissas!$B$5,"A vencer","Futura")))),"Conferir")))
A13: FIC-005 | B13: Materiais fictícios para oficina comunitária | C13: 1 | D13: 5 | E13: 46267 | F13: 430 | G13: Ação Comunitária Fictícia | H13: Evento Fictício Semente | I13: Equipe Fictícia Épsilon | J13: Paga | K13: 46267 | L13: 430 | M13: =IF(A13="","",IF(OR(NOT(ISNUMBER(F13)),J13=""),"",IFERROR(IF(J13="Cancelada",0,MAX(0,F13-N(L13))),""))) | N13: =IF(A13="","",IF(OR(NOT(ISNUMBER(E13)),NOT(ISNUMBER(F13)),J13=""),"Incompleto",IFERROR(IF(J13="Cancelada","Cancelada",IF(AND(ISNUMBER(M13),M13<=0),IF(J13="Paga","Paga","Sem saldo"),IF(E13<TODAY(),"Vencida",IF(E13<=TODAY()+Premissas!$B$5,"A vencer","Futura")))),"Conferir")))
A14: FIC-006 | B14: Climatizador cenográfico fictício | C14: 1 | D14: 8 | E14: 46433 | F14: 675 | G14: Infraestrutura Fictícia | H14: Patrimônio fictício Nuvem | I14: Equipe Fictícia Zeta | J14: Prevista | M14: =IF(A14="","",IF(OR(NOT(ISNUMBER(F14)),J14=""),"",IFERROR(IF(J14="Cancelada",0,MAX(0,F14-N(L14))),""))) | N14: =IF(A14="","",IF(OR(NOT(ISNUMBER(E14)),NOT(ISNUMBER(F14)),J14=""),"Incompleto",IFERROR(IF(J14="Cancelada","Cancelada",IF(AND(ISNUMBER(M14),M14<=0),IF(J14="Paga","Paga","Sem saldo"),IF(E14<TODAY(),"Vencida",IF(E14<=TODAY()+Premissas!$B$5,"A vencer","Futura")))),"Conferir")))
M15: =IF(A15="","",IF(OR(NOT(ISNUMBER(F15)),J15=""),"",IFERROR(IF(J15="Cancelada",0,MAX(0,F15-N(L15))),""))) | N15: =IF(A15="","",IF(OR(NOT(ISNUMBER(E15)),NOT(ISNUMBER(F15)),J15=""),"Incompleto",IFERROR(IF(J15="Cancelada","Cancelada",IF(AND(ISNUMBER(M15),M15<=0),IF(J15="Paga","Paga","Sem saldo"),IF(E15<TODAY(),"Vencida",IF(E15<=TODAY()+Premissas!$B$5,"A vencer","Futura")))),"Conferir")))
M16: =IF(A16="","",IF(OR(NOT(ISNUMBER(F16)),J16=""),"",IFERROR(IF(J16="Cancelada",0,MAX(0,F16-N(L16))),""))) | N16: =IF(A16="","",IF(OR(NOT(ISNUMBER(E16)),NOT(ISNUMBER(F16)),J16=""),"Incompleto",IFERROR(IF(J16="Cancelada","Cancelada",IF(AND(ISNUMBER(M16),M16<=0),IF(J16="Paga","Paga","Sem saldo"),IF(E16<TODAY(),"Vencida",IF(E16<=TODAY()+Premissas!$B$5,"A vencer","Futura")))),"Conferir")))
M17: =IF(A17="","",IF(OR(NOT(ISNUMBER(F17)),J17=""),"",IFERROR(IF(J17="Cancelada",0,MAX(0,F17-N(L17))),""))) | N17: =IF(A17="","",IF(OR(NOT(ISNUMBER(E17)),NOT(ISNUMBER(F17)),J17=""),"Incompleto",IFERROR(IF(J17="Cancelada","Cancelada",IF(AND(ISNUMBER(M17),M17<=0),IF(J17="Paga","Paga","Sem saldo"),IF(E17<TODAY(),"Vencida",IF(E17<=TODAY()+Premissas!$B$5,"A vencer","Futura")))),"Conferir")))
M18: =IF(A18="","",IF(OR(NOT(ISNUMBER(F18)),J18=""),"",IFERROR(IF(J18="Cancelada",0,MAX(0,F18-N(L18))),""))) | N18: =IF(A18="","",IF(OR(NOT(ISNUMBER(E18)),NOT(ISNUMBER(F18)),J18=""),"Incompleto",IFERROR(IF(J18="Cancelada","Cancelada",IF(AND(ISNUMBER(M18),M18<=0),IF(J18="Paga","Paga","Sem saldo"),IF(E18<TODAY(),"Vencida",IF(E18<=TODAY()+Premissas!$B$5,"A vencer","Futura")))),"Conferir")))
M19: =IF(A19="","",IF(OR(NOT(ISNUMBER(F19)),J19=""),"",IFERROR(IF(J19="Cancelada",0,MAX(0,F19-N(L19))),""))) | N19: =IF(A19="","",IF(OR(NOT(ISNUMBER(E19)),NOT(ISNUMBER(F19)),J19=""),"Incompleto",IFERROR(IF(J19="Cancelada","Cancelada",IF(AND(ISNUMBER(M19),M19<=0),IF(J19="Paga","Paga","Sem saldo"),IF(E19<TODAY(),"Vencida",IF(E19<=TODAY()+Premissas!$B$5,"A vencer","Futura")))),"Conferir")))
M20: =IF(A20="","",IF(OR(NOT(ISNUMBER(F20)),J20=""),"",IFERROR(IF(J20="Cancelada",0,MAX(0,F20-N(L20))),""))) | N20: =IF(A20="","",IF(OR(NOT(ISNUMBER(E20)),NOT(ISNUMBER(F20)),J20=""),"Incompleto",IFERROR(IF(J20="Cancelada","Cancelada",IF(AND(ISNUMBER(M20),M20<=0),IF(J20="Paga","Paga","Sem saldo"),IF(E20<TODAY(),"Vencida",IF(E20<=TODAY()+Premissas!$B$5,"A vencer","Futura")))),"Conferir")))
M21: =IF(A21="","",IF(OR(NOT(ISNUMBER(F21)),J21=""),"",IFERROR(IF(J21="Cancelada",0,MAX(0,F21-N(L21))),""))) | N21: =IF(A21="","",IF(OR(NOT(ISNUMBER(E21)),NOT(ISNUMBER(F21)),J21=""),"Incompleto",IFERROR(IF(J21="Cancelada","Cancelada",IF(AND(ISNUMBER(M21),M21<=0),IF(J21="Paga","Paga","Sem saldo"),IF(E21<TODAY(),"Vencida",IF(E21<=TODAY()+Premissas!$B$5,"A vencer","Futura")))),"Conferir")))
M22: =IF(A22="","",IF(OR(NOT(ISNUMBER(F22)),J22=""),"",IFERROR(IF(J22="Cancelada",0,MAX(0,F22-N(L22))),""))) | N22: =IF(A22="","",IF(OR(NOT(ISNUMBER(E22)),NOT(ISNUMBER(F22)),J22=""),"Incompleto",IFERROR(IF(J22="Cancelada","Cancelada",IF(AND(ISNUMBER(M22),M22<=0),IF(J22="Paga","Paga","Sem saldo"),IF(E22<TODAY(),"Vencida",IF(E22<=TODAY()+Premissas!$B$5,"A vencer","Futura")))),"Conferir")))
M23: =IF(A23="","",IF(OR(NOT(ISNUMBER(F23)),J23=""),"",IFERROR(IF(J23="Cancelada",0,MAX(0,F23-N(L23))),""))) | N23: =IF(A23="","",IF(OR(NOT(ISNUMBER(E23)),NOT(ISNUMBER(F23)),J23=""),"Incompleto",IFERROR(IF(J23="Cancelada","Cancelada",IF(AND(ISNUMBER(M23),M23<=0),IF(J23="Paga","Paga","Sem saldo"),IF(E23<TODAY(),"Vencida",IF(E23<=TODAY()+Premissas!$B$5,"A vencer","Futura")))),"Conferir")))
M24: =IF(A24="","",IF(OR(NOT(ISNUMBER(F24)),J24=""),"",IFERROR(IF(J24="Cancelada",0,MAX(0,F24-N(L24))),""))) | N24: =IF(A24="","",IF(OR(NOT(ISNUMBER(E24)),NOT(ISNUMBER(F24)),J24=""),"Incompleto",IFERROR(IF(J24="Cancelada","Cancelada",IF(AND(ISNUMBER(M24),M24<=0),IF(J24="Paga","Paga","Sem saldo"),IF(E24<TODAY(),"Vencida",IF(E24<=TODAY()+Premissas!$B$5,"A vencer","Futura")))),"Conferir")))
M25: =IF(A25="","",IF(OR(NOT(ISNUMBER(F25)),J25=""),"",IFERROR(IF(J25="Cancelada",0,MAX(0,F25-N(L25))),""))) | N25: =IF(A25="","",IF(OR(NOT(ISNUMBER(E25)),NOT(ISNUMBER(F25)),J25=""),"Incompleto",IFERROR(IF(J25="Cancelada","Cancelada",IF(AND(ISNUMBER(M25),M25<=0),IF(J25="Paga","Paga","Sem saldo"),IF(E25<TODAY(),"Vencida",IF(E25<=TODAY()+Premissas!$B$5,"A vencer","Futura")))),"Conferir")))
M26: =IF(A26="","",IF(OR(NOT(ISNUMBER(F26)),J26=""),"",IFERROR(IF(J26="Cancelada",0,MAX(0,F26-N(L26))),""))) | N26: =IF(A26="","",IF(OR(NOT(ISNUMBER(E26)),NOT(ISNUMBER(F26)),J26=""),"Incompleto",IFERROR(IF(J26="Cancelada","Cancelada",IF(AND(ISNUMBER(M26),M26<=0),IF(J26="Paga","Paga","Sem saldo"),IF(E26<TODAY(),"Vencida",IF(E26<=TODAY()+Premissas!$B$5,"A vencer","Futura")))),"Conferir")))
... M154: =IF(A154="","",IF(OR(NOT(ISNUMBER(F154)),J154=""),"",IFERROR(IF(J154="Cancelada",0,MAX(0,F154-N(L154))),""))) | N154: =IF(A154="","",IF(OR(NOT(ISNUMBER(E154)),NOT(ISNUMBER(F154)),J154=""),"Incompleto",IFERROR(IF(J154="Cancelada","Cancelada",IF(AND(ISNUMBER(M154),M154<=0),IF(J154="Paga","Paga","Sem saldo"),IF(E154<TODAY(),"Vencida",IF(E154<=TODAY()+Premissas!$B$5,"A vencer","Futura")))),"Conferir")))

Sheet Premissas
A1: Premissas, limites e listas editáveis
A3: Premissa ou limite | B3: Valor editável | C3: Uso no cálculo | D3: Status permitidos | F3: Ministérios fictícios
A4: Início da projeção | B4: 46266 | C4: Primeiro mês do horizonte de 12 meses | D4: Prevista | F4: Administração Fictícia
A5: Dias para alerta de vencimento | B5: 10 | C5: Classificação “A vencer” | D5: Paga | F5: Música Fictícia
A6: Data mínima aceita | B6: 45292 | C6: Validação de datas | D6: Cancelada | F6: Ação Comunitária Fictícia
A7: Data máxima aceita | B7: 48213 | C7: Validação de datas | D7: Em conferência | F7: Formação Fictícia
A8: Máximo de parcelas | B8: 60 | C8: Validação das quantidades | F8: Infraestrutura Fictícia
A9: Valor máximo por parcela | B9: 50000 | C9: Validação dos valores
A12: Critérios de cálculo
A13: O saldo previsto corresponde ao valor previsto menos o valor pago informado.
A14: Parcelas canceladas não entram na projeção de saldo.
A15: “Vencida” e “A vencer” são alertas para conferência humana.
A16: A projeção mensal usa a data de vencimento e o saldo de cada parcela.
A17: Edite limites e listas conforme a rotina administrativa local fictícia.
