Workbook

Sheet Resumo
A1: Prestação de contas da congregação — Resumo
A2: Indicadores calculados pelo período definido em Premissas; lançamentos cancelados são desconsiderados.
A4: Indicador | B4: Resultado | D4: Categoria | E4: Entradas | F4: Saídas
A5: Total de entradas | B5: =IF(OR('Premissas'!$B$4="",'Premissas'!$B$5=""),"",IFERROR(SUMIFS('Lançamentos'!$G$5:$G$104,'Lançamentos'!$B$5:$B$104,"Entrada",'Lançamentos'!$A$5:$A$104,">="&'Premissas'!$B$4,'Lançamentos'!$A$5:$A$104,"<="&'Premissas'!$B$5,'Lançamentos'!$K$5:$K$104,"<>Cancelado"),0)) | D5: Contribuições | E5: =IF(OR('Premissas'!$B$4="",'Premissas'!$B$5=""),"",IFERROR(SUMIFS('Lançamentos'!$G$5:$G$104,'Lançamentos'!$B$5:$B$104,"Entrada",'Lançamentos'!$C$5:$C$104,$D5,'Lançamentos'!$A$5:$A$104,">="&'Premissas'!$B$4,'Lançamentos'!$A$5:$A$104,"<="&'Premissas'!$B$5,'Lançamentos'!$K$5:$K$104,"<>Cancelado"),0)) | F5: =IF(OR('Premissas'!$B$4="",'Premissas'!$B$5=""),"",IFERROR(SUMIFS('Lançamentos'!$G$5:$G$104,'Lançamentos'!$B$5:$B$104,"Saída",'Lançamentos'!$C$5:$C$104,$D5,'Lançamentos'!$A$5:$A$104,">="&'Premissas'!$B$4,'Lançamentos'!$A$5:$A$104,"<="&'Premissas'!$B$5,'Lançamentos'!$K$5:$K$104,"<>Cancelado"),0))
A6: Total de saídas | B6: =IF(OR('Premissas'!$B$4="",'Premissas'!$B$5=""),"",IFERROR(SUMIFS('Lançamentos'!$G$5:$G$104,'Lançamentos'!$B$5:$B$104,"Saída",'Lançamentos'!$A$5:$A$104,">="&'Premissas'!$B$4,'Lançamentos'!$A$5:$A$104,"<="&'Premissas'!$B$5,'Lançamentos'!$K$5:$K$104,"<>Cancelado"),0)) | D6: Ofertas | E6: =IF(OR('Premissas'!$B$4="",'Premissas'!$B$5=""),"",IFERROR(SUMIFS('Lançamentos'!$G$5:$G$104,'Lançamentos'!$B$5:$B$104,"Entrada",'Lançamentos'!$C$5:$C$104,$D6,'Lançamentos'!$A$5:$A$104,">="&'Premissas'!$B$4,'Lançamentos'!$A$5:$A$104,"<="&'Premissas'!$B$5,'Lançamentos'!$K$5:$K$104,"<>Cancelado"),0)) | F6: =IF(OR('Premissas'!$B$4="",'Premissas'!$B$5=""),"",IFERROR(SUMIFS('Lançamentos'!$G$5:$G$104,'Lançamentos'!$B$5:$B$104,"Saída",'Lançamentos'!$C$5:$C$104,$D6,'Lançamentos'!$A$5:$A$104,">="&'Premissas'!$B$4,'Lançamentos'!$A$5:$A$104,"<="&'Premissas'!$B$5,'Lançamentos'!$K$5:$K$104,"<>Cancelado"),0))
A7: Saldo do período | B7: =IF(OR(B5="",B6=""),"",IFERROR(B5-B6,0)) | D7: Eventos | E7: =IF(OR('Premissas'!$B$4="",'Premissas'!$B$5=""),"",IFERROR(SUMIFS('Lançamentos'!$G$5:$G$104,'Lançamentos'!$B$5:$B$104,"Entrada",'Lançamentos'!$C$5:$C$104,$D7,'Lançamentos'!$A$5:$A$104,">="&'Premissas'!$B$4,'Lançamentos'!$A$5:$A$104,"<="&'Premissas'!$B$5,'Lançamentos'!$K$5:$K$104,"<>Cancelado"),0)) | F7: =IF(OR('Premissas'!$B$4="",'Premissas'!$B$5=""),"",IFERROR(SUMIFS('Lançamentos'!$G$5:$G$104,'Lançamentos'!$B$5:$B$104,"Saída",'Lançamentos'!$C$5:$C$104,$D7,'Lançamentos'!$A$5:$A$104,">="&'Premissas'!$B$4,'Lançamentos'!$A$5:$A$104,"<="&'Premissas'!$B$5,'Lançamentos'!$K$5:$K$104,"<>Cancelado"),0))
A8: Lançamentos considerados | B8: =IF(OR('Premissas'!$B$4="",'Premissas'!$B$5=""),"",IFERROR(COUNTIFS('Lançamentos'!$A$5:$A$104,">="&'Premissas'!$B$4,'Lançamentos'!$A$5:$A$104,"<="&'Premissas'!$B$5,'Lançamentos'!$K$5:$K$104,"<>Cancelado"),0)) | D8: Manutenção | E8: =IF(OR('Premissas'!$B$4="",'Premissas'!$B$5=""),"",IFERROR(SUMIFS('Lançamentos'!$G$5:$G$104,'Lançamentos'!$B$5:$B$104,"Entrada",'Lançamentos'!$C$5:$C$104,$D8,'Lançamentos'!$A$5:$A$104,">="&'Premissas'!$B$4,'Lançamentos'!$A$5:$A$104,"<="&'Premissas'!$B$5,'Lançamentos'!$K$5:$K$104,"<>Cancelado"),0)) | F8: =IF(OR('Premissas'!$B$4="",'Premissas'!$B$5=""),"",IFERROR(SUMIFS('Lançamentos'!$G$5:$G$104,'Lançamentos'!$B$5:$B$104,"Saída",'Lançamentos'!$C$5:$C$104,$D8,'Lançamentos'!$A$5:$A$104,">="&'Premissas'!$B$4,'Lançamentos'!$A$5:$A$104,"<="&'Premissas'!$B$5,'Lançamentos'!$K$5:$K$104,"<>Cancelado"),0))
A9: Pendências | B9: =IF(OR('Premissas'!$B$4="",'Premissas'!$B$5=""),"",IFERROR(COUNTIFS('Lançamentos'!$A$5:$A$104,">="&'Premissas'!$B$4,'Lançamentos'!$A$5:$A$104,"<="&'Premissas'!$B$5,'Lançamentos'!$K$5:$K$104,"Pendente"),0)) | D9: Materiais | E9: =IF(OR('Premissas'!$B$4="",'Premissas'!$B$5=""),"",IFERROR(SUMIFS('Lançamentos'!$G$5:$G$104,'Lançamentos'!$B$5:$B$104,"Entrada",'Lançamentos'!$C$5:$C$104,$D9,'Lançamentos'!$A$5:$A$104,">="&'Premissas'!$B$4,'Lançamentos'!$A$5:$A$104,"<="&'Premissas'!$B$5,'Lançamentos'!$K$5:$K$104,"<>Cancelado"),0)) | F9: =IF(OR('Premissas'!$B$4="",'Premissas'!$B$5=""),"",IFERROR(SUMIFS('Lançamentos'!$G$5:$G$104,'Lançamentos'!$B$5:$B$104,"Saída",'Lançamentos'!$C$5:$C$104,$D9,'Lançamentos'!$A$5:$A$104,">="&'Premissas'!$B$4,'Lançamentos'!$A$5:$A$104,"<="&'Premissas'!$B$5,'Lançamentos'!$K$5:$K$104,"<>Cancelado"),0))
A10: Pendências fora do prazo | B10: =IF(OR(OR('Premissas'!$B$4="",'Premissas'!$B$5=""),'Premissas'!$B$7=""),"",IFERROR(COUNTIFS('Lançamentos'!$A$5:$A$104,">="&'Premissas'!$B$4,'Lançamentos'!$A$5:$A$104,"<="&'Premissas'!$B$5,'Lançamentos'!$A$5:$A$104,"<"&(TODAY()-'Premissas'!$B$7),'Lançamentos'!$K$5:$K$104,"Pendente"),0)) | D10: Ação social | E10: =IF(OR('Premissas'!$B$4="",'Premissas'!$B$5=""),"",IFERROR(SUMIFS('Lançamentos'!$G$5:$G$104,'Lançamentos'!$B$5:$B$104,"Entrada",'Lançamentos'!$C$5:$C$104,$D10,'Lançamentos'!$A$5:$A$104,">="&'Premissas'!$B$4,'Lançamentos'!$A$5:$A$104,"<="&'Premissas'!$B$5,'Lançamentos'!$K$5:$K$104,"<>Cancelado"),0)) | F10: =IF(OR('Premissas'!$B$4="",'Premissas'!$B$5=""),"",IFERROR(SUMIFS('Lançamentos'!$G$5:$G$104,'Lançamentos'!$B$5:$B$104,"Saída",'Lançamentos'!$C$5:$C$104,$D10,'Lançamentos'!$A$5:$A$104,">="&'Premissas'!$B$4,'Lançamentos'!$A$5:$A$104,"<="&'Premissas'!$B$5,'Lançamentos'!$K$5:$K$104,"<>Cancelado"),0))
A11: Valores acima do limite | B11: =IF(OR(OR('Premissas'!$B$4="",'Premissas'!$B$5=""),'Premissas'!$B$6=""),"",IFERROR(COUNTIFS('Lançamentos'!$A$5:$A$104,">="&'Premissas'!$B$4,'Lançamentos'!$A$5:$A$104,"<="&'Premissas'!$B$5,'Lançamentos'!$G$5:$G$104,">"&'Premissas'!$B$6,'Lançamentos'!$K$5:$K$104,"<>Cancelado"),0))
A12: Itens conferidos | B12: =IF(OR('Premissas'!$B$4="",'Premissas'!$B$5=""),"",IFERROR(COUNTIFS('Lançamentos'!$A$5:$A$104,">="&'Premissas'!$B$4,'Lançamentos'!$A$5:$A$104,"<="&'Premissas'!$B$5,'Lançamentos'!$K$5:$K$104,"Conferido"),0))

Sheet Lançamentos
A1: Prestação de contas da congregação — Lançamentos
A2: Preencha as células amarelas. Os alertas servem apenas para conferência humana. | J2: Limite de alerta | K2: =IF('Premissas'!$B$6="","",'Premissas'!$B$6)
A4: Data | B4: Tipo | C4: Categoria | D4: Descrição | E4: Quantidade | F4: Valor unitário | G4: Valor total | H4: Responsável | I4: Ministério | J4: Evento ou patrimônio | K4: Status
A5: 46193 | B5: Entrada | C5: Contribuições | D5: Contribuição coletiva fictícia da reunião Aurora | E5: 1 | F5: 2450 | G5: =IF(OR($A5="",$B5="",$E5="",$F5=""),"",IFERROR($E5*$F5,"")) | H5: Equipe Fictícia Alfa | I5: Administração Fictícia | J5: Reunião Fictícia Aurora | K5: Conferido
A6: 46202 | B6: Saída | C6: Manutenção | D6: Reparo fictício em ventiladores patrimoniais | E6: 2 | F6: 185 | G6: =IF(OR($A6="",$B6="",$E6="",$F6=""),"",IFERROR($E6*$F6,"")) | H6: Equipe Fictícia Beta | I6: Patrimônio Fictício | J6: Patrimônio Fictício VF-01 | K6: Conferido
A7: 46214 | B7: Entrada | C7: Ofertas | D7: Oferta coletiva fictícia do encontro Horizonte | E7: 1 | F7: 980 | G7: =IF(OR($A7="",$B7="",$E7="",$F7=""),"",IFERROR($E7*$F7,"")) | H7: Núcleo Fictício Gama | I7: Celebrações Fictícias | J7: Encontro Fictício Horizonte | K7: Pendente
A8: 46223 | B8: Saída | C8: Materiais | D8: Aquisição fictícia de cadernos administrativos | E8: 12 | F8: 24.9 | G8: =IF(OR($A8="",$B8="",$E8="",$F8=""),"",IFERROR($E8*$F8,"")) | H8: Equipe Fictícia Delta | I8: Secretaria Fictícia | J8: Rotina Fictícia de Escritório | K8: Conferido
A9: 46231 | B9: Entrada | C9: Eventos | D9: Inscrições fictícias da oficina Semente | E9: 40 | F9: 18 | G9: =IF(OR($A9="",$B9="",$E9="",$F9=""),"",IFERROR($E9*$F9,"")) | H9: Equipe Fictícia Épsilon | I9: Formação Fictícia | J9: Oficina Fictícia Semente | K9: Conferido
A10: 46240 | B10: Saída | C10: Ação social | D10: Kits fictícios para atividade comunitária | E10: 15 | F10: 42 | G10: =IF(OR($A10="",$B10="",$E10="",$F10=""),"",IFERROR($E10*$F10,"")) | H10: Núcleo Fictício Zeta | I10: Ação Social Fictícia | J10: Atividade Fictícia Ponte | K10: Pendente
A11: 46249 | B11: Saída | C11: Manutenção | D11: Serviço fictício cancelado antes da execução | E11: 1 | F11: 1250 | G11: =IF(OR($A11="",$B11="",$E11="",$F11=""),"",IFERROR($E11*$F11,"")) | H11: Equipe Fictícia Eta | I11: Patrimônio Fictício | J11: Patrimônio Fictício SL-02 | K11: Cancelado
A12: 46257 | B12: Entrada | C12: Contribuições | D12: Contribuição coletiva fictícia da reunião Farol | E12: 1 | F12: 3100 | G12: =IF(OR($A12="",$B12="",$E12="",$F12=""),"",IFERROR($E12*$F12,"")) | H12: Núcleo Fictício Teta | I12: Administração Fictícia | J12: Reunião Fictícia Farol | K12: Conferido
A13: 46266 | B13: Saída | C13: Materiais | D13: Materiais fictícios para sinalização interna | E13: 6 | F13: 59.5 | G13: =IF(OR($A13="",$B13="",$E13="",$F13=""),"",IFERROR($E13*$F13,"")) | H13: Equipe Fictícia Iota | I13: Acolhimento Fictício | J13: Projeto Fictício Boas-vindas | K13: Conferido
A14: 46272 | B14: Entrada | C14: Ofertas | D14: Oferta coletiva fictícia da reunião Jardim | E14: 1 | F14: 1275.5 | G14: =IF(OR($A14="",$B14="",$E14="",$F14=""),"",IFERROR($E14*$F14,"")) | H14: Núcleo Fictício Kappa | I14: Celebrações Fictícias | J14: Reunião Fictícia Jardim | K14: Pendente
G15: =IF(OR($A15="",$B15="",$E15="",$F15=""),"",IFERROR($E15*$F15,""))
G16: =IF(OR($A16="",$B16="",$E16="",$F16=""),"",IFERROR($E16*$F16,""))
G17: =IF(OR($A17="",$B17="",$E17="",$F17=""),"",IFERROR($E17*$F17,""))
G18: =IF(OR($A18="",$B18="",$E18="",$F18=""),"",IFERROR($E18*$F18,""))
G19: =IF(OR($A19="",$B19="",$E19="",$F19=""),"",IFERROR($E19*$F19,""))
G20: =IF(OR($A20="",$B20="",$E20="",$F20=""),"",IFERROR($E20*$F20,""))
G21: =IF(OR($A21="",$B21="",$E21="",$F21=""),"",IFERROR($E21*$F21,""))
G22: =IF(OR($A22="",$B22="",$E22="",$F22=""),"",IFERROR($E22*$F22,""))
G23: =IF(OR($A23="",$B23="",$E23="",$F23=""),"",IFERROR($E23*$F23,""))
G24: =IF(OR($A24="",$B24="",$E24="",$F24=""),"",IFERROR($E24*$F24,""))
G25: =IF(OR($A25="",$B25="",$E25="",$F25=""),"",IFERROR($E25*$F25,""))
G26: =IF(OR($A26="",$B26="",$E26="",$F26=""),"",IFERROR($E26*$F26,""))
... G104: =IF(OR($A104="",$B104="",$E104="",$F104=""),"",IFERROR($E104*$F104,""))

Sheet Premissas
A1: Prestação de contas da congregação — Premissas
A2: Parâmetros editáveis; alertas apenas sinalizam itens para conferência humana.
A3: Premissa | B3: Valor | C3: Uso | D3: Campo validado | E3: Opções padronizadas
A4: Início do período | B4: 46174 | C4: Data inicial considerada no Resumo. | D4: Tipo | E4: Entrada; Saída
A5: Fim do período | B5: 46275 | C5: Data final considerada no Resumo. | D5: Status | E5: Conferido; Pendente; Cancelado
A6: Limite para alerta de valor | B6: 2500 | C6: Valores maiores pedem conferência humana. | D6: Categoria | E6: Contribuições; Ofertas; Eventos; Manutenção; Materiais; Ação social
A7: Prazo de conferência em dias | B7: 15 | C7: Pendências mais antigas aparecem no Resumo. | D7: Observação | E7: As opções das listas são estáveis neste modelo.
