Workbook

Sheet Resumo
A1: Resumo do orçamento anual — Congregação Fictícia Horizonte
A2: Indicadores calculados a partir dos lançamentos do ano definido em Premissas.
A3: Indicador | B3: Valor | C3: Indicador | D3: Valor | E3: Indicador | F3: Valor | G3: Indicador | H3: Valor
A4: Receitas previstas | B4: =IF(COUNTIFS('Orçamento'!$A$5:$A$104,">="&Premissas!$B$6,'Orçamento'!$A$5:$A$104,"<="&Premissas!$B$7,'Orçamento'!$C$5:$C$104,"Receita",'Orçamento'!$G$5:$G$104,"<>")=0,"",SUMIFS('Orçamento'!$G$5:$G$104,'Orçamento'!$A$5:$A$104,">="&Premissas!$B$6,'Orçamento'!$A$5:$A$104,"<="&Premissas!$B$7,'Orçamento'!$C$5:$C$104,"Receita")) | C4: Despesas previstas | D4: =IF(COUNTIFS('Orçamento'!$A$5:$A$104,">="&Premissas!$B$6,'Orçamento'!$A$5:$A$104,"<="&Premissas!$B$7,'Orçamento'!$C$5:$C$104,"Despesa",'Orçamento'!$G$5:$G$104,"<>")=0,"",SUMIFS('Orçamento'!$G$5:$G$104,'Orçamento'!$A$5:$A$104,">="&Premissas!$B$6,'Orçamento'!$A$5:$A$104,"<="&Premissas!$B$7,'Orçamento'!$C$5:$C$104,"Despesa")) | E4: Saldo previsto | F4: =IF(COUNTIFS('Orçamento'!$A$5:$A$104,">="&Premissas!$B$6,'Orçamento'!$A$5:$A$104,"<="&Premissas!$B$7,'Orçamento'!$G$5:$G$104,"<>")=0,"",SUMIFS('Orçamento'!$G$5:$G$104,'Orçamento'!$A$5:$A$104,">="&Premissas!$B$6,'Orçamento'!$A$5:$A$104,"<="&Premissas!$B$7,'Orçamento'!$C$5:$C$104,"Receita")-SUMIFS('Orçamento'!$G$5:$G$104,'Orçamento'!$A$5:$A$104,">="&Premissas!$B$6,'Orçamento'!$A$5:$A$104,"<="&Premissas!$B$7,'Orçamento'!$C$5:$C$104,"Despesa")) | G4: Alertas para conferir | H4: =COUNTIFS('Orçamento'!$A$5:$A$104,">="&Premissas!$B$6,'Orçamento'!$A$5:$A$104,"<="&Premissas!$B$7,'Orçamento'!$K$5:$K$104,"Conferir*")
A5: Receitas realizadas | B5: =IF(COUNTIFS('Orçamento'!$A$5:$A$104,">="&Premissas!$B$6,'Orçamento'!$A$5:$A$104,"<="&Premissas!$B$7,'Orçamento'!$C$5:$C$104,"Receita",'Orçamento'!$H$5:$H$104,"<>")=0,"",SUMIFS('Orçamento'!$H$5:$H$104,'Orçamento'!$A$5:$A$104,">="&Premissas!$B$6,'Orçamento'!$A$5:$A$104,"<="&Premissas!$B$7,'Orçamento'!$C$5:$C$104,"Receita")) | C5: Despesas realizadas | D5: =IF(COUNTIFS('Orçamento'!$A$5:$A$104,">="&Premissas!$B$6,'Orçamento'!$A$5:$A$104,"<="&Premissas!$B$7,'Orçamento'!$C$5:$C$104,"Despesa",'Orçamento'!$H$5:$H$104,"<>")=0,"",SUMIFS('Orçamento'!$H$5:$H$104,'Orçamento'!$A$5:$A$104,">="&Premissas!$B$6,'Orçamento'!$A$5:$A$104,"<="&Premissas!$B$7,'Orçamento'!$C$5:$C$104,"Despesa")) | E5: Saldo realizado | F5: =IF(COUNTIFS('Orçamento'!$A$5:$A$104,">="&Premissas!$B$6,'Orçamento'!$A$5:$A$104,"<="&Premissas!$B$7,'Orçamento'!$H$5:$H$104,"<>")=0,"",SUMIFS('Orçamento'!$H$5:$H$104,'Orçamento'!$A$5:$A$104,">="&Premissas!$B$6,'Orçamento'!$A$5:$A$104,"<="&Premissas!$B$7,'Orçamento'!$C$5:$C$104,"Receita")-SUMIFS('Orçamento'!$H$5:$H$104,'Orçamento'!$A$5:$A$104,">="&Premissas!$B$6,'Orçamento'!$A$5:$A$104,"<="&Premissas!$B$7,'Orçamento'!$C$5:$C$104,"Despesa")) | G5: Registros no ano | H5: =COUNTIFS('Orçamento'!$A$5:$A$104,">="&Premissas!$B$6,'Orçamento'!$A$5:$A$104,"<="&Premissas!$B$7)
A10: Análise mensal
A11: Mês | B11: Receitas previstas | C11: Receitas realizadas | D11: Despesas previstas | E11: Despesas realizadas | F11: Saldo previsto | G11: Saldo realizado
A12: =DATE(Premissas!$B$4,1,1) | B12: =IF(COUNTIFS('Orçamento'!$A$5:$A$104,">="&$A12,'Orçamento'!$A$5:$A$104,"<"&DATE(YEAR($A12),MONTH($A12)+1,1),'Orçamento'!$C$5:$C$104,"Receita",'Orçamento'!$G$5:$G$104,"<>")=0,"",SUMIFS('Orçamento'!$G$5:$G$104,'Orçamento'!$A$5:$A$104,">="&$A12,'Orçamento'!$A$5:$A$104,"<"&DATE(YEAR($A12),MONTH($A12)+1,1),'Orçamento'!$C$5:$C$104,"Receita")) | C12: =IF(COUNTIFS('Orçamento'!$A$5:$A$104,">="&$A12,'Orçamento'!$A$5:$A$104,"<"&DATE(YEAR($A12),MONTH($A12)+1,1),'Orçamento'!$C$5:$C$104,"Receita",'Orçamento'!$H$5:$H$104,"<>")=0,"",SUMIFS('Orçamento'!$H$5:$H$104,'Orçamento'!$A$5:$A$104,">="&$A12,'Orçamento'!$A$5:$A$104,"<"&DATE(YEAR($A12),MONTH($A12)+1,1),'Orçamento'!$C$5:$C$104,"Receita")) | D12: =IF(COUNTIFS('Orçamento'!$A$5:$A$104,">="&$A12,'Orçamento'!$A$5:$A$104,"<"&DATE(YEAR($A12),MONTH($A12)+1,1),'Orçamento'!$C$5:$C$104,"Despesa",'Orçamento'!$G$5:$G$104,"<>")=0,"",SUMIFS('Orçamento'!$G$5:$G$104,'Orçamento'!$A$5:$A$104,">="&$A12,'Orçamento'!$A$5:$A$104,"<"&DATE(YEAR($A12),MONTH($A12)+1,1),'Orçamento'!$C$5:$C$104,"Despesa")) | E12: =IF(COUNTIFS('Orçamento'!$A$5:$A$104,">="&$A12,'Orçamento'!$A$5:$A$104,"<"&DATE(YEAR($A12),MONTH($A12)+1,1),'Orçamento'!$C$5:$C$104,"Despesa",'Orçamento'!$H$5:$H$104,"<>")=0,"",SUMIFS('Orçamento'!$H$5:$H$104,'Orçamento'!$A$5:$A$104,">="&$A12,'Orçamento'!$A$5:$A$104,"<"&DATE(YEAR($A12),MONTH($A12)+1,1),'Orçamento'!$C$5:$C$104,"Despesa")) | F12: =IF(COUNTIFS('Orçamento'!$A$5:$A$104,">="&$A12,'Orçamento'!$A$5:$A$104,"<"&DATE(YEAR($A12),MONTH($A12)+1,1),'Orçamento'!$G$5:$G$104,"<>")=0,"",SUMIFS('Orçamento'!$G$5:$G$104,'Orçamento'!$A$5:$A$104,">="&$A12,'Orçamento'!$A$5:$A$104,"<"&DATE(YEAR($A12),MONTH($A12)+1,1),'Orçamento'!$C$5:$C$104,"Receita")-SUMIFS('Orçamento'!$G$5:$G$104,'Orçamento'!$A$5:$A$104,">="&$A12,'Orçamento'!$A$5:$A$104,"<"&DATE(YEAR($A12),MONTH($A12)+1,1),'Orçamento'!$C$5:$C$104,"Despesa")) | G12: =IF(COUNTIFS('Orçamento'!$A$5:$A$104,">="&$A12,'Orçamento'!$A$5:$A$104,"<"&DATE(YEAR($A12),MONTH($A12)+1,1),'Orçamento'!$H$5:$H$104,"<>")=0,"",SUMIFS('Orçamento'!$H$5:$H$104,'Orçamento'!$A$5:$A$104,">="&$A12,'Orçamento'!$A$5:$A$104,"<"&DATE(YEAR($A12),MONTH($A12)+1,1),'Orçamento'!$C$5:$C$104,"Receita")-SUMIFS('Orçamento'!$H$5:$H$104,'Orçamento'!$A$5:$A$104,">="&$A12,'Orçamento'!$A$5:$A$104,"<"&DATE(YEAR($A12),MONTH($A12)+1,1),'Orçamento'!$C$5:$C$104,"Despesa"))
A13: =DATE(Premissas!$B$4,2,1) | B13: =IF(COUNTIFS('Orçamento'!$A$5:$A$104,">="&$A13,'Orçamento'!$A$5:$A$104,"<"&DATE(YEAR($A13),MONTH($A13)+1,1),'Orçamento'!$C$5:$C$104,"Receita",'Orçamento'!$G$5:$G$104,"<>")=0,"",SUMIFS('Orçamento'!$G$5:$G$104,'Orçamento'!$A$5:$A$104,">="&$A13,'Orçamento'!$A$5:$A$104,"<"&DATE(YEAR($A13),MONTH($A13)+1,1),'Orçamento'!$C$5:$C$104,"Receita")) | C13: =IF(COUNTIFS('Orçamento'!$A$5:$A$104,">="&$A13,'Orçamento'!$A$5:$A$104,"<"&DATE(YEAR($A13),MONTH($A13)+1,1),'Orçamento'!$C$5:$C$104,"Receita",'Orçamento'!$H$5:$H$104,"<>")=0,"",SUMIFS('Orçamento'!$H$5:$H$104,'Orçamento'!$A$5:$A$104,">="&$A13,'Orçamento'!$A$5:$A$104,"<"&DATE(YEAR($A13),MONTH($A13)+1,1),'Orçamento'!$C$5:$C$104,"Receita")) | D13: =IF(COUNTIFS('Orçamento'!$A$5:$A$104,">="&$A13,'Orçamento'!$A$5:$A$104,"<"&DATE(YEAR($A13),MONTH($A13)+1,1),'Orçamento'!$C$5:$C$104,"Despesa",'Orçamento'!$G$5:$G$104,"<>")=0,"",SUMIFS('Orçamento'!$G$5:$G$104,'Orçamento'!$A$5:$A$104,">="&$A13,'Orçamento'!$A$5:$A$104,"<"&DATE(YEAR($A13),MONTH($A13)+1,1),'Orçamento'!$C$5:$C$104,"Despesa")) | E13: =IF(COUNTIFS('Orçamento'!$A$5:$A$104,">="&$A13,'Orçamento'!$A$5:$A$104,"<"&DATE(YEAR($A13),MONTH($A13)+1,1),'Orçamento'!$C$5:$C$104,"Despesa",'Orçamento'!$H$5:$H$104,"<>")=0,"",SUMIFS('Orçamento'!$H$5:$H$104,'Orçamento'!$A$5:$A$104,">="&$A13,'Orçamento'!$A$5:$A$104,"<"&DATE(YEAR($A13),MONTH($A13)+1,1),'Orçamento'!$C$5:$C$104,"Despesa")) | F13: =IF(COUNTIFS('Orçamento'!$A$5:$A$104,">="&$A13,'Orçamento'!$A$5:$A$104,"<"&DATE(YEAR($A13),MONTH($A13)+1,1),'Orçamento'!$G$5:$G$104,"<>")=0,"",SUMIFS('Orçamento'!$G$5:$G$104,'Orçamento'!$A$5:$A$104,">="&$A13,'Orçamento'!$A$5:$A$104,"<"&DATE(YEAR($A13),MONTH($A13)+1,1),'Orçamento'!$C$5:$C$104,"Receita")-SUMIFS('Orçamento'!$G$5:$G$104,'Orçamento'!$A$5:$A$104,">="&$A13,'Orçamento'!$A$5:$A$104,"<"&DATE(YEAR($A13),MONTH($A13)+1,1),'Orçamento'!$C$5:$C$104,"Despesa")) | G13: =IF(COUNTIFS('Orçamento'!$A$5:$A$104,">="&$A13,'Orçamento'!$A$5:$A$104,"<"&DATE(YEAR($A13),MONTH($A13)+1,1),'Orçamento'!$H$5:$H$104,"<>")=0,"",SUMIFS('Orçamento'!$H$5:$H$104,'Orçamento'!$A$5:$A$104,">="&$A13,'Orçamento'!$A$5:$A$104,"<"&DATE(YEAR($A13),MONTH($A13)+1,1),'Orçamento'!$C$5:$C$104,"Receita")-SUMIFS('Orçamento'!$H$5:$H$104,'Orçamento'!$A$5:$A$104,">="&$A13,'Orçamento'!$A$5:$A$104,"<"&DATE(YEAR($A13),MONTH($A13)+1,1),'Orçamento'!$C$5:$C$104,"Despesa"))
A14: =DATE(Premissas!$B$4,3,1) | B14: =IF(COUNTIFS('Orçamento'!$A$5:$A$104,">="&$A14,'Orçamento'!$A$5:$A$104,"<"&DATE(YEAR($A14),MONTH($A14)+1,1),'Orçamento'!$C$5:$C$104,"Receita",'Orçamento'!$G$5:$G$104,"<>")=0,"",SUMIFS('Orçamento'!$G$5:$G$104,'Orçamento'!$A$5:$A$104,">="&$A14,'Orçamento'!$A$5:$A$104,"<"&DATE(YEAR($A14),MONTH($A14)+1,1),'Orçamento'!$C$5:$C$104,"Receita")) | C14: =IF(COUNTIFS('Orçamento'!$A$5:$A$104,">="&$A14,'Orçamento'!$A$5:$A$104,"<"&DATE(YEAR($A14),MONTH($A14)+1,1),'Orçamento'!$C$5:$C$104,"Receita",'Orçamento'!$H$5:$H$104,"<>")=0,"",SUMIFS('Orçamento'!$H$5:$H$104,'Orçamento'!$A$5:$A$104,">="&$A14,'Orçamento'!$A$5:$A$104,"<"&DATE(YEAR($A14),MONTH($A14)+1,1),'Orçamento'!$C$5:$C$104,"Receita")) | D14: =IF(COUNTIFS('Orçamento'!$A$5:$A$104,">="&$A14,'Orçamento'!$A$5:$A$104,"<"&DATE(YEAR($A14),MONTH($A14)+1,1),'Orçamento'!$C$5:$C$104,"Despesa",'Orçamento'!$G$5:$G$104,"<>")=0,"",SUMIFS('Orçamento'!$G$5:$G$104,'Orçamento'!$A$5:$A$104,">="&$A14,'Orçamento'!$A$5:$A$104,"<"&DATE(YEAR($A14),MONTH($A14)+1,1),'Orçamento'!$C$5:$C$104,"Despesa")) | E14: =IF(COUNTIFS('Orçamento'!$A$5:$A$104,">="&$A14,'Orçamento'!$A$5:$A$104,"<"&DATE(YEAR($A14),MONTH($A14)+1,1),'Orçamento'!$C$5:$C$104,"Despesa",'Orçamento'!$H$5:$H$104,"<>")=0,"",SUMIFS('Orçamento'!$H$5:$H$104,'Orçamento'!$A$5:$A$104,">="&$A14,'Orçamento'!$A$5:$A$104,"<"&DATE(YEAR($A14),MONTH($A14)+1,1),'Orçamento'!$C$5:$C$104,"Despesa")) | F14: =IF(COUNTIFS('Orçamento'!$A$5:$A$104,">="&$A14,'Orçamento'!$A$5:$A$104,"<"&DATE(YEAR($A14),MONTH($A14)+1,1),'Orçamento'!$G$5:$G$104,"<>")=0,"",SUMIFS('Orçamento'!$G$5:$G$104,'Orçamento'!$A$5:$A$104,">="&$A14,'Orçamento'!$A$5:$A$104,"<"&DATE(YEAR($A14),MONTH($A14)+1,1),'Orçamento'!$C$5:$C$104,"Receita")-SUMIFS('Orçamento'!$G$5:$G$104,'Orçamento'!$A$5:$A$104,">="&$A14,'Orçamento'!$A$5:$A$104,"<"&DATE(YEAR($A14),MONTH($A14)+1,1),'Orçamento'!$C$5:$C$104,"Despesa")) | G14: =IF(COUNTIFS('Orçamento'!$A$5:$A$104,">="&$A14,'Orçamento'!$A$5:$A$104,"<"&DATE(YEAR($A14),MONTH($A14)+1,1),'Orçamento'!$H$5:$H$104,"<>")=0,"",SUMIFS('Orçamento'!$H$5:$H$104,'Orçamento'!$A$5:$A$104,">="&$A14,'Orçamento'!$A$5:$A$104,"<"&DATE(YEAR($A14),MONTH($A14)+1,1),'Orçamento'!$C$5:$C$104,"Receita")-SUMIFS('Orçamento'!$H$5:$H$104,'Orçamento'!$A$5:$A$104,">="&$A14,'Orçamento'!$A$5:$A$104,"<"&DATE(YEAR($A14),MONTH($A14)+1,1),'Orçamento'!$C$5:$C$104,"Despesa"))
A15: =DATE(Premissas!$B$4,4,1) | B15: =IF(COUNTIFS('Orçamento'!$A$5:$A$104,">="&$A15,'Orçamento'!$A$5:$A$104,"<"&DATE(YEAR($A15),MONTH($A15)+1,1),'Orçamento'!$C$5:$C$104,"Receita",'Orçamento'!$G$5:$G$104,"<>")=0,"",SUMIFS('Orçamento'!$G$5:$G$104,'Orçamento'!$A$5:$A$104,">="&$A15,'Orçamento'!$A$5:$A$104,"<"&DATE(YEAR($A15),MONTH($A15)+1,1),'Orçamento'!$C$5:$C$104,"Receita")) | C15: =IF(COUNTIFS('Orçamento'!$A$5:$A$104,">="&$A15,'Orçamento'!$A$5:$A$104,"<"&DATE(YEAR($A15),MONTH($A15)+1,1),'Orçamento'!$C$5:$C$104,"Receita",'Orçamento'!$H$5:$H$104,"<>")=0,"",SUMIFS('Orçamento'!$H$5:$H$104,'Orçamento'!$A$5:$A$104,">="&$A15,'Orçamento'!$A$5:$A$104,"<"&DATE(YEAR($A15),MONTH($A15)+1,1),'Orçamento'!$C$5:$C$104,"Receita")) | D15: =IF(COUNTIFS('Orçamento'!$A$5:$A$104,">="&$A15,'Orçamento'!$A$5:$A$104,"<"&DATE(YEAR($A15),MONTH($A15)+1,1),'Orçamento'!$C$5:$C$104,"Despesa",'Orçamento'!$G$5:$G$104,"<>")=0,"",SUMIFS('Orçamento'!$G$5:$G$104,'Orçamento'!$A$5:$A$104,">="&$A15,'Orçamento'!$A$5:$A$104,"<"&DATE(YEAR($A15),MONTH($A15)+1,1),'Orçamento'!$C$5:$C$104,"Despesa")) | E15: =IF(COUNTIFS('Orçamento'!$A$5:$A$104,">="&$A15,'Orçamento'!$A$5:$A$104,"<"&DATE(YEAR($A15),MONTH($A15)+1,1),'Orçamento'!$C$5:$C$104,"Despesa",'Orçamento'!$H$5:$H$104,"<>")=0,"",SUMIFS('Orçamento'!$H$5:$H$104,'Orçamento'!$A$5:$A$104,">="&$A15,'Orçamento'!$A$5:$A$104,"<"&DATE(YEAR($A15),MONTH($A15)+1,1),'Orçamento'!$C$5:$C$104,"Despesa")) | F15: =IF(COUNTIFS('Orçamento'!$A$5:$A$104,">="&$A15,'Orçamento'!$A$5:$A$104,"<"&DATE(YEAR($A15),MONTH($A15)+1,1),'Orçamento'!$G$5:$G$104,"<>")=0,"",SUMIFS('Orçamento'!$G$5:$G$104,'Orçamento'!$A$5:$A$104,">="&$A15,'Orçamento'!$A$5:$A$104,"<"&DATE(YEAR($A15),MONTH($A15)+1,1),'Orçamento'!$C$5:$C$104,"Receita")-SUMIFS('Orçamento'!$G$5:$G$104,'Orçamento'!$A$5:$A$104,">="&$A15,'Orçamento'!$A$5:$A$104,"<"&DATE(YEAR($A15),MONTH($A15)+1,1),'Orçamento'!$C$5:$C$104,"Despesa")) | G15: =IF(COUNTIFS('Orçamento'!$A$5:$A$104,">="&$A15,'Orçamento'!$A$5:$A$104,"<"&DATE(YEAR($A15),MONTH($A15)+1,1),'Orçamento'!$H$5:$H$104,"<>")=0,"",SUMIFS('Orçamento'!$H$5:$H$104,'Orçamento'!$A$5:$A$104,">="&$A15,'Orçamento'!$A$5:$A$104,"<"&DATE(YEAR($A15),MONTH($A15)+1,1),'Orçamento'!$C$5:$C$104,"Receita")-SUMIFS('Orçamento'!$H$5:$H$104,'Orçamento'!$A$5:$A$104,">="&$A15,'Orçamento'!$A$5:$A$104,"<"&DATE(YEAR($A15),MONTH($A15)+1,1),'Orçamento'!$C$5:$C$104,"Despesa"))
A16: =DATE(Premissas!$B$4,5,1) | B16: =IF(COUNTIFS('Orçamento'!$A$5:$A$104,">="&$A16,'Orçamento'!$A$5:$A$104,"<"&DATE(YEAR($A16),MONTH($A16)+1,1),'Orçamento'!$C$5:$C$104,"Receita",'Orçamento'!$G$5:$G$104,"<>")=0,"",SUMIFS('Orçamento'!$G$5:$G$104,'Orçamento'!$A$5:$A$104,">="&$A16,'Orçamento'!$A$5:$A$104,"<"&DATE(YEAR($A16),MONTH($A16)+1,1),'Orçamento'!$C$5:$C$104,"Receita")) | C16: =IF(COUNTIFS('Orçamento'!$A$5:$A$104,">="&$A16,'Orçamento'!$A$5:$A$104,"<"&DATE(YEAR($A16),MONTH($A16)+1,1),'Orçamento'!$C$5:$C$104,"Receita",'Orçamento'!$H$5:$H$104,"<>")=0,"",SUMIFS('Orçamento'!$H$5:$H$104,'Orçamento'!$A$5:$A$104,">="&$A16,'Orçamento'!$A$5:$A$104,"<"&DATE(YEAR($A16),MONTH($A16)+1,1),'Orçamento'!$C$5:$C$104,"Receita")) | D16: =IF(COUNTIFS('Orçamento'!$A$5:$A$104,">="&$A16,'Orçamento'!$A$5:$A$104,"<"&DATE(YEAR($A16),MONTH($A16)+1,1),'Orçamento'!$C$5:$C$104,"Despesa",'Orçamento'!$G$5:$G$104,"<>")=0,"",SUMIFS('Orçamento'!$G$5:$G$104,'Orçamento'!$A$5:$A$104,">="&$A16,'Orçamento'!$A$5:$A$104,"<"&DATE(YEAR($A16),MONTH($A16)+1,1),'Orçamento'!$C$5:$C$104,"Despesa")) | E16: =IF(COUNTIFS('Orçamento'!$A$5:$A$104,">="&$A16,'Orçamento'!$A$5:$A$104,"<"&DATE(YEAR($A16),MONTH($A16)+1,1),'Orçamento'!$C$5:$C$104,"Despesa",'Orçamento'!$H$5:$H$104,"<>")=0,"",SUMIFS('Orçamento'!$H$5:$H$104,'Orçamento'!$A$5:$A$104,">="&$A16,'Orçamento'!$A$5:$A$104,"<"&DATE(YEAR($A16),MONTH($A16)+1,1),'Orçamento'!$C$5:$C$104,"Despesa")) | F16: =IF(COUNTIFS('Orçamento'!$A$5:$A$104,">="&$A16,'Orçamento'!$A$5:$A$104,"<"&DATE(YEAR($A16),MONTH($A16)+1,1),'Orçamento'!$G$5:$G$104,"<>")=0,"",SUMIFS('Orçamento'!$G$5:$G$104,'Orçamento'!$A$5:$A$104,">="&$A16,'Orçamento'!$A$5:$A$104,"<"&DATE(YEAR($A16),MONTH($A16)+1,1),'Orçamento'!$C$5:$C$104,"Receita")-SUMIFS('Orçamento'!$G$5:$G$104,'Orçamento'!$A$5:$A$104,">="&$A16,'Orçamento'!$A$5:$A$104,"<"&DATE(YEAR($A16),MONTH($A16)+1,1),'Orçamento'!$C$5:$C$104,"Despesa")) | G16: =IF(COUNTIFS('Orçamento'!$A$5:$A$104,">="&$A16,'Orçamento'!$A$5:$A$104,"<"&DATE(YEAR($A16),MONTH($A16)+1,1),'Orçamento'!$H$5:$H$104,"<>")=0,"",SUMIFS('Orçamento'!$H$5:$H$104,'Orçamento'!$A$5:$A$104,">="&$A16,'Orçamento'!$A$5:$A$104,"<"&DATE(YEAR($A16),MONTH($A16)+1,1),'Orçamento'!$C$5:$C$104,"Receita")-SUMIFS('Orçamento'!$H$5:$H$104,'Orçamento'!$A$5:$A$104,">="&$A16,'Orçamento'!$A$5:$A$104,"<"&DATE(YEAR($A16),MONTH($A16)+1,1),'Orçamento'!$C$5:$C$104,"Despesa"))
A17: =DATE(Premissas!$B$4,6,1) | B17: =IF(COUNTIFS('Orçamento'!$A$5:$A$104,">="&$A17,'Orçamento'!$A$5:$A$104,"<"&DATE(YEAR($A17),MONTH($A17)+1,1),'Orçamento'!$C$5:$C$104,"Receita",'Orçamento'!$G$5:$G$104,"<>")=0,"",SUMIFS('Orçamento'!$G$5:$G$104,'Orçamento'!$A$5:$A$104,">="&$A17,'Orçamento'!$A$5:$A$104,"<"&DATE(YEAR($A17),MONTH($A17)+1,1),'Orçamento'!$C$5:$C$104,"Receita")) | C17: =IF(COUNTIFS('Orçamento'!$A$5:$A$104,">="&$A17,'Orçamento'!$A$5:$A$104,"<"&DATE(YEAR($A17),MONTH($A17)+1,1),'Orçamento'!$C$5:$C$104,"Receita",'Orçamento'!$H$5:$H$104,"<>")=0,"",SUMIFS('Orçamento'!$H$5:$H$104,'Orçamento'!$A$5:$A$104,">="&$A17,'Orçamento'!$A$5:$A$104,"<"&DATE(YEAR($A17),MONTH($A17)+1,1),'Orçamento'!$C$5:$C$104,"Receita")) | D17: =IF(COUNTIFS('Orçamento'!$A$5:$A$104,">="&$A17,'Orçamento'!$A$5:$A$104,"<"&DATE(YEAR($A17),MONTH($A17)+1,1),'Orçamento'!$C$5:$C$104,"Despesa",'Orçamento'!$G$5:$G$104,"<>")=0,"",SUMIFS('Orçamento'!$G$5:$G$104,'Orçamento'!$A$5:$A$104,">="&$A17,'Orçamento'!$A$5:$A$104,"<"&DATE(YEAR($A17),MONTH($A17)+1,1),'Orçamento'!$C$5:$C$104,"Despesa")) | E17: =IF(COUNTIFS('Orçamento'!$A$5:$A$104,">="&$A17,'Orçamento'!$A$5:$A$104,"<"&DATE(YEAR($A17),MONTH($A17)+1,1),'Orçamento'!$C$5:$C$104,"Despesa",'Orçamento'!$H$5:$H$104,"<>")=0,"",SUMIFS('Orçamento'!$H$5:$H$104,'Orçamento'!$A$5:$A$104,">="&$A17,'Orçamento'!$A$5:$A$104,"<"&DATE(YEAR($A17),MONTH($A17)+1,1),'Orçamento'!$C$5:$C$104,"Despesa")) | F17: =IF(COUNTIFS('Orçamento'!$A$5:$A$104,">="&$A17,'Orçamento'!$A$5:$A$104,"<"&DATE(YEAR($A17),MONTH($A17)+1,1),'Orçamento'!$G$5:$G$104,"<>")=0,"",SUMIFS('Orçamento'!$G$5:$G$104,'Orçamento'!$A$5:$A$104,">="&$A17,'Orçamento'!$A$5:$A$104,"<"&DATE(YEAR($A17),MONTH($A17)+1,1),'Orçamento'!$C$5:$C$104,"Receita")-SUMIFS('Orçamento'!$G$5:$G$104,'Orçamento'!$A$5:$A$104,">="&$A17,'Orçamento'!$A$5:$A$104,"<"&DATE(YEAR($A17),MONTH($A17)+1,1),'Orçamento'!$C$5:$C$104,"Despesa")) | G17: =IF(COUNTIFS('Orçamento'!$A$5:$A$104,">="&$A17,'Orçamento'!$A$5:$A$104,"<"&DATE(YEAR($A17),MONTH($A17)+1,1),'Orçamento'!$H$5:$H$104,"<>")=0,"",SUMIFS('Orçamento'!$H$5:$H$104,'Orçamento'!$A$5:$A$104,">="&$A17,'Orçamento'!$A$5:$A$104,"<"&DATE(YEAR($A17),MONTH($A17)+1,1),'Orçamento'!$C$5:$C$104,"Receita")-SUMIFS('Orçamento'!$H$5:$H$104,'Orçamento'!$A$5:$A$104,">="&$A17,'Orçamento'!$A$5:$A$104,"<"&DATE(YEAR($A17),MONTH($A17)+1,1),'Orçamento'!$C$5:$C$104,"Despesa"))
A18: =DATE(Premissas!$B$4,7,1) | B18: =IF(COUNTIFS('Orçamento'!$A$5:$A$104,">="&$A18,'Orçamento'!$A$5:$A$104,"<"&DATE(YEAR($A18),MONTH($A18)+1,1),'Orçamento'!$C$5:$C$104,"Receita",'Orçamento'!$G$5:$G$104,"<>")=0,"",SUMIFS('Orçamento'!$G$5:$G$104,'Orçamento'!$A$5:$A$104,">="&$A18,'Orçamento'!$A$5:$A$104,"<"&DATE(YEAR($A18),MONTH($A18)+1,1),'Orçamento'!$C$5:$C$104,"Receita")) | C18: =IF(COUNTIFS('Orçamento'!$A$5:$A$104,">="&$A18,'Orçamento'!$A$5:$A$104,"<"&DATE(YEAR($A18),MONTH($A18)+1,1),'Orçamento'!$C$5:$C$104,"Receita",'Orçamento'!$H$5:$H$104,"<>")=0,"",SUMIFS('Orçamento'!$H$5:$H$104,'Orçamento'!$A$5:$A$104,">="&$A18,'Orçamento'!$A$5:$A$104,"<"&DATE(YEAR($A18),MONTH($A18)+1,1),'Orçamento'!$C$5:$C$104,"Receita")) | D18: =IF(COUNTIFS('Orçamento'!$A$5:$A$104,">="&$A18,'Orçamento'!$A$5:$A$104,"<"&DATE(YEAR($A18),MONTH($A18)+1,1),'Orçamento'!$C$5:$C$104,"Despesa",'Orçamento'!$G$5:$G$104,"<>")=0,"",SUMIFS('Orçamento'!$G$5:$G$104,'Orçamento'!$A$5:$A$104,">="&$A18,'Orçamento'!$A$5:$A$104,"<"&DATE(YEAR($A18),MONTH($A18)+1,1),'Orçamento'!$C$5:$C$104,"Despesa")) | E18: =IF(COUNTIFS('Orçamento'!$A$5:$A$104,">="&$A18,'Orçamento'!$A$5:$A$104,"<"&DATE(YEAR($A18),MONTH($A18)+1,1),'Orçamento'!$C$5:$C$104,"Despesa",'Orçamento'!$H$5:$H$104,"<>")=0,"",SUMIFS('Orçamento'!$H$5:$H$104,'Orçamento'!$A$5:$A$104,">="&$A18,'Orçamento'!$A$5:$A$104,"<"&DATE(YEAR($A18),MONTH($A18)+1,1),'Orçamento'!$C$5:$C$104,"Despesa")) | F18: =IF(COUNTIFS('Orçamento'!$A$5:$A$104,">="&$A18,'Orçamento'!$A$5:$A$104,"<"&DATE(YEAR($A18),MONTH($A18)+1,1),'Orçamento'!$G$5:$G$104,"<>")=0,"",SUMIFS('Orçamento'!$G$5:$G$104,'Orçamento'!$A$5:$A$104,">="&$A18,'Orçamento'!$A$5:$A$104,"<"&DATE(YEAR($A18),MONTH($A18)+1,1),'Orçamento'!$C$5:$C$104,"Receita")-SUMIFS('Orçamento'!$G$5:$G$104,'Orçamento'!$A$5:$A$104,">="&$A18,'Orçamento'!$A$5:$A$104,"<"&DATE(YEAR($A18),MONTH($A18)+1,1),'Orçamento'!$C$5:$C$104,"Despesa")) | G18: =IF(COUNTIFS('Orçamento'!$A$5:$A$104,">="&$A18,'Orçamento'!$A$5:$A$104,"<"&DATE(YEAR($A18),MONTH($A18)+1,1),'Orçamento'!$H$5:$H$104,"<>")=0,"",SUMIFS('Orçamento'!$H$5:$H$104,'Orçamento'!$A$5:$A$104,">="&$A18,'Orçamento'!$A$5:$A$104,"<"&DATE(YEAR($A18),MONTH($A18)+1,1),'Orçamento'!$C$5:$C$104,"Receita")-SUMIFS('Orçamento'!$H$5:$H$104,'Orçamento'!$A$5:$A$104,">="&$A18,'Orçamento'!$A$5:$A$104,"<"&DATE(YEAR($A18),MONTH($A18)+1,1),'Orçamento'!$C$5:$C$104,"Despesa"))
A19: =DATE(Premissas!$B$4,8,1) | B19: =IF(COUNTIFS('Orçamento'!$A$5:$A$104,">="&$A19,'Orçamento'!$A$5:$A$104,"<"&DATE(YEAR($A19),MONTH($A19)+1,1),'Orçamento'!$C$5:$C$104,"Receita",'Orçamento'!$G$5:$G$104,"<>")=0,"",SUMIFS('Orçamento'!$G$5:$G$104,'Orçamento'!$A$5:$A$104,">="&$A19,'Orçamento'!$A$5:$A$104,"<"&DATE(YEAR($A19),MONTH($A19)+1,1),'Orçamento'!$C$5:$C$104,"Receita")) | C19: =IF(COUNTIFS('Orçamento'!$A$5:$A$104,">="&$A19,'Orçamento'!$A$5:$A$104,"<"&DATE(YEAR($A19),MONTH($A19)+1,1),'Orçamento'!$C$5:$C$104,"Receita",'Orçamento'!$H$5:$H$104,"<>")=0,"",SUMIFS('Orçamento'!$H$5:$H$104,'Orçamento'!$A$5:$A$104,">="&$A19,'Orçamento'!$A$5:$A$104,"<"&DATE(YEAR($A19),MONTH($A19)+1,1),'Orçamento'!$C$5:$C$104,"Receita")) | D19: =IF(COUNTIFS('Orçamento'!$A$5:$A$104,">="&$A19,'Orçamento'!$A$5:$A$104,"<"&DATE(YEAR($A19),MONTH($A19)+1,1),'Orçamento'!$C$5:$C$104,"Despesa",'Orçamento'!$G$5:$G$104,"<>")=0,"",SUMIFS('Orçamento'!$G$5:$G$104,'Orçamento'!$A$5:$A$104,">="&$A19,'Orçamento'!$A$5:$A$104,"<"&DATE(YEAR($A19),MONTH($A19)+1,1),'Orçamento'!$C$5:$C$104,"Despesa")) | E19: =IF(COUNTIFS('Orçamento'!$A$5:$A$104,">="&$A19,'Orçamento'!$A$5:$A$104,"<"&DATE(YEAR($A19),MONTH($A19)+1,1),'Orçamento'!$C$5:$C$104,"Despesa",'Orçamento'!$H$5:$H$104,"<>")=0,"",SUMIFS('Orçamento'!$H$5:$H$104,'Orçamento'!$A$5:$A$104,">="&$A19,'Orçamento'!$A$5:$A$104,"<"&DATE(YEAR($A19),MONTH($A19)+1,1),'Orçamento'!$C$5:$C$104,"Despesa")) | F19: =IF(COUNTIFS('Orçamento'!$A$5:$A$104,">="&$A19,'Orçamento'!$A$5:$A$104,"<"&DATE(YEAR($A19),MONTH($A19)+1,1),'Orçamento'!$G$5:$G$104,"<>")=0,"",SUMIFS('Orçamento'!$G$5:$G$104,'Orçamento'!$A$5:$A$104,">="&$A19,'Orçamento'!$A$5:$A$104,"<"&DATE(YEAR($A19),MONTH($A19)+1,1),'Orçamento'!$C$5:$C$104,"Receita")-SUMIFS('Orçamento'!$G$5:$G$104,'Orçamento'!$A$5:$A$104,">="&$A19,'Orçamento'!$A$5:$A$104,"<"&DATE(YEAR($A19),MONTH($A19)+1,1),'Orçamento'!$C$5:$C$104,"Despesa")) | G19: =IF(COUNTIFS('Orçamento'!$A$5:$A$104,">="&$A19,'Orçamento'!$A$5:$A$104,"<"&DATE(YEAR($A19),MONTH($A19)+1,1),'Orçamento'!$H$5:$H$104,"<>")=0,"",SUMIFS('Orçamento'!$H$5:$H$104,'Orçamento'!$A$5:$A$104,">="&$A19,'Orçamento'!$A$5:$A$104,"<"&DATE(YEAR($A19),MONTH($A19)+1,1),'Orçamento'!$C$5:$C$104,"Receita")-SUMIFS('Orçamento'!$H$5:$H$104,'Orçamento'!$A$5:$A$104,">="&$A19,'Orçamento'!$A$5:$A$104,"<"&DATE(YEAR($A19),MONTH($A19)+1,1),'Orçamento'!$C$5:$C$104,"Despesa"))
A20: =DATE(Premissas!$B$4,9,1) | B20: =IF(COUNTIFS('Orçamento'!$A$5:$A$104,">="&$A20,'Orçamento'!$A$5:$A$104,"<"&DATE(YEAR($A20),MONTH($A20)+1,1),'Orçamento'!$C$5:$C$104,"Receita",'Orçamento'!$G$5:$G$104,"<>")=0,"",SUMIFS('Orçamento'!$G$5:$G$104,'Orçamento'!$A$5:$A$104,">="&$A20,'Orçamento'!$A$5:$A$104,"<"&DATE(YEAR($A20),MONTH($A20)+1,1),'Orçamento'!$C$5:$C$104,"Receita")) | C20: =IF(COUNTIFS('Orçamento'!$A$5:$A$104,">="&$A20,'Orçamento'!$A$5:$A$104,"<"&DATE(YEAR($A20),MONTH($A20)+1,1),'Orçamento'!$C$5:$C$104,"Receita",'Orçamento'!$H$5:$H$104,"<>")=0,"",SUMIFS('Orçamento'!$H$5:$H$104,'Orçamento'!$A$5:$A$104,">="&$A20,'Orçamento'!$A$5:$A$104,"<"&DATE(YEAR($A20),MONTH($A20)+1,1),'Orçamento'!$C$5:$C$104,"Receita")) | D20: =IF(COUNTIFS('Orçamento'!$A$5:$A$104,">="&$A20,'Orçamento'!$A$5:$A$104,"<"&DATE(YEAR($A20),MONTH($A20)+1,1),'Orçamento'!$C$5:$C$104,"Despesa",'Orçamento'!$G$5:$G$104,"<>")=0,"",SUMIFS('Orçamento'!$G$5:$G$104,'Orçamento'!$A$5:$A$104,">="&$A20,'Orçamento'!$A$5:$A$104,"<"&DATE(YEAR($A20),MONTH($A20)+1,1),'Orçamento'!$C$5:$C$104,"Despesa")) | E20: =IF(COUNTIFS('Orçamento'!$A$5:$A$104,">="&$A20,'Orçamento'!$A$5:$A$104,"<"&DATE(YEAR($A20),MONTH($A20)+1,1),'Orçamento'!$C$5:$C$104,"Despesa",'Orçamento'!$H$5:$H$104,"<>")=0,"",SUMIFS('Orçamento'!$H$5:$H$104,'Orçamento'!$A$5:$A$104,">="&$A20,'Orçamento'!$A$5:$A$104,"<"&DATE(YEAR($A20),MONTH($A20)+1,1),'Orçamento'!$C$5:$C$104,"Despesa")) | F20: =IF(COUNTIFS('Orçamento'!$A$5:$A$104,">="&$A20,'Orçamento'!$A$5:$A$104,"<"&DATE(YEAR($A20),MONTH($A20)+1,1),'Orçamento'!$G$5:$G$104,"<>")=0,"",SUMIFS('Orçamento'!$G$5:$G$104,'Orçamento'!$A$5:$A$104,">="&$A20,'Orçamento'!$A$5:$A$104,"<"&DATE(YEAR($A20),MONTH($A20)+1,1),'Orçamento'!$C$5:$C$104,"Receita")-SUMIFS('Orçamento'!$G$5:$G$104,'Orçamento'!$A$5:$A$104,">="&$A20,'Orçamento'!$A$5:$A$104,"<"&DATE(YEAR($A20),MONTH($A20)+1,1),'Orçamento'!$C$5:$C$104,"Despesa")) | G20: =IF(COUNTIFS('Orçamento'!$A$5:$A$104,">="&$A20,'Orçamento'!$A$5:$A$104,"<"&DATE(YEAR($A20),MONTH($A20)+1,1),'Orçamento'!$H$5:$H$104,"<>")=0,"",SUMIFS('Orçamento'!$H$5:$H$104,'Orçamento'!$A$5:$A$104,">="&$A20,'Orçamento'!$A$5:$A$104,"<"&DATE(YEAR($A20),MONTH($A20)+1,1),'Orçamento'!$C$5:$C$104,"Receita")-SUMIFS('Orçamento'!$H$5:$H$104,'Orçamento'!$A$5:$A$104,">="&$A20,'Orçamento'!$A$5:$A$104,"<"&DATE(YEAR($A20),MONTH($A20)+1,1),'Orçamento'!$C$5:$C$104,"Despesa"))
A21: =DATE(Premissas!$B$4,10,1) | B21: =IF(COUNTIFS('Orçamento'!$A$5:$A$104,">="&$A21,'Orçamento'!$A$5:$A$104,"<"&DATE(YEAR($A21),MONTH($A21)+1,1),'Orçamento'!$C$5:$C$104,"Receita",'Orçamento'!$G$5:$G$104,"<>")=0,"",SUMIFS('Orçamento'!$G$5:$G$104,'Orçamento'!$A$5:$A$104,">="&$A21,'Orçamento'!$A$5:$A$104,"<"&DATE(YEAR($A21),MONTH($A21)+1,1),'Orçamento'!$C$5:$C$104,"Receita")) | C21: =IF(COUNTIFS('Orçamento'!$A$5:$A$104,">="&$A21,'Orçamento'!$A$5:$A$104,"<"&DATE(YEAR($A21),MONTH($A21)+1,1),'Orçamento'!$C$5:$C$104,"Receita",'Orçamento'!$H$5:$H$104,"<>")=0,"",SUMIFS('Orçamento'!$H$5:$H$104,'Orçamento'!$A$5:$A$104,">="&$A21,'Orçamento'!$A$5:$A$104,"<"&DATE(YEAR($A21),MONTH($A21)+1,1),'Orçamento'!$C$5:$C$104,"Receita")) | D21: =IF(COUNTIFS('Orçamento'!$A$5:$A$104,">="&$A21,'Orçamento'!$A$5:$A$104,"<"&DATE(YEAR($A21),MONTH($A21)+1,1),'Orçamento'!$C$5:$C$104,"Despesa",'Orçamento'!$G$5:$G$104,"<>")=0,"",SUMIFS('Orçamento'!$G$5:$G$104,'Orçamento'!$A$5:$A$104,">="&$A21,'Orçamento'!$A$5:$A$104,"<"&DATE(YEAR($A21),MONTH($A21)+1,1),'Orçamento'!$C$5:$C$104,"Despesa")) | E21: =IF(COUNTIFS('Orçamento'!$A$5:$A$104,">="&$A21,'Orçamento'!$A$5:$A$104,"<"&DATE(YEAR($A21),MONTH($A21)+1,1),'Orçamento'!$C$5:$C$104,"Despesa",'Orçamento'!$H$5:$H$104,"<>")=0,"",SUMIFS('Orçamento'!$H$5:$H$104,'Orçamento'!$A$5:$A$104,">="&$A21,'Orçamento'!$A$5:$A$104,"<"&DATE(YEAR($A21),MONTH($A21)+1,1),'Orçamento'!$C$5:$C$104,"Despesa")) | F21: =IF(COUNTIFS('Orçamento'!$A$5:$A$104,">="&$A21,'Orçamento'!$A$5:$A$104,"<"&DATE(YEAR($A21),MONTH($A21)+1,1),'Orçamento'!$G$5:$G$104,"<>")=0,"",SUMIFS('Orçamento'!$G$5:$G$104,'Orçamento'!$A$5:$A$104,">="&$A21,'Orçamento'!$A$5:$A$104,"<"&DATE(YEAR($A21),MONTH($A21)+1,1),'Orçamento'!$C$5:$C$104,"Receita")-SUMIFS('Orçamento'!$G$5:$G$104,'Orçamento'!$A$5:$A$104,">="&$A21,'Orçamento'!$A$5:$A$104,"<"&DATE(YEAR($A21),MONTH($A21)+1,1),'Orçamento'!$C$5:$C$104,"Despesa")) | G21: =IF(COUNTIFS('Orçamento'!$A$5:$A$104,">="&$A21,'Orçamento'!$A$5:$A$104,"<"&DATE(YEAR($A21),MONTH($A21)+1,1),'Orçamento'!$H$5:$H$104,"<>")=0,"",SUMIFS('Orçamento'!$H$5:$H$104,'Orçamento'!$A$5:$A$104,">="&$A21,'Orçamento'!$A$5:$A$104,"<"&DATE(YEAR($A21),MONTH($A21)+1,1),'Orçamento'!$C$5:$C$104,"Receita")-SUMIFS('Orçamento'!$H$5:$H$104,'Orçamento'!$A$5:$A$104,">="&$A21,'Orçamento'!$A$5:$A$104,"<"&DATE(YEAR($A21),MONTH($A21)+1,1),'Orçamento'!$C$5:$C$104,"Despesa"))
A22: =DATE(Premissas!$B$4,11,1) | B22: =IF(COUNTIFS('Orçamento'!$A$5:$A$104,">="&$A22,'Orçamento'!$A$5:$A$104,"<"&DATE(YEAR($A22),MONTH($A22)+1,1),'Orçamento'!$C$5:$C$104,"Receita",'Orçamento'!$G$5:$G$104,"<>")=0,"",SUMIFS('Orçamento'!$G$5:$G$104,'Orçamento'!$A$5:$A$104,">="&$A22,'Orçamento'!$A$5:$A$104,"<"&DATE(YEAR($A22),MONTH($A22)+1,1),'Orçamento'!$C$5:$C$104,"Receita")) | C22: =IF(COUNTIFS('Orçamento'!$A$5:$A$104,">="&$A22,'Orçamento'!$A$5:$A$104,"<"&DATE(YEAR($A22),MONTH($A22)+1,1),'Orçamento'!$C$5:$C$104,"Receita",'Orçamento'!$H$5:$H$104,"<>")=0,"",SUMIFS('Orçamento'!$H$5:$H$104,'Orçamento'!$A$5:$A$104,">="&$A22,'Orçamento'!$A$5:$A$104,"<"&DATE(YEAR($A22),MONTH($A22)+1,1),'Orçamento'!$C$5:$C$104,"Receita")) | D22: =IF(COUNTIFS('Orçamento'!$A$5:$A$104,">="&$A22,'Orçamento'!$A$5:$A$104,"<"&DATE(YEAR($A22),MONTH($A22)+1,1),'Orçamento'!$C$5:$C$104,"Despesa",'Orçamento'!$G$5:$G$104,"<>")=0,"",SUMIFS('Orçamento'!$G$5:$G$104,'Orçamento'!$A$5:$A$104,">="&$A22,'Orçamento'!$A$5:$A$104,"<"&DATE(YEAR($A22),MONTH($A22)+1,1),'Orçamento'!$C$5:$C$104,"Despesa")) | E22: =IF(COUNTIFS('Orçamento'!$A$5:$A$104,">="&$A22,'Orçamento'!$A$5:$A$104,"<"&DATE(YEAR($A22),MONTH($A22)+1,1),'Orçamento'!$C$5:$C$104,"Despesa",'Orçamento'!$H$5:$H$104,"<>")=0,"",SUMIFS('Orçamento'!$H$5:$H$104,'Orçamento'!$A$5:$A$104,">="&$A22,'Orçamento'!$A$5:$A$104,"<"&DATE(YEAR($A22),MONTH($A22)+1,1),'Orçamento'!$C$5:$C$104,"Despesa")) | F22: =IF(COUNTIFS('Orçamento'!$A$5:$A$104,">="&$A22,'Orçamento'!$A$5:$A$104,"<"&DATE(YEAR($A22),MONTH($A22)+1,1),'Orçamento'!$G$5:$G$104,"<>")=0,"",SUMIFS('Orçamento'!$G$5:$G$104,'Orçamento'!$A$5:$A$104,">="&$A22,'Orçamento'!$A$5:$A$104,"<"&DATE(YEAR($A22),MONTH($A22)+1,1),'Orçamento'!$C$5:$C$104,"Receita")-SUMIFS('Orçamento'!$G$5:$G$104,'Orçamento'!$A$5:$A$104,">="&$A22,'Orçamento'!$A$5:$A$104,"<"&DATE(YEAR($A22),MONTH($A22)+1,1),'Orçamento'!$C$5:$C$104,"Despesa")) | G22: =IF(COUNTIFS('Orçamento'!$A$5:$A$104,">="&$A22,'Orçamento'!$A$5:$A$104,"<"&DATE(YEAR($A22),MONTH($A22)+1,1),'Orçamento'!$H$5:$H$104,"<>")=0,"",SUMIFS('Orçamento'!$H$5:$H$104,'Orçamento'!$A$5:$A$104,">="&$A22,'Orçamento'!$A$5:$A$104,"<"&DATE(YEAR($A22),MONTH($A22)+1,1),'Orçamento'!$C$5:$C$104,"Receita")-SUMIFS('Orçamento'!$H$5:$H$104,'Orçamento'!$A$5:$A$104,">="&$A22,'Orçamento'!$A$5:$A$104,"<"&DATE(YEAR($A22),MONTH($A22)+1,1),'Orçamento'!$C$5:$C$104,"Despesa"))
A23: =DATE(Premissas!$B$4,12,1) | B23: =IF(COUNTIFS('Orçamento'!$A$5:$A$104,">="&$A23,'Orçamento'!$A$5:$A$104,"<"&DATE(YEAR($A23),MONTH($A23)+1,1),'Orçamento'!$C$5:$C$104,"Receita",'Orçamento'!$G$5:$G$104,"<>")=0,"",SUMIFS('Orçamento'!$G$5:$G$104,'Orçamento'!$A$5:$A$104,">="&$A23,'Orçamento'!$A$5:$A$104,"<"&DATE(YEAR($A23),MONTH($A23)+1,1),'Orçamento'!$C$5:$C$104,"Receita")) | C23: =IF(COUNTIFS('Orçamento'!$A$5:$A$104,">="&$A23,'Orçamento'!$A$5:$A$104,"<"&DATE(YEAR($A23),MONTH($A23)+1,1),'Orçamento'!$C$5:$C$104,"Receita",'Orçamento'!$H$5:$H$104,"<>")=0,"",SUMIFS('Orçamento'!$H$5:$H$104,'Orçamento'!$A$5:$A$104,">="&$A23,'Orçamento'!$A$5:$A$104,"<"&DATE(YEAR($A23),MONTH($A23)+1,1),'Orçamento'!$C$5:$C$104,"Receita")) | D23: =IF(COUNTIFS('Orçamento'!$A$5:$A$104,">="&$A23,'Orçamento'!$A$5:$A$104,"<"&DATE(YEAR($A23),MONTH($A23)+1,1),'Orçamento'!$C$5:$C$104,"Despesa",'Orçamento'!$G$5:$G$104,"<>")=0,"",SUMIFS('Orçamento'!$G$5:$G$104,'Orçamento'!$A$5:$A$104,">="&$A23,'Orçamento'!$A$5:$A$104,"<"&DATE(YEAR($A23),MONTH($A23)+1,1),'Orçamento'!$C$5:$C$104,"Despesa")) | E23: =IF(COUNTIFS('Orçamento'!$A$5:$A$104,">="&$A23,'Orçamento'!$A$5:$A$104,"<"&DATE(YEAR($A23),MONTH($A23)+1,1),'Orçamento'!$C$5:$C$104,"Despesa",'Orçamento'!$H$5:$H$104,"<>")=0,"",SUMIFS('Orçamento'!$H$5:$H$104,'Orçamento'!$A$5:$A$104,">="&$A23,'Orçamento'!$A$5:$A$104,"<"&DATE(YEAR($A23),MONTH($A23)+1,1),'Orçamento'!$C$5:$C$104,"Despesa")) | F23: =IF(COUNTIFS('Orçamento'!$A$5:$A$104,">="&$A23,'Orçamento'!$A$5:$A$104,"<"&DATE(YEAR($A23),MONTH($A23)+1,1),'Orçamento'!$G$5:$G$104,"<>")=0,"",SUMIFS('Orçamento'!$G$5:$G$104,'Orçamento'!$A$5:$A$104,">="&$A23,'Orçamento'!$A$5:$A$104,"<"&DATE(YEAR($A23),MONTH($A23)+1,1),'Orçamento'!$C$5:$C$104,"Receita")-SUMIFS('Orçamento'!$G$5:$G$104,'Orçamento'!$A$5:$A$104,">="&$A23,'Orçamento'!$A$5:$A$104,"<"&DATE(YEAR($A23),MONTH($A23)+1,1),'Orçamento'!$C$5:$C$104,"Despesa")) | G23: =IF(COUNTIFS('Orçamento'!$A$5:$A$104,">="&$A23,'Orçamento'!$A$5:$A$104,"<"&DATE(YEAR($A23),MONTH($A23)+1,1),'Orçamento'!$H$5:$H$104,"<>")=0,"",SUMIFS('Orçamento'!$H$5:$H$104,'Orçamento'!$A$5:$A$104,">="&$A23,'Orçamento'!$A$5:$A$104,"<"&DATE(YEAR($A23),MONTH($A23)+1,1),'Orçamento'!$C$5:$C$104,"Receita")-SUMIFS('Orçamento'!$H$5:$H$104,'Orçamento'!$A$5:$A$104,">="&$A23,'Orçamento'!$A$5:$A$104,"<"&DATE(YEAR($A23),MONTH($A23)+1,1),'Orçamento'!$C$5:$C$104,"Despesa"))
A26: Totais por ministério | G26: Totais por conta
A27: Ministério | B27: Receitas previstas | C27: Receitas realizadas | D27: Despesas previstas | E27: Despesas realizadas | G27: Conta | H27: Natureza | I27: Previsto | J27: Realizado | K27: Variação | L27: Execução
A28: =IF(Premissas!H4="","",Premissas!H4) | B28: =IF($A28="","",IF(COUNTIFS('Orçamento'!$A$5:$A$104,">="&Premissas!$B$6,'Orçamento'!$A$5:$A$104,"<="&Premissas!$B$7,'Orçamento'!$D$5:$D$104,$A28,'Orçamento'!$C$5:$C$104,"Receita",'Orçamento'!$G$5:$G$104,"<>")=0,"",SUMIFS('Orçamento'!$G$5:$G$104,'Orçamento'!$A$5:$A$104,">="&Premissas!$B$6,'Orçamento'!$A$5:$A$104,"<="&Premissas!$B$7,'Orçamento'!$D$5:$D$104,$A28,'Orçamento'!$C$5:$C$104,"Receita"))) | C28: =IF($A28="","",IF(COUNTIFS('Orçamento'!$A$5:$A$104,">="&Premissas!$B$6,'Orçamento'!$A$5:$A$104,"<="&Premissas!$B$7,'Orçamento'!$D$5:$D$104,$A28,'Orçamento'!$C$5:$C$104,"Receita",'Orçamento'!$H$5:$H$104,"<>")=0,"",SUMIFS('Orçamento'!$H$5:$H$104,'Orçamento'!$A$5:$A$104,">="&Premissas!$B$6,'Orçamento'!$A$5:$A$104,"<="&Premissas!$B$7,'Orçamento'!$D$5:$D$104,$A28,'Orçamento'!$C$5:$C$104,"Receita"))) | D28: =IF($A28="","",IF(COUNTIFS('Orçamento'!$A$5:$A$104,">="&Premissas!$B$6,'Orçamento'!$A$5:$A$104,"<="&Premissas!$B$7,'Orçamento'!$D$5:$D$104,$A28,'Orçamento'!$C$5:$C$104,"Despesa",'Orçamento'!$G$5:$G$104,"<>")=0,"",SUMIFS('Orçamento'!$G$5:$G$104,'Orçamento'!$A$5:$A$104,">="&Premissas!$B$6,'Orçamento'!$A$5:$A$104,"<="&Premissas!$B$7,'Orçamento'!$D$5:$D$104,$A28,'Orçamento'!$C$5:$C$104,"Despesa"))) | E28: =IF($A28="","",IF(COUNTIFS('Orçamento'!$A$5:$A$104,">="&Premissas!$B$6,'Orçamento'!$A$5:$A$104,"<="&Premissas!$B$7,'Orçamento'!$D$5:$D$104,$A28,'Orçamento'!$C$5:$C$104,"Despesa",'Orçamento'!$H$5:$H$104,"<>")=0,"",SUMIFS('Orçamento'!$H$5:$H$104,'Orçamento'!$A$5:$A$104,">="&Premissas!$B$6,'Orçamento'!$A$5:$A$104,"<="&Premissas!$B$7,'Orçamento'!$D$5:$D$104,$A28,'Orçamento'!$C$5:$C$104,"Despesa"))) | G28: =IF(Premissas!E4="","",Premissas!E4) | H28: =IF(G28="","",IFERROR(VLOOKUP(G28,Premissas!$E$4:$F$15,2,FALSE),"")) | I28: =IF($G28="","",IF(COUNTIFS('Orçamento'!$A$5:$A$104,">="&Premissas!$B$6,'Orçamento'!$A$5:$A$104,"<="&Premissas!$B$7,'Orçamento'!$B$5:$B$104,$G28,'Orçamento'!$G$5:$G$104,"<>")=0,"",SUMIFS('Orçamento'!$G$5:$G$104,'Orçamento'!$A$5:$A$104,">="&Premissas!$B$6,'Orçamento'!$A$5:$A$104,"<="&Premissas!$B$7,'Orçamento'!$B$5:$B$104,$G28))) | J28: =IF($G28="","",IF(COUNTIFS('Orçamento'!$A$5:$A$104,">="&Premissas!$B$6,'Orçamento'!$A$5:$A$104,"<="&Premissas!$B$7,'Orçamento'!$B$5:$B$104,$G28,'Orçamento'!$H$5:$H$104,"<>")=0,"",SUMIFS('Orçamento'!$H$5:$H$104,'Orçamento'!$A$5:$A$104,">="&Premissas!$B$6,'Orçamento'!$A$5:$A$104,"<="&Premissas!$B$7,'Orçamento'!$B$5:$B$104,$G28))) | K28: =IF(OR(NOT(ISNUMBER(I28)),NOT(ISNUMBER(J28))),"",J28-I28) | L28: =IF(OR(NOT(ISNUMBER(I28)),NOT(ISNUMBER(J28))),"",IFERROR(J28/I28,""))
A29: =IF(Premissas!H5="","",Premissas!H5) | B29: =IF($A29="","",IF(COUNTIFS('Orçamento'!$A$5:$A$104,">="&Premissas!$B$6,'Orçamento'!$A$5:$A$104,"<="&Premissas!$B$7,'Orçamento'!$D$5:$D$104,$A29,'Orçamento'!$C$5:$C$104,"Receita",'Orçamento'!$G$5:$G$104,"<>")=0,"",SUMIFS('Orçamento'!$G$5:$G$104,'Orçamento'!$A$5:$A$104,">="&Premissas!$B$6,'Orçamento'!$A$5:$A$104,"<="&Premissas!$B$7,'Orçamento'!$D$5:$D$104,$A29,'Orçamento'!$C$5:$C$104,"Receita"))) | C29: =IF($A29="","",IF(COUNTIFS('Orçamento'!$A$5:$A$104,">="&Premissas!$B$6,'Orçamento'!$A$5:$A$104,"<="&Premissas!$B$7,'Orçamento'!$D$5:$D$104,$A29,'Orçamento'!$C$5:$C$104,"Receita",'Orçamento'!$H$5:$H$104,"<>")=0,"",SUMIFS('Orçamento'!$H$5:$H$104,'Orçamento'!$A$5:$A$104,">="&Premissas!$B$6,'Orçamento'!$A$5:$A$104,"<="&Premissas!$B$7,'Orçamento'!$D$5:$D$104,$A29,'Orçamento'!$C$5:$C$104,"Receita"))) | D29: =IF($A29="","",IF(COUNTIFS('Orçamento'!$A$5:$A$104,">="&Premissas!$B$6,'Orçamento'!$A$5:$A$104,"<="&Premissas!$B$7,'Orçamento'!$D$5:$D$104,$A29,'Orçamento'!$C$5:$C$104,"Despesa",'Orçamento'!$G$5:$G$104,"<>")=0,"",SUMIFS('Orçamento'!$G$5:$G$104,'Orçamento'!$A$5:$A$104,">="&Premissas!$B$6,'Orçamento'!$A$5:$A$104,"<="&Premissas!$B$7,'Orçamento'!$D$5:$D$104,$A29,'Orçamento'!$C$5:$C$104,"Despesa"))) | E29: =IF($A29="","",IF(COUNTIFS('Orçamento'!$A$5:$A$104,">="&Premissas!$B$6,'Orçamento'!$A$5:$A$104,"<="&Premissas!$B$7,'Orçamento'!$D$5:$D$104,$A29,'Orçamento'!$C$5:$C$104,"Despesa",'Orçamento'!$H$5:$H$104,"<>")=0,"",SUMIFS('Orçamento'!$H$5:$H$104,'Orçamento'!$A$5:$A$104,">="&Premissas!$B$6,'Orçamento'!$A$5:$A$104,"<="&Premissas!$B$7,'Orçamento'!$D$5:$D$104,$A29,'Orçamento'!$C$5:$C$104,"Despesa"))) | G29: =IF(Premissas!E5="","",Premissas!E5) | H29: =IF(G29="","",IFERROR(VLOOKUP(G29,Premissas!$E$4:$F$15,2,FALSE),"")) | I29: =IF($G29="","",IF(COUNTIFS('Orçamento'!$A$5:$A$104,">="&Premissas!$B$6,'Orçamento'!$A$5:$A$104,"<="&Premissas!$B$7,'Orçamento'!$B$5:$B$104,$G29,'Orçamento'!$G$5:$G$104,"<>")=0,"",SUMIFS('Orçamento'!$G$5:$G$104,'Orçamento'!$A$5:$A$104,">="&Premissas!$B$6,'Orçamento'!$A$5:$A$104,"<="&Premissas!$B$7,'Orçamento'!$B$5:$B$104,$G29))) | J29: =IF($G29="","",IF(COUNTIFS('Orçamento'!$A$5:$A$104,">="&Premissas!$B$6,'Orçamento'!$A$5:$A$104,"<="&Premissas!$B$7,'Orçamento'!$B$5:$B$104,$G29,'Orçamento'!$H$5:$H$104,"<>")=0,"",SUMIFS('Orçamento'!$H$5:$H$104,'Orçamento'!$A$5:$A$104,">="&Premissas!$B$6,'Orçamento'!$A$5:$A$104,"<="&Premissas!$B$7,'Orçamento'!$B$5:$B$104,$G29))) | K29: =IF(OR(NOT(ISNUMBER(I29)),NOT(ISNUMBER(J29))),"",J29-I29) | L29: =IF(OR(NOT(ISNUMBER(I29)),NOT(ISNUMBER(J29))),"",IFERROR(J29/I29,""))
A30: =IF(Premissas!H6="","",Premissas!H6) | B30: =IF($A30="","",IF(COUNTIFS('Orçamento'!$A$5:$A$104,">="&Premissas!$B$6,'Orçamento'!$A$5:$A$104,"<="&Premissas!$B$7,'Orçamento'!$D$5:$D$104,$A30,'Orçamento'!$C$5:$C$104,"Receita",'Orçamento'!$G$5:$G$104,"<>")=0,"",SUMIFS('Orçamento'!$G$5:$G$104,'Orçamento'!$A$5:$A$104,">="&Premissas!$B$6,'Orçamento'!$A$5:$A$104,"<="&Premissas!$B$7,'Orçamento'!$D$5:$D$104,$A30,'Orçamento'!$C$5:$C$104,"Receita"))) | C30: =IF($A30="","",IF(COUNTIFS('Orçamento'!$A$5:$A$104,">="&Premissas!$B$6,'Orçamento'!$A$5:$A$104,"<="&Premissas!$B$7,'Orçamento'!$D$5:$D$104,$A30,'Orçamento'!$C$5:$C$104,"Receita",'Orçamento'!$H$5:$H$104,"<>")=0,"",SUMIFS('Orçamento'!$H$5:$H$104,'Orçamento'!$A$5:$A$104,">="&Premissas!$B$6,'Orçamento'!$A$5:$A$104,"<="&Premissas!$B$7,'Orçamento'!$D$5:$D$104,$A30,'Orçamento'!$C$5:$C$104,"Receita"))) | D30: =IF($A30="","",IF(COUNTIFS('Orçamento'!$A$5:$A$104,">="&Premissas!$B$6,'Orçamento'!$A$5:$A$104,"<="&Premissas!$B$7,'Orçamento'!$D$5:$D$104,$A30,'Orçamento'!$C$5:$C$104,"Despesa",'Orçamento'!$G$5:$G$104,"<>")=0,"",SUMIFS('Orçamento'!$G$5:$G$104,'Orçamento'!$A$5:$A$104,">="&Premissas!$B$6,'Orçamento'!$A$5:$A$104,"<="&Premissas!$B$7,'Orçamento'!$D$5:$D$104,$A30,'Orçamento'!$C$5:$C$104,"Despesa"))) | E30: =IF($A30="","",IF(COUNTIFS('Orçamento'!$A$5:$A$104,">="&Premissas!$B$6,'Orçamento'!$A$5:$A$104,"<="&Premissas!$B$7,'Orçamento'!$D$5:$D$104,$A30,'Orçamento'!$C$5:$C$104,"Despesa",'Orçamento'!$H$5:$H$104,"<>")=0,"",SUMIFS('Orçamento'!$H$5:$H$104,'Orçamento'!$A$5:$A$104,">="&Premissas!$B$6,'Orçamento'!$A$5:$A$104,"<="&Premissas!$B$7,'Orçamento'!$D$5:$D$104,$A30,'Orçamento'!$C$5:$C$104,"Despesa"))) | G30: =IF(Premissas!E6="","",Premissas!E6) | H30: =IF(G30="","",IFERROR(VLOOKUP(G30,Premissas!$E$4:$F$15,2,FALSE),"")) | I30: =IF($G30="","",IF(COUNTIFS('Orçamento'!$A$5:$A$104,">="&Premissas!$B$6,'Orçamento'!$A$5:$A$104,"<="&Premissas!$B$7,'Orçamento'!$B$5:$B$104,$G30,'Orçamento'!$G$5:$G$104,"<>")=0,"",SUMIFS('Orçamento'!$G$5:$G$104,'Orçamento'!$A$5:$A$104,">="&Premissas!$B$6,'Orçamento'!$A$5:$A$104,"<="&Premissas!$B$7,'Orçamento'!$B$5:$B$104,$G30))) | J30: =IF($G30="","",IF(COUNTIFS('Orçamento'!$A$5:$A$104,">="&Premissas!$B$6,'Orçamento'!$A$5:$A$104,"<="&Premissas!$B$7,'Orçamento'!$B$5:$B$104,$G30,'Orçamento'!$H$5:$H$104,"<>")=0,"",SUMIFS('Orçamento'!$H$5:$H$104,'Orçamento'!$A$5:$A$104,">="&Premissas!$B$6,'Orçamento'!$A$5:$A$104,"<="&Premissas!$B$7,'Orçamento'!$B$5:$B$104,$G30))) | K30: =IF(OR(NOT(ISNUMBER(I30)),NOT(ISNUMBER(J30))),"",J30-I30) | L30: =IF(OR(NOT(ISNUMBER(I30)),NOT(ISNUMBER(J30))),"",IFERROR(J30/I30,""))
A31: =IF(Premissas!H7="","",Premissas!H7) | B31: =IF($A31="","",IF(COUNTIFS('Orçamento'!$A$5:$A$104,">="&Premissas!$B$6,'Orçamento'!$A$5:$A$104,"<="&Premissas!$B$7,'Orçamento'!$D$5:$D$104,$A31,'Orçamento'!$C$5:$C$104,"Receita",'Orçamento'!$G$5:$G$104,"<>")=0,"",SUMIFS('Orçamento'!$G$5:$G$104,'Orçamento'!$A$5:$A$104,">="&Premissas!$B$6,'Orçamento'!$A$5:$A$104,"<="&Premissas!$B$7,'Orçamento'!$D$5:$D$104,$A31,'Orçamento'!$C$5:$C$104,"Receita"))) | C31: =IF($A31="","",IF(COUNTIFS('Orçamento'!$A$5:$A$104,">="&Premissas!$B$6,'Orçamento'!$A$5:$A$104,"<="&Premissas!$B$7,'Orçamento'!$D$5:$D$104,$A31,'Orçamento'!$C$5:$C$104,"Receita",'Orçamento'!$H$5:$H$104,"<>")=0,"",SUMIFS('Orçamento'!$H$5:$H$104,'Orçamento'!$A$5:$A$104,">="&Premissas!$B$6,'Orçamento'!$A$5:$A$104,"<="&Premissas!$B$7,'Orçamento'!$D$5:$D$104,$A31,'Orçamento'!$C$5:$C$104,"Receita"))) | D31: =IF($A31="","",IF(COUNTIFS('Orçamento'!$A$5:$A$104,">="&Premissas!$B$6,'Orçamento'!$A$5:$A$104,"<="&Premissas!$B$7,'Orçamento'!$D$5:$D$104,$A31,'Orçamento'!$C$5:$C$104,"Despesa",'Orçamento'!$G$5:$G$104,"<>")=0,"",SUMIFS('Orçamento'!$G$5:$G$104,'Orçamento'!$A$5:$A$104,">="&Premissas!$B$6,'Orçamento'!$A$5:$A$104,"<="&Premissas!$B$7,'Orçamento'!$D$5:$D$104,$A31,'Orçamento'!$C$5:$C$104,"Despesa"))) | E31: =IF($A31="","",IF(COUNTIFS('Orçamento'!$A$5:$A$104,">="&Premissas!$B$6,'Orçamento'!$A$5:$A$104,"<="&Premissas!$B$7,'Orçamento'!$D$5:$D$104,$A31,'Orçamento'!$C$5:$C$104,"Despesa",'Orçamento'!$H$5:$H$104,"<>")=0,"",SUMIFS('Orçamento'!$H$5:$H$104,'Orçamento'!$A$5:$A$104,">="&Premissas!$B$6,'Orçamento'!$A$5:$A$104,"<="&Premissas!$B$7,'Orçamento'!$D$5:$D$104,$A31,'Orçamento'!$C$5:$C$104,"Despesa"))) | G31: =IF(Premissas!E7="","",Premissas!E7) | H31: =IF(G31="","",IFERROR(VLOOKUP(G31,Premissas!$E$4:$F$15,2,FALSE),"")) | I31: =IF($G31="","",IF(COUNTIFS('Orçamento'!$A$5:$A$104,">="&Premissas!$B$6,'Orçamento'!$A$5:$A$104,"<="&Premissas!$B$7,'Orçamento'!$B$5:$B$104,$G31,'Orçamento'!$G$5:$G$104,"<>")=0,"",SUMIFS('Orçamento'!$G$5:$G$104,'Orçamento'!$A$5:$A$104,">="&Premissas!$B$6,'Orçamento'!$A$5:$A$104,"<="&Premissas!$B$7,'Orçamento'!$B$5:$B$104,$G31))) | J31: =IF($G31="","",IF(COUNTIFS('Orçamento'!$A$5:$A$104,">="&Premissas!$B$6,'Orçamento'!$A$5:$A$104,"<="&Premissas!$B$7,'Orçamento'!$B$5:$B$104,$G31,'Orçamento'!$H$5:$H$104,"<>")=0,"",SUMIFS('Orçamento'!$H$5:$H$104,'Orçamento'!$A$5:$A$104,">="&Premissas!$B$6,'Orçamento'!$A$5:$A$104,"<="&Premissas!$B$7,'Orçamento'!$B$5:$B$104,$G31))) | K31: =IF(OR(NOT(ISNUMBER(I31)),NOT(ISNUMBER(J31))),"",J31-I31) | L31: =IF(OR(NOT(ISNUMBER(I31)),NOT(ISNUMBER(J31))),"",IFERROR(J31/I31,""))
A32: =IF(Premissas!H8="","",Premissas!H8) | B32: =IF($A32="","",IF(COUNTIFS('Orçamento'!$A$5:$A$104,">="&Premissas!$B$6,'Orçamento'!$A$5:$A$104,"<="&Premissas!$B$7,'Orçamento'!$D$5:$D$104,$A32,'Orçamento'!$C$5:$C$104,"Receita",'Orçamento'!$G$5:$G$104,"<>")=0,"",SUMIFS('Orçamento'!$G$5:$G$104,'Orçamento'!$A$5:$A$104,">="&Premissas!$B$6,'Orçamento'!$A$5:$A$104,"<="&Premissas!$B$7,'Orçamento'!$D$5:$D$104,$A32,'Orçamento'!$C$5:$C$104,"Receita"))) | C32: =IF($A32="","",IF(COUNTIFS('Orçamento'!$A$5:$A$104,">="&Premissas!$B$6,'Orçamento'!$A$5:$A$104,"<="&Premissas!$B$7,'Orçamento'!$D$5:$D$104,$A32,'Orçamento'!$C$5:$C$104,"Receita",'Orçamento'!$H$5:$H$104,"<>")=0,"",SUMIFS('Orçamento'!$H$5:$H$104,'Orçamento'!$A$5:$A$104,">="&Premissas!$B$6,'Orçamento'!$A$5:$A$104,"<="&Premissas!$B$7,'Orçamento'!$D$5:$D$104,$A32,'Orçamento'!$C$5:$C$104,"Receita"))) | D32: =IF($A32="","",IF(COUNTIFS('Orçamento'!$A$5:$A$104,">="&Premissas!$B$6,'Orçamento'!$A$5:$A$104,"<="&Premissas!$B$7,'Orçamento'!$D$5:$D$104,$A32,'Orçamento'!$C$5:$C$104,"Despesa",'Orçamento'!$G$5:$G$104,"<>")=0,"",SUMIFS('Orçamento'!$G$5:$G$104,'Orçamento'!$A$5:$A$104,">="&Premissas!$B$6,'Orçamento'!$A$5:$A$104,"<="&Premissas!$B$7,'Orçamento'!$D$5:$D$104,$A32,'Orçamento'!$C$5:$C$104,"Despesa"))) | E32: =IF($A32="","",IF(COUNTIFS('Orçamento'!$A$5:$A$104,">="&Premissas!$B$6,'Orçamento'!$A$5:$A$104,"<="&Premissas!$B$7,'Orçamento'!$D$5:$D$104,$A32,'Orçamento'!$C$5:$C$104,"Despesa",'Orçamento'!$H$5:$H$104,"<>")=0,"",SUMIFS('Orçamento'!$H$5:$H$104,'Orçamento'!$A$5:$A$104,">="&Premissas!$B$6,'Orçamento'!$A$5:$A$104,"<="&Premissas!$B$7,'Orçamento'!$D$5:$D$104,$A32,'Orçamento'!$C$5:$C$104,"Despesa"))) | G32: =IF(Premissas!E8="","",Premissas!E8) | H32: =IF(G32="","",IFERROR(VLOOKUP(G32,Premissas!$E$4:$F$15,2,FALSE),"")) | I32: =IF($G32="","",IF(COUNTIFS('Orçamento'!$A$5:$A$104,">="&Premissas!$B$6,'Orçamento'!$A$5:$A$104,"<="&Premissas!$B$7,'Orçamento'!$B$5:$B$104,$G32,'Orçamento'!$G$5:$G$104,"<>")=0,"",SUMIFS('Orçamento'!$G$5:$G$104,'Orçamento'!$A$5:$A$104,">="&Premissas!$B$6,'Orçamento'!$A$5:$A$104,"<="&Premissas!$B$7,'Orçamento'!$B$5:$B$104,$G32))) | J32: =IF($G32="","",IF(COUNTIFS('Orçamento'!$A$5:$A$104,">="&Premissas!$B$6,'Orçamento'!$A$5:$A$104,"<="&Premissas!$B$7,'Orçamento'!$B$5:$B$104,$G32,'Orçamento'!$H$5:$H$104,"<>")=0,"",SUMIFS('Orçamento'!$H$5:$H$104,'Orçamento'!$A$5:$A$104,">="&Premissas!$B$6,'Orçamento'!$A$5:$A$104,"<="&Premissas!$B$7,'Orçamento'!$B$5:$B$104,$G32))) | K32: =IF(OR(NOT(ISNUMBER(I32)),NOT(ISNUMBER(J32))),"",J32-I32) | L32: =IF(OR(NOT(ISNUMBER(I32)),NOT(ISNUMBER(J32))),"",IFERROR(J32/I32,""))
A33: =IF(Premissas!H9="","",Premissas!H9) | B33: =IF($A33="","",IF(COUNTIFS('Orçamento'!$A$5:$A$104,">="&Premissas!$B$6,'Orçamento'!$A$5:$A$104,"<="&Premissas!$B$7,'Orçamento'!$D$5:$D$104,$A33,'Orçamento'!$C$5:$C$104,"Receita",'Orçamento'!$G$5:$G$104,"<>")=0,"",SUMIFS('Orçamento'!$G$5:$G$104,'Orçamento'!$A$5:$A$104,">="&Premissas!$B$6,'Orçamento'!$A$5:$A$104,"<="&Premissas!$B$7,'Orçamento'!$D$5:$D$104,$A33,'Orçamento'!$C$5:$C$104,"Receita"))) | C33: =IF($A33="","",IF(COUNTIFS('Orçamento'!$A$5:$A$104,">="&Premissas!$B$6,'Orçamento'!$A$5:$A$104,"<="&Premissas!$B$7,'Orçamento'!$D$5:$D$104,$A33,'Orçamento'!$C$5:$C$104,"Receita",'Orçamento'!$H$5:$H$104,"<>")=0,"",SUMIFS('Orçamento'!$H$5:$H$104,'Orçamento'!$A$5:$A$104,">="&Premissas!$B$6,'Orçamento'!$A$5:$A$104,"<="&Premissas!$B$7,'Orçamento'!$D$5:$D$104,$A33,'Orçamento'!$C$5:$C$104,"Receita"))) | D33: =IF($A33="","",IF(COUNTIFS('Orçamento'!$A$5:$A$104,">="&Premissas!$B$6,'Orçamento'!$A$5:$A$104,"<="&Premissas!$B$7,'Orçamento'!$D$5:$D$104,$A33,'Orçamento'!$C$5:$C$104,"Despesa",'Orçamento'!$G$5:$G$104,"<>")=0,"",SUMIFS('Orçamento'!$G$5:$G$104,'Orçamento'!$A$5:$A$104,">="&Premissas!$B$6,'Orçamento'!$A$5:$A$104,"<="&Premissas!$B$7,'Orçamento'!$D$5:$D$104,$A33,'Orçamento'!$C$5:$C$104,"Despesa"))) | E33: =IF($A33="","",IF(COUNTIFS('Orçamento'!$A$5:$A$104,">="&Premissas!$B$6,'Orçamento'!$A$5:$A$104,"<="&Premissas!$B$7,'Orçamento'!$D$5:$D$104,$A33,'Orçamento'!$C$5:$C$104,"Despesa",'Orçamento'!$H$5:$H$104,"<>")=0,"",SUMIFS('Orçamento'!$H$5:$H$104,'Orçamento'!$A$5:$A$104,">="&Premissas!$B$6,'Orçamento'!$A$5:$A$104,"<="&Premissas!$B$7,'Orçamento'!$D$5:$D$104,$A33,'Orçamento'!$C$5:$C$104,"Despesa"))) | G33: =IF(Premissas!E9="","",Premissas!E9) | H33: =IF(G33="","",IFERROR(VLOOKUP(G33,Premissas!$E$4:$F$15,2,FALSE),"")) | I33: =IF($G33="","",IF(COUNTIFS('Orçamento'!$A$5:$A$104,">="&Premissas!$B$6,'Orçamento'!$A$5:$A$104,"<="&Premissas!$B$7,'Orçamento'!$B$5:$B$104,$G33,'Orçamento'!$G$5:$G$104,"<>")=0,"",SUMIFS('Orçamento'!$G$5:$G$104,'Orçamento'!$A$5:$A$104,">="&Premissas!$B$6,'Orçamento'!$A$5:$A$104,"<="&Premissas!$B$7,'Orçamento'!$B$5:$B$104,$G33))) | J33: =IF($G33="","",IF(COUNTIFS('Orçamento'!$A$5:$A$104,">="&Premissas!$B$6,'Orçamento'!$A$5:$A$104,"<="&Premissas!$B$7,'Orçamento'!$B$5:$B$104,$G33,'Orçamento'!$H$5:$H$104,"<>")=0,"",SUMIFS('Orçamento'!$H$5:$H$104,'Orçamento'!$A$5:$A$104,">="&Premissas!$B$6,'Orçamento'!$A$5:$A$104,"<="&Premissas!$B$7,'Orçamento'!$B$5:$B$104,$G33))) | K33: =IF(OR(NOT(ISNUMBER(I33)),NOT(ISNUMBER(J33))),"",J33-I33) | L33: =IF(OR(NOT(ISNUMBER(I33)),NOT(ISNUMBER(J33))),"",IFERROR(J33/I33,""))
A34: =IF(Premissas!H10="","",Premissas!H10) | B34: =IF($A34="","",IF(COUNTIFS('Orçamento'!$A$5:$A$104,">="&Premissas!$B$6,'Orçamento'!$A$5:$A$104,"<="&Premissas!$B$7,'Orçamento'!$D$5:$D$104,$A34,'Orçamento'!$C$5:$C$104,"Receita",'Orçamento'!$G$5:$G$104,"<>")=0,"",SUMIFS('Orçamento'!$G$5:$G$104,'Orçamento'!$A$5:$A$104,">="&Premissas!$B$6,'Orçamento'!$A$5:$A$104,"<="&Premissas!$B$7,'Orçamento'!$D$5:$D$104,$A34,'Orçamento'!$C$5:$C$104,"Receita"))) | C34: =IF($A34="","",IF(COUNTIFS('Orçamento'!$A$5:$A$104,">="&Premissas!$B$6,'Orçamento'!$A$5:$A$104,"<="&Premissas!$B$7,'Orçamento'!$D$5:$D$104,$A34,'Orçamento'!$C$5:$C$104,"Receita",'Orçamento'!$H$5:$H$104,"<>")=0,"",SUMIFS('Orçamento'!$H$5:$H$104,'Orçamento'!$A$5:$A$104,">="&Premissas!$B$6,'Orçamento'!$A$5:$A$104,"<="&Premissas!$B$7,'Orçamento'!$D$5:$D$104,$A34,'Orçamento'!$C$5:$C$104,"Receita"))) | D34: =IF($A34="","",IF(COUNTIFS('Orçamento'!$A$5:$A$104,">="&Premissas!$B$6,'Orçamento'!$A$5:$A$104,"<="&Premissas!$B$7,'Orçamento'!$D$5:$D$104,$A34,'Orçamento'!$C$5:$C$104,"Despesa",'Orçamento'!$G$5:$G$104,"<>")=0,"",SUMIFS('Orçamento'!$G$5:$G$104,'Orçamento'!$A$5:$A$104,">="&Premissas!$B$6,'Orçamento'!$A$5:$A$104,"<="&Premissas!$B$7,'Orçamento'!$D$5:$D$104,$A34,'Orçamento'!$C$5:$C$104,"Despesa"))) | E34: =IF($A34="","",IF(COUNTIFS('Orçamento'!$A$5:$A$104,">="&Premissas!$B$6,'Orçamento'!$A$5:$A$104,"<="&Premissas!$B$7,'Orçamento'!$D$5:$D$104,$A34,'Orçamento'!$C$5:$C$104,"Despesa",'Orçamento'!$H$5:$H$104,"<>")=0,"",SUMIFS('Orçamento'!$H$5:$H$104,'Orçamento'!$A$5:$A$104,">="&Premissas!$B$6,'Orçamento'!$A$5:$A$104,"<="&Premissas!$B$7,'Orçamento'!$D$5:$D$104,$A34,'Orçamento'!$C$5:$C$104,"Despesa"))) | G34: =IF(Premissas!E10="","",Premissas!E10) | H34: =IF(G34="","",IFERROR(VLOOKUP(G34,Premissas!$E$4:$F$15,2,FALSE),"")) | I34: =IF($G34="","",IF(COUNTIFS('Orçamento'!$A$5:$A$104,">="&Premissas!$B$6,'Orçamento'!$A$5:$A$104,"<="&Premissas!$B$7,'Orçamento'!$B$5:$B$104,$G34,'Orçamento'!$G$5:$G$104,"<>")=0,"",SUMIFS('Orçamento'!$G$5:$G$104,'Orçamento'!$A$5:$A$104,">="&Premissas!$B$6,'Orçamento'!$A$5:$A$104,"<="&Premissas!$B$7,'Orçamento'!$B$5:$B$104,$G34))) | J34: =IF($G34="","",IF(COUNTIFS('Orçamento'!$A$5:$A$104,">="&Premissas!$B$6,'Orçamento'!$A$5:$A$104,"<="&Premissas!$B$7,'Orçamento'!$B$5:$B$104,$G34,'Orçamento'!$H$5:$H$104,"<>")=0,"",SUMIFS('Orçamento'!$H$5:$H$104,'Orçamento'!$A$5:$A$104,">="&Premissas!$B$6,'Orçamento'!$A$5:$A$104,"<="&Premissas!$B$7,'Orçamento'!$B$5:$B$104,$G34))) | K34: =IF(OR(NOT(ISNUMBER(I34)),NOT(ISNUMBER(J34))),"",J34-I34) | L34: =IF(OR(NOT(ISNUMBER(I34)),NOT(ISNUMBER(J34))),"",IFERROR(J34/I34,""))
A35: =IF(Premissas!H11="","",Premissas!H11) | B35: =IF($A35="","",IF(COUNTIFS('Orçamento'!$A$5:$A$104,">="&Premissas!$B$6,'Orçamento'!$A$5:$A$104,"<="&Premissas!$B$7,'Orçamento'!$D$5:$D$104,$A35,'Orçamento'!$C$5:$C$104,"Receita",'Orçamento'!$G$5:$G$104,"<>")=0,"",SUMIFS('Orçamento'!$G$5:$G$104,'Orçamento'!$A$5:$A$104,">="&Premissas!$B$6,'Orçamento'!$A$5:$A$104,"<="&Premissas!$B$7,'Orçamento'!$D$5:$D$104,$A35,'Orçamento'!$C$5:$C$104,"Receita"))) | C35: =IF($A35="","",IF(COUNTIFS('Orçamento'!$A$5:$A$104,">="&Premissas!$B$6,'Orçamento'!$A$5:$A$104,"<="&Premissas!$B$7,'Orçamento'!$D$5:$D$104,$A35,'Orçamento'!$C$5:$C$104,"Receita",'Orçamento'!$H$5:$H$104,"<>")=0,"",SUMIFS('Orçamento'!$H$5:$H$104,'Orçamento'!$A$5:$A$104,">="&Premissas!$B$6,'Orçamento'!$A$5:$A$104,"<="&Premissas!$B$7,'Orçamento'!$D$5:$D$104,$A35,'Orçamento'!$C$5:$C$104,"Receita"))) | D35: =IF($A35="","",IF(COUNTIFS('Orçamento'!$A$5:$A$104,">="&Premissas!$B$6,'Orçamento'!$A$5:$A$104,"<="&Premissas!$B$7,'Orçamento'!$D$5:$D$104,$A35,'Orçamento'!$C$5:$C$104,"Despesa",'Orçamento'!$G$5:$G$104,"<>")=0,"",SUMIFS('Orçamento'!$G$5:$G$104,'Orçamento'!$A$5:$A$104,">="&Premissas!$B$6,'Orçamento'!$A$5:$A$104,"<="&Premissas!$B$7,'Orçamento'!$D$5:$D$104,$A35,'Orçamento'!$C$5:$C$104,"Despesa"))) | E35: =IF($A35="","",IF(COUNTIFS('Orçamento'!$A$5:$A$104,">="&Premissas!$B$6,'Orçamento'!$A$5:$A$104,"<="&Premissas!$B$7,'Orçamento'!$D$5:$D$104,$A35,'Orçamento'!$C$5:$C$104,"Despesa",'Orçamento'!$H$5:$H$104,"<>")=0,"",SUMIFS('Orçamento'!$H$5:$H$104,'Orçamento'!$A$5:$A$104,">="&Premissas!$B$6,'Orçamento'!$A$5:$A$104,"<="&Premissas!$B$7,'Orçamento'!$D$5:$D$104,$A35,'Orçamento'!$C$5:$C$104,"Despesa"))) | G35: =IF(Premissas!E11="","",Premissas!E11) | H35: =IF(G35="","",IFERROR(VLOOKUP(G35,Premissas!$E$4:$F$15,2,FALSE),"")) | I35: =IF($G35="","",IF(COUNTIFS('Orçamento'!$A$5:$A$104,">="&Premissas!$B$6,'Orçamento'!$A$5:$A$104,"<="&Premissas!$B$7,'Orçamento'!$B$5:$B$104,$G35,'Orçamento'!$G$5:$G$104,"<>")=0,"",SUMIFS('Orçamento'!$G$5:$G$104,'Orçamento'!$A$5:$A$104,">="&Premissas!$B$6,'Orçamento'!$A$5:$A$104,"<="&Premissas!$B$7,'Orçamento'!$B$5:$B$104,$G35))) | J35: =IF($G35="","",IF(COUNTIFS('Orçamento'!$A$5:$A$104,">="&Premissas!$B$6,'Orçamento'!$A$5:$A$104,"<="&Premissas!$B$7,'Orçamento'!$B$5:$B$104,$G35,'Orçamento'!$H$5:$H$104,"<>")=0,"",SUMIFS('Orçamento'!$H$5:$H$104,'Orçamento'!$A$5:$A$104,">="&Premissas!$B$6,'Orçamento'!$A$5:$A$104,"<="&Premissas!$B$7,'Orçamento'!$B$5:$B$104,$G35))) | K35: =IF(OR(NOT(ISNUMBER(I35)),NOT(ISNUMBER(J35))),"",J35-I35) | L35: =IF(OR(NOT(ISNUMBER(I35)),NOT(ISNUMBER(J35))),"",IFERROR(J35/I35,""))
A36: =IF(Premissas!H12="","",Premissas!H12) | B36: =IF($A36="","",IF(COUNTIFS('Orçamento'!$A$5:$A$104,">="&Premissas!$B$6,'Orçamento'!$A$5:$A$104,"<="&Premissas!$B$7,'Orçamento'!$D$5:$D$104,$A36,'Orçamento'!$C$5:$C$104,"Receita",'Orçamento'!$G$5:$G$104,"<>")=0,"",SUMIFS('Orçamento'!$G$5:$G$104,'Orçamento'!$A$5:$A$104,">="&Premissas!$B$6,'Orçamento'!$A$5:$A$104,"<="&Premissas!$B$7,'Orçamento'!$D$5:$D$104,$A36,'Orçamento'!$C$5:$C$104,"Receita"))) | C36: =IF($A36="","",IF(COUNTIFS('Orçamento'!$A$5:$A$104,">="&Premissas!$B$6,'Orçamento'!$A$5:$A$104,"<="&Premissas!$B$7,'Orçamento'!$D$5:$D$104,$A36,'Orçamento'!$C$5:$C$104,"Receita",'Orçamento'!$H$5:$H$104,"<>")=0,"",SUMIFS('Orçamento'!$H$5:$H$104,'Orçamento'!$A$5:$A$104,">="&Premissas!$B$6,'Orçamento'!$A$5:$A$104,"<="&Premissas!$B$7,'Orçamento'!$D$5:$D$104,$A36,'Orçamento'!$C$5:$C$104,"Receita"))) | D36: =IF($A36="","",IF(COUNTIFS('Orçamento'!$A$5:$A$104,">="&Premissas!$B$6,'Orçamento'!$A$5:$A$104,"<="&Premissas!$B$7,'Orçamento'!$D$5:$D$104,$A36,'Orçamento'!$C$5:$C$104,"Despesa",'Orçamento'!$G$5:$G$104,"<>")=0,"",SUMIFS('Orçamento'!$G$5:$G$104,'Orçamento'!$A$5:$A$104,">="&Premissas!$B$6,'Orçamento'!$A$5:$A$104,"<="&Premissas!$B$7,'Orçamento'!$D$5:$D$104,$A36,'Orçamento'!$C$5:$C$104,"Despesa"))) | E36: =IF($A36="","",IF(COUNTIFS('Orçamento'!$A$5:$A$104,">="&Premissas!$B$6,'Orçamento'!$A$5:$A$104,"<="&Premissas!$B$7,'Orçamento'!$D$5:$D$104,$A36,'Orçamento'!$C$5:$C$104,"Despesa",'Orçamento'!$H$5:$H$104,"<>")=0,"",SUMIFS('Orçamento'!$H$5:$H$104,'Orçamento'!$A$5:$A$104,">="&Premissas!$B$6,'Orçamento'!$A$5:$A$104,"<="&Premissas!$B$7,'Orçamento'!$D$5:$D$104,$A36,'Orçamento'!$C$5:$C$104,"Despesa"))) | G36: =IF(Premissas!E12="","",Premissas!E12) | H36: =IF(G36="","",IFERROR(VLOOKUP(G36,Premissas!$E$4:$F$15,2,FALSE),"")) | I36: =IF($G36="","",IF(COUNTIFS('Orçamento'!$A$5:$A$104,">="&Premissas!$B$6,'Orçamento'!$A$5:$A$104,"<="&Premissas!$B$7,'Orçamento'!$B$5:$B$104,$G36,'Orçamento'!$G$5:$G$104,"<>")=0,"",SUMIFS('Orçamento'!$G$5:$G$104,'Orçamento'!$A$5:$A$104,">="&Premissas!$B$6,'Orçamento'!$A$5:$A$104,"<="&Premissas!$B$7,'Orçamento'!$B$5:$B$104,$G36))) | J36: =IF($G36="","",IF(COUNTIFS('Orçamento'!$A$5:$A$104,">="&Premissas!$B$6,'Orçamento'!$A$5:$A$104,"<="&Premissas!$B$7,'Orçamento'!$B$5:$B$104,$G36,'Orçamento'!$H$5:$H$104,"<>")=0,"",SUMIFS('Orçamento'!$H$5:$H$104,'Orçamento'!$A$5:$A$104,">="&Premissas!$B$6,'Orçamento'!$A$5:$A$104,"<="&Premissas!$B$7,'Orçamento'!$B$5:$B$104,$G36))) | K36: =IF(OR(NOT(ISNUMBER(I36)),NOT(ISNUMBER(J36))),"",J36-I36) | L36: =IF(OR(NOT(ISNUMBER(I36)),NOT(ISNUMBER(J36))),"",IFERROR(J36/I36,""))
A37: =IF(Premissas!H13="","",Premissas!H13) | B37: =IF($A37="","",IF(COUNTIFS('Orçamento'!$A$5:$A$104,">="&Premissas!$B$6,'Orçamento'!$A$5:$A$104,"<="&Premissas!$B$7,'Orçamento'!$D$5:$D$104,$A37,'Orçamento'!$C$5:$C$104,"Receita",'Orçamento'!$G$5:$G$104,"<>")=0,"",SUMIFS('Orçamento'!$G$5:$G$104,'Orçamento'!$A$5:$A$104,">="&Premissas!$B$6,'Orçamento'!$A$5:$A$104,"<="&Premissas!$B$7,'Orçamento'!$D$5:$D$104,$A37,'Orçamento'!$C$5:$C$104,"Receita"))) | C37: =IF($A37="","",IF(COUNTIFS('Orçamento'!$A$5:$A$104,">="&Premissas!$B$6,'Orçamento'!$A$5:$A$104,"<="&Premissas!$B$7,'Orçamento'!$D$5:$D$104,$A37,'Orçamento'!$C$5:$C$104,"Receita",'Orçamento'!$H$5:$H$104,"<>")=0,"",SUMIFS('Orçamento'!$H$5:$H$104,'Orçamento'!$A$5:$A$104,">="&Premissas!$B$6,'Orçamento'!$A$5:$A$104,"<="&Premissas!$B$7,'Orçamento'!$D$5:$D$104,$A37,'Orçamento'!$C$5:$C$104,"Receita"))) | D37: =IF($A37="","",IF(COUNTIFS('Orçamento'!$A$5:$A$104,">="&Premissas!$B$6,'Orçamento'!$A$5:$A$104,"<="&Premissas!$B$7,'Orçamento'!$D$5:$D$104,$A37,'Orçamento'!$C$5:$C$104,"Despesa",'Orçamento'!$G$5:$G$104,"<>")=0,"",SUMIFS('Orçamento'!$G$5:$G$104,'Orçamento'!$A$5:$A$104,">="&Premissas!$B$6,'Orçamento'!$A$5:$A$104,"<="&Premissas!$B$7,'Orçamento'!$D$5:$D$104,$A37,'Orçamento'!$C$5:$C$104,"Despesa"))) | E37: =IF($A37="","",IF(COUNTIFS('Orçamento'!$A$5:$A$104,">="&Premissas!$B$6,'Orçamento'!$A$5:$A$104,"<="&Premissas!$B$7,'Orçamento'!$D$5:$D$104,$A37,'Orçamento'!$C$5:$C$104,"Despesa",'Orçamento'!$H$5:$H$104,"<>")=0,"",SUMIFS('Orçamento'!$H$5:$H$104,'Orçamento'!$A$5:$A$104,">="&Premissas!$B$6,'Orçamento'!$A$5:$A$104,"<="&Premissas!$B$7,'Orçamento'!$D$5:$D$104,$A37,'Orçamento'!$C$5:$C$104,"Despesa"))) | G37: =IF(Premissas!E13="","",Premissas!E13) | H37: =IF(G37="","",IFERROR(VLOOKUP(G37,Premissas!$E$4:$F$15,2,FALSE),"")) | I37: =IF($G37="","",IF(COUNTIFS('Orçamento'!$A$5:$A$104,">="&Premissas!$B$6,'Orçamento'!$A$5:$A$104,"<="&Premissas!$B$7,'Orçamento'!$B$5:$B$104,$G37,'Orçamento'!$G$5:$G$104,"<>")=0,"",SUMIFS('Orçamento'!$G$5:$G$104,'Orçamento'!$A$5:$A$104,">="&Premissas!$B$6,'Orçamento'!$A$5:$A$104,"<="&Premissas!$B$7,'Orçamento'!$B$5:$B$104,$G37))) | J37: =IF($G37="","",IF(COUNTIFS('Orçamento'!$A$5:$A$104,">="&Premissas!$B$6,'Orçamento'!$A$5:$A$104,"<="&Premissas!$B$7,'Orçamento'!$B$5:$B$104,$G37,'Orçamento'!$H$5:$H$104,"<>")=0,"",SUMIFS('Orçamento'!$H$5:$H$104,'Orçamento'!$A$5:$A$104,">="&Premissas!$B$6,'Orçamento'!$A$5:$A$104,"<="&Premissas!$B$7,'Orçamento'!$B$5:$B$104,$G37))) | K37: =IF(OR(NOT(ISNUMBER(I37)),NOT(ISNUMBER(J37))),"",J37-I37) | L37: =IF(OR(NOT(ISNUMBER(I37)),NOT(ISNUMBER(J37))),"",IFERROR(J37/I37,""))
G38: =IF(Premissas!E14="","",Premissas!E14) | H38: =IF(G38="","",IFERROR(VLOOKUP(G38,Premissas!$E$4:$F$15,2,FALSE),"")) | I38: =IF($G38="","",IF(COUNTIFS('Orçamento'!$A$5:$A$104,">="&Premissas!$B$6,'Orçamento'!$A$5:$A$104,"<="&Premissas!$B$7,'Orçamento'!$B$5:$B$104,$G38,'Orçamento'!$G$5:$G$104,"<>")=0,"",SUMIFS('Orçamento'!$G$5:$G$104,'Orçamento'!$A$5:$A$104,">="&Premissas!$B$6,'Orçamento'!$A$5:$A$104,"<="&Premissas!$B$7,'Orçamento'!$B$5:$B$104,$G38))) | J38: =IF($G38="","",IF(COUNTIFS('Orçamento'!$A$5:$A$104,">="&Premissas!$B$6,'Orçamento'!$A$5:$A$104,"<="&Premissas!$B$7,'Orçamento'!$B$5:$B$104,$G38,'Orçamento'!$H$5:$H$104,"<>")=0,"",SUMIFS('Orçamento'!$H$5:$H$104,'Orçamento'!$A$5:$A$104,">="&Premissas!$B$6,'Orçamento'!$A$5:$A$104,"<="&Premissas!$B$7,'Orçamento'!$B$5:$B$104,$G38))) | K38: =IF(OR(NOT(ISNUMBER(I38)),NOT(ISNUMBER(J38))),"",J38-I38) | L38: =IF(OR(NOT(ISNUMBER(I38)),NOT(ISNUMBER(J38))),"",IFERROR(J38/I38,""))
G39: =IF(Premissas!E15="","",Premissas!E15) | H39: =IF(G39="","",IFERROR(VLOOKUP(G39,Premissas!$E$4:$F$15,2,FALSE),"")) | I39: =IF($G39="","",IF(COUNTIFS('Orçamento'!$A$5:$A$104,">="&Premissas!$B$6,'Orçamento'!$A$5:$A$104,"<="&Premissas!$B$7,'Orçamento'!$B$5:$B$104,$G39,'Orçamento'!$G$5:$G$104,"<>")=0,"",SUMIFS('Orçamento'!$G$5:$G$104,'Orçamento'!$A$5:$A$104,">="&Premissas!$B$6,'Orçamento'!$A$5:$A$104,"<="&Premissas!$B$7,'Orçamento'!$B$5:$B$104,$G39))) | J39: =IF($G39="","",IF(COUNTIFS('Orçamento'!$A$5:$A$104,">="&Premissas!$B$6,'Orçamento'!$A$5:$A$104,"<="&Premissas!$B$7,'Orçamento'!$B$5:$B$104,$G39,'Orçamento'!$H$5:$H$104,"<>")=0,"",SUMIFS('Orçamento'!$H$5:$H$104,'Orçamento'!$A$5:$A$104,">="&Premissas!$B$6,'Orçamento'!$A$5:$A$104,"<="&Premissas!$B$7,'Orçamento'!$B$5:$B$104,$G39))) | K39: =IF(OR(NOT(ISNUMBER(I39)),NOT(ISNUMBER(J39))),"",J39-I39) | L39: =IF(OR(NOT(ISNUMBER(I39)),NOT(ISNUMBER(J39))),"",IFERROR(J39/I39,""))

Sheet Orçamento
A1: Orçamento anual — Congregação Fictícia Horizonte
A2: Preencha as células amarelas. As situações calculadas são alertas para conferência humana.
A4: Mês de referência | B4: Conta | C4: Natureza | D4: Ministério | E4: Evento | F4: Responsável | G4: Previsto | H4: Realizado | I4: Variação | J4: Execução | K4: Situação
