Workbook

Sheet Resumo
A1: Fluxo de caixa mensal da igreja
A2: Mês analisado | B2: =IF('Premissas'!$B$3="","",'Premissas'!$B$3)
A4: Saldo inicial | B4: =IF($B$2="","",'Premissas'!$B$4) | D4: Entradas do mês | E4: =IF($B$2="","",SUM($B$12:$B$16))
A5: Saldo final projetado | B5: =IF($B$2="","",$D$16) | D5: Saídas do mês | E5: =IF($B$2="","",SUM($C$12:$C$16))
A6: Menor saldo projetado | B6: =IF($B$2="","",IFERROR(MIN($B$4,$D$12:$D$16),"")) | D6: Lançamentos previstos | E6: =IF($B$2="","",IFERROR(COUNTIFS('Lançamentos'!$A$6:$A$125,">="&$B$2,'Lançamentos'!$A$6:$A$125,"<"&EDATE($B$2,1),'Lançamentos'!$G$6:$G$125,"Previsto"),0))
A7: Saldo mínimo desejado | B7: =IF($B$2="","",'Premissas'!$B$5) | D7: Valores para conferência | E7: =IF($B$2="","",IFERROR(COUNTIFS('Lançamentos'!$A$6:$A$125,">="&$B$2,'Lançamentos'!$A$6:$A$125,"<"&EDATE($B$2,1),'Lançamentos'!$J$6:$J$125,">"&'Premissas'!$B$6,'Lançamentos'!$G$6:$G$125,"<>Cancelado"),0))
A8: Situação | B8: =IF($B$2="","",IF($B$6<$B$7,"Conferir saldo projetado","Saldo acima do limite informado"))
A11: Semana | B11: Entradas | C11: Saídas | D11: Saldo projetado
A12: Sem. 1 | B12: =IF($B$2="","",IFERROR(SUMIFS('Lançamentos'!$J$6:$J$125,'Lançamentos'!$A$6:$A$125,">="&$B$2,'Lançamentos'!$A$6:$A$125,"<"&EDATE($B$2,1),'Lançamentos'!$B$6:$B$125,1,'Lançamentos'!$C$6:$C$125,"Entrada",'Lançamentos'!$G$6:$G$125,"<>Cancelado"),0)) | C12: =IF($B$2="","",IFERROR(SUMIFS('Lançamentos'!$J$6:$J$125,'Lançamentos'!$A$6:$A$125,">="&$B$2,'Lançamentos'!$A$6:$A$125,"<"&EDATE($B$2,1),'Lançamentos'!$B$6:$B$125,1,'Lançamentos'!$C$6:$C$125,"Saída",'Lançamentos'!$G$6:$G$125,"<>Cancelado"),0)) | D12: =IF($B$2="","",$B$4+$B12-$C12)
A13: Sem. 2 | B13: =IF($B$2="","",IFERROR(SUMIFS('Lançamentos'!$J$6:$J$125,'Lançamentos'!$A$6:$A$125,">="&$B$2,'Lançamentos'!$A$6:$A$125,"<"&EDATE($B$2,1),'Lançamentos'!$B$6:$B$125,2,'Lançamentos'!$C$6:$C$125,"Entrada",'Lançamentos'!$G$6:$G$125,"<>Cancelado"),0)) | C13: =IF($B$2="","",IFERROR(SUMIFS('Lançamentos'!$J$6:$J$125,'Lançamentos'!$A$6:$A$125,">="&$B$2,'Lançamentos'!$A$6:$A$125,"<"&EDATE($B$2,1),'Lançamentos'!$B$6:$B$125,2,'Lançamentos'!$C$6:$C$125,"Saída",'Lançamentos'!$G$6:$G$125,"<>Cancelado"),0)) | D13: =IF($B$2="","",$D12+$B13-$C13)
A14: Sem. 3 | B14: =IF($B$2="","",IFERROR(SUMIFS('Lançamentos'!$J$6:$J$125,'Lançamentos'!$A$6:$A$125,">="&$B$2,'Lançamentos'!$A$6:$A$125,"<"&EDATE($B$2,1),'Lançamentos'!$B$6:$B$125,3,'Lançamentos'!$C$6:$C$125,"Entrada",'Lançamentos'!$G$6:$G$125,"<>Cancelado"),0)) | C14: =IF($B$2="","",IFERROR(SUMIFS('Lançamentos'!$J$6:$J$125,'Lançamentos'!$A$6:$A$125,">="&$B$2,'Lançamentos'!$A$6:$A$125,"<"&EDATE($B$2,1),'Lançamentos'!$B$6:$B$125,3,'Lançamentos'!$C$6:$C$125,"Saída",'Lançamentos'!$G$6:$G$125,"<>Cancelado"),0)) | D14: =IF($B$2="","",$D13+$B14-$C14)
A15: Sem. 4 | B15: =IF($B$2="","",IFERROR(SUMIFS('Lançamentos'!$J$6:$J$125,'Lançamentos'!$A$6:$A$125,">="&$B$2,'Lançamentos'!$A$6:$A$125,"<"&EDATE($B$2,1),'Lançamentos'!$B$6:$B$125,4,'Lançamentos'!$C$6:$C$125,"Entrada",'Lançamentos'!$G$6:$G$125,"<>Cancelado"),0)) | C15: =IF($B$2="","",IFERROR(SUMIFS('Lançamentos'!$J$6:$J$125,'Lançamentos'!$A$6:$A$125,">="&$B$2,'Lançamentos'!$A$6:$A$125,"<"&EDATE($B$2,1),'Lançamentos'!$B$6:$B$125,4,'Lançamentos'!$C$6:$C$125,"Saída",'Lançamentos'!$G$6:$G$125,"<>Cancelado"),0)) | D15: =IF($B$2="","",$D14+$B15-$C15)
A16: Sem. 5 | B16: =IF($B$2="","",IFERROR(SUMIFS('Lançamentos'!$J$6:$J$125,'Lançamentos'!$A$6:$A$125,">="&$B$2,'Lançamentos'!$A$6:$A$125,"<"&EDATE($B$2,1),'Lançamentos'!$B$6:$B$125,5,'Lançamentos'!$C$6:$C$125,"Entrada",'Lançamentos'!$G$6:$G$125,"<>Cancelado"),0)) | C16: =IF($B$2="","",IFERROR(SUMIFS('Lançamentos'!$J$6:$J$125,'Lançamentos'!$A$6:$A$125,">="&$B$2,'Lançamentos'!$A$6:$A$125,"<"&EDATE($B$2,1),'Lançamentos'!$B$6:$B$125,5,'Lançamentos'!$C$6:$C$125,"Saída",'Lançamentos'!$G$6:$G$125,"<>Cancelado"),0)) | D16: =IF($B$2="","",$D15+$B16-$C16)

Sheet Lançamentos
A1: Lançamentos mensais — dados fictícios de exemplo
A2: Mês em foco | B2: =IF('Premissas'!$B$3="","",'Premissas'!$B$3) | J2: Limite de conferência | K2: =IF('Premissas'!$B$6="","",'Premissas'!$B$6)
G3: Datas aceitas | H3: =IF('Premissas'!$B$7="","",'Premissas'!$B$7) | I3: até | J3: =IF('Premissas'!$B$8="","",'Premissas'!$B$8)
A5: Data | B5: Semana | C5: Tipo | D5: Descrição | E5: Ministério | F5: Responsável | G5: Status | H5: Quantidade | I5: Valor unitário | J5: Valor total | K5: Impacto no caixa
A6: 46266 | B6: =IF($A6="","",IF(DAY($A6)<=7,1,IF(DAY($A6)<=14,2,IF(DAY($A6)<=21,3,IF(DAY($A6)<=28,4,5))))) | C6: Entrada | D6: Contribuições simuladas da reunião fictícia | E6: Celebração | F6: Responsável fictício Alfa | G6: Realizado | H6: 1 | I6: 4200 | J6: =IF(OR($H6="",$I6=""),"",IFERROR($H6*$I6,"")) | K6: =IF(OR($J6="",$C6="",$G6=""),"",IF($G6="Cancelado",0,IF($C6="Entrada",$J6,IF($C6="Saída",-$J6,""))))
A7: 46268 | B7: =IF($A7="","",IF(DAY($A7)<=7,1,IF(DAY($A7)<=14,2,IF(DAY($A7)<=21,3,IF(DAY($A7)<=28,4,5))))) | C7: Saída | D7: Material administrativo de demonstração | E7: Administração | F7: Responsável fictício Beta | G7: Realizado | H7: 1 | I7: 380 | J7: =IF(OR($H7="",$I7=""),"",IFERROR($H7*$I7,"")) | K7: =IF(OR($J7="",$C7="",$G7=""),"",IF($G7="Cancelado",0,IF($C7="Entrada",$J7,IF($C7="Saída",-$J7,""))))
A8: 46271 | B8: =IF($A8="","",IF(DAY($A8)<=7,1,IF(DAY($A8)<=14,2,IF(DAY($A8)<=21,3,IF(DAY($A8)<=28,4,5))))) | C8: Entrada | D8: Inscrições do encontro fictício Aurora | E8: Formação | F8: Responsável fictício Gama | G8: Previsto | H8: 25 | I8: 40 | J8: =IF(OR($H8="",$I8=""),"",IFERROR($H8*$I8,"")) | K8: =IF(OR($J8="",$C8="",$G8=""),"",IF($G8="Cancelado",0,IF($C8="Entrada",$J8,IF($C8="Saída",-$J8,""))))
A9: 46273 | B9: =IF($A9="","",IF(DAY($A9)<=7,1,IF(DAY($A9)<=14,2,IF(DAY($A9)<=21,3,IF(DAY($A9)<=28,4,5))))) | C9: Saída | D9: Locação fictícia de equipamento sonoro | E9: Celebração | F9: Responsável fictício Delta | G9: Previsto | H9: 1 | I9: 650 | J9: =IF(OR($H9="",$I9=""),"",IFERROR($H9*$I9,"")) | K9: =IF(OR($J9="",$C9="",$G9=""),"",IF($G9="Cancelado",0,IF($C9="Entrada",$J9,IF($C9="Saída",-$J9,""))))
A10: 46276 | B10: =IF($A10="","",IF(DAY($A10)<=7,1,IF(DAY($A10)<=14,2,IF(DAY($A10)<=21,3,IF(DAY($A10)<=28,4,5))))) | C10: Saída | D10: Apoio à ação comunitária simulada | E10: Ação comunitária | F10: Responsável fictício Épsilon | G10: Realizado | H10: 1 | I10: 900 | J10: =IF(OR($H10="",$I10=""),"",IFERROR($H10*$I10,"")) | K10: =IF(OR($J10="",$C10="",$G10=""),"",IF($G10="Cancelado",0,IF($C10="Entrada",$J10,IF($C10="Saída",-$J10,""))))
A11: 46280 | B11: =IF($A11="","",IF(DAY($A11)<=7,1,IF(DAY($A11)<=14,2,IF(DAY($A11)<=21,3,IF(DAY($A11)<=28,4,5))))) | C11: Entrada | D11: Bazar demonstrativo Ipê | E11: Comunhão | F11: Responsável fictício Zeta | G11: Previsto | H11: 75 | I11: 20 | J11: =IF(OR($H11="",$I11=""),"",IFERROR($H11*$I11,"")) | K11: =IF(OR($J11="",$C11="",$G11=""),"",IF($G11="Cancelado",0,IF($C11="Entrada",$J11,IF($C11="Saída",-$J11,""))))
A12: 46283 | B12: =IF($A12="","",IF(DAY($A12)<=7,1,IF(DAY($A12)<=14,2,IF(DAY($A12)<=21,3,IF(DAY($A12)<=28,4,5))))) | C12: Saída | D12: Manutenção do projetor cenográfico fictício | E12: Patrimônio | F12: Responsável fictício Eta | G12: Previsto | H12: 1 | I12: 480 | J12: =IF(OR($H12="",$I12=""),"",IFERROR($H12*$I12,"")) | K12: =IF(OR($J12="",$C12="",$G12=""),"",IF($G12="Cancelado",0,IF($C12="Entrada",$J12,IF($C12="Saída",-$J12,""))))
A13: 46287 | B13: =IF($A13="","",IF(DAY($A13)<=7,1,IF(DAY($A13)<=14,2,IF(DAY($A13)<=21,3,IF(DAY($A13)<=28,4,5))))) | C13: Entrada | D13: Oferta simulada para atividade juvenil | E13: Juventude | F13: Responsável fictício Teta | G13: Realizado | H13: 1 | I13: 800 | J13: =IF(OR($H13="",$I13=""),"",IFERROR($H13*$I13,"")) | K13: =IF(OR($J13="",$C13="",$G13=""),"",IF($G13="Cancelado",0,IF($C13="Entrada",$J13,IF($C13="Saída",-$J13,""))))
A14: 46290 | B14: =IF($A14="","",IF(DAY($A14)<=7,1,IF(DAY($A14)<=14,2,IF(DAY($A14)<=21,3,IF(DAY($A14)<=28,4,5))))) | C14: Saída | D14: Transporte da atividade fictícia Horizonte | E14: Juventude | F14: Responsável fictício Iota | G14: Previsto | H14: 1 | I14: 700 | J14: =IF(OR($H14="",$I14=""),"",IFERROR($H14*$I14,"")) | K14: =IF(OR($J14="",$C14="",$G14=""),"",IF($G14="Cancelado",0,IF($C14="Entrada",$J14,IF($C14="Saída",-$J14,""))))
A15: 46295 | B15: =IF($A15="","",IF(DAY($A15)<=7,1,IF(DAY($A15)<=14,2,IF(DAY($A15)<=21,3,IF(DAY($A15)<=28,4,5))))) | C15: Entrada | D15: Cantina simulada do evento fictício Nuvem | E15: Comunhão | F15: Responsável fictício Capa | G15: Cancelado | H15: 60 | I15: 12 | J15: =IF(OR($H15="",$I15=""),"",IFERROR($H15*$I15,"")) | K15: =IF(OR($J15="",$C15="",$G15=""),"",IF($G15="Cancelado",0,IF($C15="Entrada",$J15,IF($C15="Saída",-$J15,""))))
B16: =IF($A16="","",IF(DAY($A16)<=7,1,IF(DAY($A16)<=14,2,IF(DAY($A16)<=21,3,IF(DAY($A16)<=28,4,5))))) | J16: =IF(OR($H16="",$I16=""),"",IFERROR($H16*$I16,"")) | K16: =IF(OR($J16="",$C16="",$G16=""),"",IF($G16="Cancelado",0,IF($C16="Entrada",$J16,IF($C16="Saída",-$J16,""))))
B17: =IF($A17="","",IF(DAY($A17)<=7,1,IF(DAY($A17)<=14,2,IF(DAY($A17)<=21,3,IF(DAY($A17)<=28,4,5))))) | J17: =IF(OR($H17="",$I17=""),"",IFERROR($H17*$I17,"")) | K17: =IF(OR($J17="",$C17="",$G17=""),"",IF($G17="Cancelado",0,IF($C17="Entrada",$J17,IF($C17="Saída",-$J17,""))))
B18: =IF($A18="","",IF(DAY($A18)<=7,1,IF(DAY($A18)<=14,2,IF(DAY($A18)<=21,3,IF(DAY($A18)<=28,4,5))))) | J18: =IF(OR($H18="",$I18=""),"",IFERROR($H18*$I18,"")) | K18: =IF(OR($J18="",$C18="",$G18=""),"",IF($G18="Cancelado",0,IF($C18="Entrada",$J18,IF($C18="Saída",-$J18,""))))
B19: =IF($A19="","",IF(DAY($A19)<=7,1,IF(DAY($A19)<=14,2,IF(DAY($A19)<=21,3,IF(DAY($A19)<=28,4,5))))) | J19: =IF(OR($H19="",$I19=""),"",IFERROR($H19*$I19,"")) | K19: =IF(OR($J19="",$C19="",$G19=""),"",IF($G19="Cancelado",0,IF($C19="Entrada",$J19,IF($C19="Saída",-$J19,""))))
B20: =IF($A20="","",IF(DAY($A20)<=7,1,IF(DAY($A20)<=14,2,IF(DAY($A20)<=21,3,IF(DAY($A20)<=28,4,5))))) | J20: =IF(OR($H20="",$I20=""),"",IFERROR($H20*$I20,"")) | K20: =IF(OR($J20="",$C20="",$G20=""),"",IF($G20="Cancelado",0,IF($C20="Entrada",$J20,IF($C20="Saída",-$J20,""))))
B21: =IF($A21="","",IF(DAY($A21)<=7,1,IF(DAY($A21)<=14,2,IF(DAY($A21)<=21,3,IF(DAY($A21)<=28,4,5))))) | J21: =IF(OR($H21="",$I21=""),"",IFERROR($H21*$I21,"")) | K21: =IF(OR($J21="",$C21="",$G21=""),"",IF($G21="Cancelado",0,IF($C21="Entrada",$J21,IF($C21="Saída",-$J21,""))))
B22: =IF($A22="","",IF(DAY($A22)<=7,1,IF(DAY($A22)<=14,2,IF(DAY($A22)<=21,3,IF(DAY($A22)<=28,4,5))))) | J22: =IF(OR($H22="",$I22=""),"",IFERROR($H22*$I22,"")) | K22: =IF(OR($J22="",$C22="",$G22=""),"",IF($G22="Cancelado",0,IF($C22="Entrada",$J22,IF($C22="Saída",-$J22,""))))
B23: =IF($A23="","",IF(DAY($A23)<=7,1,IF(DAY($A23)<=14,2,IF(DAY($A23)<=21,3,IF(DAY($A23)<=28,4,5))))) | J23: =IF(OR($H23="",$I23=""),"",IFERROR($H23*$I23,"")) | K23: =IF(OR($J23="",$C23="",$G23=""),"",IF($G23="Cancelado",0,IF($C23="Entrada",$J23,IF($C23="Saída",-$J23,""))))
B24: =IF($A24="","",IF(DAY($A24)<=7,1,IF(DAY($A24)<=14,2,IF(DAY($A24)<=21,3,IF(DAY($A24)<=28,4,5))))) | J24: =IF(OR($H24="",$I24=""),"",IFERROR($H24*$I24,"")) | K24: =IF(OR($J24="",$C24="",$G24=""),"",IF($G24="Cancelado",0,IF($C24="Entrada",$J24,IF($C24="Saída",-$J24,""))))
B25: =IF($A25="","",IF(DAY($A25)<=7,1,IF(DAY($A25)<=14,2,IF(DAY($A25)<=21,3,IF(DAY($A25)<=28,4,5))))) | J25: =IF(OR($H25="",$I25=""),"",IFERROR($H25*$I25,"")) | K25: =IF(OR($J25="",$C25="",$G25=""),"",IF($G25="Cancelado",0,IF($C25="Entrada",$J25,IF($C25="Saída",-$J25,""))))
B26: =IF($A26="","",IF(DAY($A26)<=7,1,IF(DAY($A26)<=14,2,IF(DAY($A26)<=21,3,IF(DAY($A26)<=28,4,5))))) | J26: =IF(OR($H26="",$I26=""),"",IFERROR($H26*$I26,"")) | K26: =IF(OR($J26="",$C26="",$G26=""),"",IF($G26="Cancelado",0,IF($C26="Entrada",$J26,IF($C26="Saída",-$J26,""))))
B27: =IF($A27="","",IF(DAY($A27)<=7,1,IF(DAY($A27)<=14,2,IF(DAY($A27)<=21,3,IF(DAY($A27)<=28,4,5))))) | J27: =IF(OR($H27="",$I27=""),"",IFERROR($H27*$I27,"")) | K27: =IF(OR($J27="",$C27="",$G27=""),"",IF($G27="Cancelado",0,IF($C27="Entrada",$J27,IF($C27="Saída",-$J27,""))))
... B125: =IF($A125="","",IF(DAY($A125)<=7,1,IF(DAY($A125)<=14,2,IF(DAY($A125)<=21,3,IF(DAY($A125)<=28,4,5))))) | J125: =IF(OR($H125="",$I125=""),"",IFERROR($H125*$I125,"")) | K125: =IF(OR($J125="",$C125="",$G125=""),"",IF($G125="Cancelado",0,IF($C125="Entrada",$J125,IF($C125="Saída",-$J125,""))))

Sheet Premissas
A1: Premissas editáveis do fluxo de caixa
A2: Parâmetros editáveis
A3: Mês de referência | B3: 46266
A4: Saldo inicial do mês | B4: 2500
A5: Saldo mínimo desejado | B5: 1000
A6: Limite de conferência por lançamento | B6: 3000
A7: Data inicial aceita | B7: 45292
A8: Data final aceita | B8: 47118
A10: Os alertas indicam apenas a necessidade de conferência humana.
