Workbook

Sheet Resumo
A1: Resumo do fechamento mensal da tesouraria
A3: Indicador | B3: Resultado | G3: Movimento | H3: Valor confirmado
A4: Competência | B4: =IF(Premissas!$B$4="","",Premissas!$B$4) | G4: Entradas | H4: =B6
A5: Saldo inicial total | B5: =IF(B4="","",SUM(Premissas!$B$5:$B$6)) | G5: Saídas | H5: =B7
A6: Entradas confirmadas | B6: =IF(B4="","",SUMIFS('Lançamentos'!$H$4:$H$103,'Lançamentos'!$D$4:$D$103,"Entrada",'Lançamentos'!$I$4:$I$103,"Confirmado",'Lançamentos'!$A$4:$A$103,">="&EOMONTH(B4,-1)+1,'Lançamentos'!$A$4:$A$103,"<="&EOMONTH(B4,0)))
A7: Saídas confirmadas | B7: =IF(B4="","",SUMIFS('Lançamentos'!$H$4:$H$103,'Lançamentos'!$D$4:$D$103,"Saída",'Lançamentos'!$I$4:$I$103,"Confirmado",'Lançamentos'!$A$4:$A$103,">="&EOMONTH(B4,-1)+1,'Lançamentos'!$A$4:$A$103,"<="&EOMONTH(B4,0)))
A8: Saldo esperado | B8: =IF(B4="","",B5+B6-B7)
A9: Saldo apurado | B9: =IF(COUNT(Fechamento!$B$9:$B$10)<2,"",SUM(Fechamento!$B$9:$B$10))
A10: Diferença de fechamento | B10: =IF(OR(B8="",B9=""),"",B9-B8)
A11: Valor pendente | B11: =IF(B4="","",SUMIFS('Lançamentos'!$H$4:$H$103,'Lançamentos'!$I$4:$I$103,"Pendente",'Lançamentos'!$A$4:$A$103,">="&EOMONTH(B4,-1)+1,'Lançamentos'!$A$4:$A$103,"<="&EOMONTH(B4,0)))
A12: Lançamentos pendentes | B12: =IF(B4="","",COUNTIFS('Lançamentos'!$I$4:$I$103,"Pendente",'Lançamentos'!$A$4:$A$103,">="&EOMONTH(B4,-1)+1,'Lançamentos'!$A$4:$A$103,"<="&EOMONTH(B4,0)))
A13: Comprovantes a conferir | B13: =IF(B4="","",COUNTIFS('Lançamentos'!$I$4:$I$103,"Confirmado",'Lançamentos'!$K$4:$K$103,"<>Sim",'Lançamentos'!$A$4:$A$103,">="&EOMONTH(B4,-1)+1,'Lançamentos'!$A$4:$A$103,"<="&EOMONTH(B4,0)))
A14: Status do fechamento | B14: =IF(B4="","",IF(OR(B9="",Fechamento!$B$28="",Fechamento!$B$29="",Fechamento!$B$30="",Fechamento!$B$31=""),"Conferir preenchimento",IF(AND(ABS(B10)<=Premissas!$B$7,B12=0,B13=0),"Pronto para revisão interna","Conferir pendências")))

Sheet Lançamentos
A1: Lançamentos da competência
A2: Preencha somente movimentações da competência indicada em Premissas. | N2: =EOMONTH(Premissas!$B$4,-1)+1 | O2: =EOMONTH(Premissas!$B$4,0) | P2: =Premissas!D4 | Q2: =Premissas!E4 | R2: =Premissas!F4 | S2: =Premissas!G4 | T2: =Premissas!H4 | U2: =Premissas!I4
A3: Data | B3: Referência | C3: Descrição | D3: Tipo | E3: Ministério | F3: Forma | G3: Valor previsto | H3: Valor realizado | I3: Status | J3: Responsável | K3: Comprovante conferido? | L3: Diferença | M3: Alerta | P3: =Premissas!D5 | Q3: =Premissas!E5 | R3: =Premissas!F5 | S3: =Premissas!G5 | T3: =Premissas!H5 | U3: =Premissas!I5
A4: 46235 | B4: REF-FICT-001 | C4: Oferta simbólica de encontro fictício | D4: Entrada | E4: Administração Fictícia | F4: Dinheiro | G4: 1500 | H4: 1500 | I4: Confirmado | J4: Pessoa Fictícia A | K4: Sim | L4: =IF(OR(G4="",H4=""),"",H4-G4) | M4: =IF(A4="","",IF(I4="Pendente","Conferir status",IF(I4="Cancelado","",IF(I4="Confirmado",IF(OR(G4="",H4=""),"Conferir valores",IF(K4<>"Sim","Conferir comprovante",IF(ABS(L4)>Premissas!$B$8,"Conferir diferença",""))),"Conferir status")))) | Q4: =Premissas!E6 | R4: =Premissas!F6 | S4: =Premissas!G6 | T4: =Premissas!H6
A5: 46237 | B5: REF-FICT-002 | C5: Contribuição simulada para atividade fictícia | D5: Entrada | E5: Ação Comunitária Fictícia | F5: PIX fictício | G5: 2300 | H5: 2280 | I5: Confirmado | J5: Pessoa Fictícia B | K5: Sim | L5: =IF(OR(G5="",H5=""),"",H5-G5) | M5: =IF(A5="","",IF(I5="Pendente","Conferir status",IF(I5="Cancelado","",IF(I5="Confirmado",IF(OR(G5="",H5=""),"Conferir valores",IF(K5<>"Sim","Conferir comprovante",IF(ABS(L5)>Premissas!$B$8,"Conferir diferença",""))),"Conferir status")))) | Q5: =Premissas!E7 | R5: =Premissas!F7 | S5: =IFERROR(IF(Premissas!G7="","",Premissas!G7),"") | T5: =Premissas!H7
A6: 46239 | B6: REF-FICT-003 | C6: Material administrativo do cenário fictício | D6: Saída | E6: Administração Fictícia | F6: Transferência fictícia | G6: 680 | H6: 680 | I6: Confirmado | J6: Pessoa Fictícia C | K6: Sim | L6: =IF(OR(G6="",H6=""),"",H6-G6) | M6: =IF(A6="","",IF(I6="Pendente","Conferir status",IF(I6="Cancelado","",IF(I6="Confirmado",IF(OR(G6="",H6=""),"Conferir valores",IF(K6<>"Sim","Conferir comprovante",IF(ABS(L6)>Premissas!$B$8,"Conferir diferença",""))),"Conferir status")))) | Q6: =Premissas!E8 | R6: =Premissas!F8 | S6: =IFERROR(IF(Premissas!G8="","",Premissas!G8),"") | T6: =Premissas!H8
A7: 46242 | B7: REF-FICT-004 | C7: Suprimentos para reunião musical fictícia | D7: Saída | E7: Música Fictícia | F7: Dinheiro | G7: 240 | H7: 235 | I7: Confirmado | J7: Pessoa Fictícia D | K7: Sim | L7: =IF(OR(G7="",H7=""),"",H7-G7) | M7: =IF(A7="","",IF(I7="Pendente","Conferir status",IF(I7="Cancelado","",IF(I7="Confirmado",IF(OR(G7="",H7=""),"Conferir valores",IF(K7<>"Sim","Conferir comprovante",IF(ABS(L7)>Premissas!$B$8,"Conferir diferença",""))),"Conferir status")))) | Q7: =IFERROR(IF(Premissas!E9="","",Premissas!E9),"") | R7: =IFERROR(IF(Premissas!F9="","",Premissas!F9),"") | S7: =IFERROR(IF(Premissas!G9="","",Premissas!G9),"") | T7: =Premissas!H9
A8: 46245 | B8: REF-FICT-005 | C8: Receita simulada de evento fictício | D8: Entrada | E8: Ensino Fictício | F8: Cartão fictício | G8: 900 | H8: 900 | I8: Pendente | J8: Pessoa Fictícia E | K8: Não | L8: =IF(OR(G8="",H8=""),"",H8-G8) | M8: =IF(A8="","",IF(I8="Pendente","Conferir status",IF(I8="Cancelado","",IF(I8="Confirmado",IF(OR(G8="",H8=""),"Conferir valores",IF(K8<>"Sim","Conferir comprovante",IF(ABS(L8)>Premissas!$B$8,"Conferir diferença",""))),"Conferir status")))) | Q8: =IFERROR(IF(Premissas!E10="","",Premissas!E10),"") | R8: =IFERROR(IF(Premissas!F10="","",Premissas!F10),"") | S8: =IFERROR(IF(Premissas!G10="","",Premissas!G10),"") | T8: =IFERROR(IF(Premissas!H10="","",Premissas!H10),"")
A9: 46248 | B9: REF-FICT-006 | C9: Serviço fictício de manutenção preventiva | D9: Saída | E9: Manutenção Fictícia | F9: Boleto fictício | G9: 450 | H9: 450 | I9: Confirmado | J9: Pessoa Fictícia F | K9: Sim | L9: =IF(OR(G9="",H9=""),"",H9-G9) | M9: =IF(A9="","",IF(I9="Pendente","Conferir status",IF(I9="Cancelado","",IF(I9="Confirmado",IF(OR(G9="",H9=""),"Conferir valores",IF(K9<>"Sim","Conferir comprovante",IF(ABS(L9)>Premissas!$B$8,"Conferir diferença",""))),"Conferir status")))) | Q9: =IFERROR(IF(Premissas!E11="","",Premissas!E11),"") | R9: =IFERROR(IF(Premissas!F11="","",Premissas!F11),"") | S9: =IFERROR(IF(Premissas!G11="","",Premissas!G11),"") | T9: =IFERROR(IF(Premissas!H11="","",Premissas!H11),"")
A10: 46251 | B10: REF-FICT-007 | C10: Material fictício para ação comunitária | D10: Saída | E10: Ação Comunitária Fictícia | F10: PIX fictício | G10: 320 | I10: Pendente | J10: Pessoa Fictícia A | K10: Não | L10: =IF(OR(G10="",H10=""),"",H10-G10) | M10: =IF(A10="","",IF(I10="Pendente","Conferir status",IF(I10="Cancelado","",IF(I10="Confirmado",IF(OR(G10="",H10=""),"Conferir valores",IF(K10<>"Sim","Conferir comprovante",IF(ABS(L10)>Premissas!$B$8,"Conferir diferença",""))),"Conferir status")))) | Q10: =IFERROR(IF(Premissas!E12="","",Premissas!E12),"") | R10: =IFERROR(IF(Premissas!F12="","",Premissas!F12),"") | S10: =IFERROR(IF(Premissas!G12="","",Premissas!G12),"") | T10: =IFERROR(IF(Premissas!H12="","",Premissas!H12),"")
A11: 46254 | B11: REF-FICT-008 | C11: Contribuição interna inteiramente fictícia | D11: Entrada | E11: Administração Fictícia | F11: Transferência fictícia | G11: 600 | H11: 600 | I11: Confirmado | J11: Pessoa Fictícia B | K11: Não | L11: =IF(OR(G11="",H11=""),"",H11-G11) | M11: =IF(A11="","",IF(I11="Pendente","Conferir status",IF(I11="Cancelado","",IF(I11="Confirmado",IF(OR(G11="",H11=""),"Conferir valores",IF(K11<>"Sim","Conferir comprovante",IF(ABS(L11)>Premissas!$B$8,"Conferir diferença",""))),"Conferir status")))) | Q11: =IFERROR(IF(Premissas!E13="","",Premissas!E13),"") | R11: =IFERROR(IF(Premissas!F13="","",Premissas!F13),"") | S11: =IFERROR(IF(Premissas!G13="","",Premissas!G13),"") | T11: =IFERROR(IF(Premissas!H13="","",Premissas!H13),"")
A12: 46257 | B12: REF-FICT-009 | C12: Compra fictícia posteriormente cancelada | D12: Saída | E12: Ensino Fictício | F12: Dinheiro | G12: 180 | I12: Cancelado | J12: Pessoa Fictícia C | K12: Não | L12: =IF(OR(G12="",H12=""),"",H12-G12) | M12: =IF(A12="","",IF(I12="Pendente","Conferir status",IF(I12="Cancelado","",IF(I12="Confirmado",IF(OR(G12="",H12=""),"Conferir valores",IF(K12<>"Sim","Conferir comprovante",IF(ABS(L12)>Premissas!$B$8,"Conferir diferença",""))),"Conferir status")))) | Q12: =IFERROR(IF(Premissas!E14="","",Premissas!E14),"") | R12: =IFERROR(IF(Premissas!F14="","",Premissas!F14),"") | S12: =IFERROR(IF(Premissas!G14="","",Premissas!G14),"") | T12: =IFERROR(IF(Premissas!H14="","",Premissas!H14),"")
A13: 46260 | B13: REF-FICT-010 | C13: Manutenção fictícia de equipamento simbólico | D13: Saída | E13: Manutenção Fictícia | F13: Transferência fictícia | G13: 1100 | H13: 1080 | I13: Confirmado | J13: Pessoa Fictícia D | K13: Sim | L13: =IF(OR(G13="",H13=""),"",H13-G13) | M13: =IF(A13="","",IF(I13="Pendente","Conferir status",IF(I13="Cancelado","",IF(I13="Confirmado",IF(OR(G13="",H13=""),"Conferir valores",IF(K13<>"Sim","Conferir comprovante",IF(ABS(L13)>Premissas!$B$8,"Conferir diferença",""))),"Conferir status")))) | Q13: =IFERROR(IF(Premissas!E15="","",Premissas!E15),"") | R13: =IFERROR(IF(Premissas!F15="","",Premissas!F15),"") | S13: =IFERROR(IF(Premissas!G15="","",Premissas!G15),"") | T13: =IFERROR(IF(Premissas!H15="","",Premissas!H15),"")
L14: =IF(OR(G14="",H14=""),"",H14-G14) | M14: =IF(A14="","",IF(I14="Pendente","Conferir status",IF(I14="Cancelado","",IF(I14="Confirmado",IF(OR(G14="",H14=""),"Conferir valores",IF(K14<>"Sim","Conferir comprovante",IF(ABS(L14)>Premissas!$B$8,"Conferir diferença",""))),"Conferir status")))) | Q14: =IFERROR(IF(Premissas!E16="","",Premissas!E16),"") | R14: =IFERROR(IF(Premissas!F16="","",Premissas!F16),"") | S14: =IFERROR(IF(Premissas!G16="","",Premissas!G16),"") | T14: =IFERROR(IF(Premissas!H16="","",Premissas!H16),"")
L15: =IF(OR(G15="",H15=""),"",H15-G15) | M15: =IF(A15="","",IF(I15="Pendente","Conferir status",IF(I15="Cancelado","",IF(I15="Confirmado",IF(OR(G15="",H15=""),"Conferir valores",IF(K15<>"Sim","Conferir comprovante",IF(ABS(L15)>Premissas!$B$8,"Conferir diferença",""))),"Conferir status")))) | Q15: =IFERROR(IF(Premissas!E17="","",Premissas!E17),"") | R15: =IFERROR(IF(Premissas!F17="","",Premissas!F17),"") | S15: =IFERROR(IF(Premissas!G17="","",Premissas!G17),"") | T15: =IFERROR(IF(Premissas!H17="","",Premissas!H17),"")
L16: =IF(OR(G16="",H16=""),"",H16-G16) | M16: =IF(A16="","",IF(I16="Pendente","Conferir status",IF(I16="Cancelado","",IF(I16="Confirmado",IF(OR(G16="",H16=""),"Conferir valores",IF(K16<>"Sim","Conferir comprovante",IF(ABS(L16)>Premissas!$B$8,"Conferir diferença",""))),"Conferir status")))) | Q16: =IFERROR(IF(Premissas!E18="","",Premissas!E18),"") | R16: =IFERROR(IF(Premissas!F18="","",Premissas!F18),"") | S16: =IFERROR(IF(Premissas!G18="","",Premissas!G18),"") | T16: =IFERROR(IF(Premissas!H18="","",Premissas!H18),"")
L17: =IF(OR(G17="",H17=""),"",H17-G17) | M17: =IF(A17="","",IF(I17="Pendente","Conferir status",IF(I17="Cancelado","",IF(I17="Confirmado",IF(OR(G17="",H17=""),"Conferir valores",IF(K17<>"Sim","Conferir comprovante",IF(ABS(L17)>Premissas!$B$8,"Conferir diferença",""))),"Conferir status")))) | Q17: =IFERROR(IF(Premissas!E19="","",Premissas!E19),"") | R17: =IFERROR(IF(Premissas!F19="","",Premissas!F19),"") | S17: =IFERROR(IF(Premissas!G19="","",Premissas!G19),"") | T17: =IFERROR(IF(Premissas!H19="","",Premissas!H19),"")
L18: =IF(OR(G18="",H18=""),"",H18-G18) | M18: =IF(A18="","",IF(I18="Pendente","Conferir status",IF(I18="Cancelado","",IF(I18="Confirmado",IF(OR(G18="",H18=""),"Conferir valores",IF(K18<>"Sim","Conferir comprovante",IF(ABS(L18)>Premissas!$B$8,"Conferir diferença",""))),"Conferir status")))) | Q18: =IFERROR(IF(Premissas!E20="","",Premissas!E20),"") | R18: =IFERROR(IF(Premissas!F20="","",Premissas!F20),"") | S18: =IFERROR(IF(Premissas!G20="","",Premissas!G20),"") | T18: =IFERROR(IF(Premissas!H20="","",Premissas!H20),"")
L19: =IF(OR(G19="",H19=""),"",H19-G19) | M19: =IF(A19="","",IF(I19="Pendente","Conferir status",IF(I19="Cancelado","",IF(I19="Confirmado",IF(OR(G19="",H19=""),"Conferir valores",IF(K19<>"Sim","Conferir comprovante",IF(ABS(L19)>Premissas!$B$8,"Conferir diferença",""))),"Conferir status")))) | Q19: =IFERROR(IF(Premissas!E21="","",Premissas!E21),"") | R19: =IFERROR(IF(Premissas!F21="","",Premissas!F21),"") | S19: =IFERROR(IF(Premissas!G21="","",Premissas!G21),"") | T19: =IFERROR(IF(Premissas!H21="","",Premissas!H21),"")
L20: =IF(OR(G20="",H20=""),"",H20-G20) | M20: =IF(A20="","",IF(I20="Pendente","Conferir status",IF(I20="Cancelado","",IF(I20="Confirmado",IF(OR(G20="",H20=""),"Conferir valores",IF(K20<>"Sim","Conferir comprovante",IF(ABS(L20)>Premissas!$B$8,"Conferir diferença",""))),"Conferir status")))) | Q20: =IFERROR(IF(Premissas!E22="","",Premissas!E22),"") | R20: =IFERROR(IF(Premissas!F22="","",Premissas!F22),"") | S20: =IFERROR(IF(Premissas!G22="","",Premissas!G22),"") | T20: =IFERROR(IF(Premissas!H22="","",Premissas!H22),"")
L21: =IF(OR(G21="",H21=""),"",H21-G21) | M21: =IF(A21="","",IF(I21="Pendente","Conferir status",IF(I21="Cancelado","",IF(I21="Confirmado",IF(OR(G21="",H21=""),"Conferir valores",IF(K21<>"Sim","Conferir comprovante",IF(ABS(L21)>Premissas!$B$8,"Conferir diferença",""))),"Conferir status")))) | Q21: =IFERROR(IF(Premissas!E23="","",Premissas!E23),"") | R21: =IFERROR(IF(Premissas!F23="","",Premissas!F23),"") | S21: =IFERROR(IF(Premissas!G23="","",Premissas!G23),"") | T21: =IFERROR(IF(Premissas!H23="","",Premissas!H23),"")
L22: =IF(OR(G22="",H22=""),"",H22-G22) | M22: =IF(A22="","",IF(I22="Pendente","Conferir status",IF(I22="Cancelado","",IF(I22="Confirmado",IF(OR(G22="",H22=""),"Conferir valores",IF(K22<>"Sim","Conferir comprovante",IF(ABS(L22)>Premissas!$B$8,"Conferir diferença",""))),"Conferir status")))) | Q22: =IFERROR(IF(Premissas!E24="","",Premissas!E24),"") | R22: =IFERROR(IF(Premissas!F24="","",Premissas!F24),"") | S22: =IFERROR(IF(Premissas!G24="","",Premissas!G24),"") | T22: =IFERROR(IF(Premissas!H24="","",Premissas!H24),"")
L23: =IF(OR(G23="",H23=""),"",H23-G23) | M23: =IF(A23="","",IF(I23="Pendente","Conferir status",IF(I23="Cancelado","",IF(I23="Confirmado",IF(OR(G23="",H23=""),"Conferir valores",IF(K23<>"Sim","Conferir comprovante",IF(ABS(L23)>Premissas!$B$8,"Conferir diferença",""))),"Conferir status")))) | Q23: =IFERROR(IF(Premissas!E25="","",Premissas!E25),"") | R23: =IFERROR(IF(Premissas!F25="","",Premissas!F25),"") | S23: =IFERROR(IF(Premissas!G25="","",Premissas!G25),"") | T23: =IFERROR(IF(Premissas!H25="","",Premissas!H25),"")
L24: =IF(OR(G24="",H24=""),"",H24-G24) | M24: =IF(A24="","",IF(I24="Pendente","Conferir status",IF(I24="Cancelado","",IF(I24="Confirmado",IF(OR(G24="",H24=""),"Conferir valores",IF(K24<>"Sim","Conferir comprovante",IF(ABS(L24)>Premissas!$B$8,"Conferir diferença",""))),"Conferir status")))) | Q24: =IFERROR(IF(Premissas!E26="","",Premissas!E26),"") | R24: =IFERROR(IF(Premissas!F26="","",Premissas!F26),"") | S24: =IFERROR(IF(Premissas!G26="","",Premissas!G26),"") | T24: =IFERROR(IF(Premissas!H26="","",Premissas!H26),"")
L25: =IF(OR(G25="",H25=""),"",H25-G25) | M25: =IF(A25="","",IF(I25="Pendente","Conferir status",IF(I25="Cancelado","",IF(I25="Confirmado",IF(OR(G25="",H25=""),"Conferir valores",IF(K25<>"Sim","Conferir comprovante",IF(ABS(L25)>Premissas!$B$8,"Conferir diferença",""))),"Conferir status")))) | Q25: =IFERROR(IF(Premissas!E27="","",Premissas!E27),"") | R25: =IFERROR(IF(Premissas!F27="","",Premissas!F27),"") | S25: =IFERROR(IF(Premissas!G27="","",Premissas!G27),"") | T25: =IFERROR(IF(Premissas!H27="","",Premissas!H27),"")
... L103: =IF(OR(G103="",H103=""),"",H103-G103) | M103: =IF(A103="","",IF(I103="Pendente","Conferir status",IF(I103="Cancelado","",IF(I103="Confirmado",IF(OR(G103="",H103=""),"Conferir valores",IF(K103<>"Sim","Conferir comprovante",IF(ABS(L103)>Premissas!$B$8,"Conferir diferença",""))),"Conferir status")))) | Q103: =IFERROR(IF(Premissas!E105="","",Premissas!E105),"") | R103: =IFERROR(IF(Premissas!F105="","",Premissas!F105),"") | S103: =IFERROR(IF(Premissas!G105="","",Premissas!G105),"") | T103: =IFERROR(IF(Premissas!H105="","",Premissas!H105),"")

Sheet Fechamento
A1: Conferência e assinaturas internas
E2: =Premissas!H4 | F2: =EOMONTH(Premissas!$B$4,-1)+1
A3: Conciliação | B3: Valor | C3: Situação | E3: =Premissas!H5 | F3: =EOMONTH(Premissas!$B$4,0)+60
A4: Competência | B4: =IF(Premissas!$B$4="","",Premissas!$B$4) | C4: =IF(B4="","Pendente","Vinculada") | E4: =Premissas!H6
A5: Saldo inicial em caixa | B5: =IF(Premissas!$B$5="","",Premissas!$B$5) | C5: =IF(B5="","Pendente","Vinculado") | E5: =Premissas!H7
A6: Saldo inicial em bancos | B6: =IF(Premissas!$B$6="","",Premissas!$B$6) | C6: =IF(B6="","Pendente","Vinculado") | E6: =Premissas!H8
A7: Saldo esperado em caixa | B7: =IF(B4="","",B5+SUMIFS('Lançamentos'!$H$4:$H$103,'Lançamentos'!$D$4:$D$103,"Entrada",'Lançamentos'!$F$4:$F$103,"Dinheiro",'Lançamentos'!$I$4:$I$103,"Confirmado",'Lançamentos'!$A$4:$A$103,">="&EOMONTH(B4,-1)+1,'Lançamentos'!$A$4:$A$103,"<="&EOMONTH(B4,0))-SUMIFS('Lançamentos'!$H$4:$H$103,'Lançamentos'!$D$4:$D$103,"Saída",'Lançamentos'!$F$4:$F$103,"Dinheiro",'Lançamentos'!$I$4:$I$103,"Confirmado",'Lançamentos'!$A$4:$A$103,">="&EOMONTH(B4,-1)+1,'Lançamentos'!$A$4:$A$103,"<="&EOMONTH(B4,0))) | C7: =IF(B7="","Pendente","Calculado") | E7: =Premissas!H9
A8: Saldo esperado em bancos | B8: =IF(B4="","",B6+SUMIFS('Lançamentos'!$H$4:$H$103,'Lançamentos'!$D$4:$D$103,"Entrada",'Lançamentos'!$F$4:$F$103,"<>Dinheiro",'Lançamentos'!$I$4:$I$103,"Confirmado",'Lançamentos'!$A$4:$A$103,">="&EOMONTH(B4,-1)+1,'Lançamentos'!$A$4:$A$103,"<="&EOMONTH(B4,0))-SUMIFS('Lançamentos'!$H$4:$H$103,'Lançamentos'!$D$4:$D$103,"Saída",'Lançamentos'!$F$4:$F$103,"<>Dinheiro",'Lançamentos'!$I$4:$I$103,"Confirmado",'Lançamentos'!$A$4:$A$103,">="&EOMONTH(B4,-1)+1,'Lançamentos'!$A$4:$A$103,"<="&EOMONTH(B4,0))) | C8: =IF(B8="","Pendente","Calculado") | E8: =IFERROR(IF(Premissas!H10="","",Premissas!H10),"")
A9: Saldo contado em caixa | B9: 2515 | C9: =IF(B9="","Pendente","Informado") | E9: =IFERROR(IF(Premissas!H11="","",Premissas!H11),"")
A10: Saldo final em extratos | B10: 6450 | C10: =IF(B10="","Pendente","Informado") | E10: =IFERROR(IF(Premissas!H12="","",Premissas!H12),"")
A11: Diferença de caixa | B11: =IF(B9="","",B9-B7) | C11: =IF(B11="","Pendente",IF(ABS(B11)<=Premissas!$B$7,"Dentro da tolerância","Conferir")) | E11: =IFERROR(IF(Premissas!H13="","",Premissas!H13),"")
A12: Diferença de bancos | B12: =IF(B10="","",B10-B8) | C12: =IF(B12="","Pendente",IF(ABS(B12)<=Premissas!$B$7,"Dentro da tolerância","Conferir")) | E12: =IFERROR(IF(Premissas!H14="","",Premissas!H14),"")
A13: Diferença total | B13: =IF(OR(B11="",B12=""),"",SUM(B11:B12)) | C13: =IF(B13="","Pendente",IF(ABS(B13)<=Premissas!$B$7,"Dentro da tolerância","Conferir")) | E13: =IFERROR(IF(Premissas!H15="","",Premissas!H15),"")
E14: =IFERROR(IF(Premissas!H16="","",Premissas!H16),"")
E15: =IFERROR(IF(Premissas!H17="","",Premissas!H17),"")
A16: Item do checklist | B16: Situação | C16: Resultado | E16: =IFERROR(IF(Premissas!H18="","",Premissas!H18),"")
A17: Competência informada | B17: =IF(B4="","Pendente","OK") | C17: =IF(B4="","",B4) | E17: =IFERROR(IF(Premissas!H19="","",Premissas!H19),"")
A18: Lançamentos pendentes | B18: =IF(Resumo!$B$12=0,"OK","Conferir") | C18: =Resumo!$B$12 | E18: =IFERROR(IF(Premissas!H20="","",Premissas!H20),"")
A19: Comprovantes a conferir | B19: =IF(Resumo!$B$13=0,"OK","Conferir") | C19: =Resumo!$B$13 | E19: =IFERROR(IF(Premissas!H21="","",Premissas!H21),"")
A20: Diferença de caixa | B20: =IF(B11="","Pendente",IF(ABS(B11)<=Premissas!$B$7,"OK","Conferir")) | C20: =B11 | E20: =IFERROR(IF(Premissas!H22="","",Premissas!H22),"")
A21: Diferença de bancos | B21: =IF(B12="","Pendente",IF(ABS(B12)<=Premissas!$B$7,"OK","Conferir")) | C21: =B12 | E21: =IFERROR(IF(Premissas!H23="","",Premissas!H23),"")
A22: Responsáveis identificados | B22: =IF(AND(B28<>"",B30<>""),"OK","Pendente") | C22: =COUNTIF(B28,"<>")+COUNTIF(B30,"<>") | E22: =IFERROR(IF(Premissas!H24="","",Premissas!H24),"")
A23: Datas internas preenchidas | B23: =IF(AND(B29<>"",B31<>""),"OK","Pendente") | C23: =COUNTIF(B29,"<>")+COUNTIF(B31,"<>") | E23: =IFERROR(IF(Premissas!H25="","",Premissas!H25),"")
A24: Prazo interno do fechamento | B24: =IF(OR(B4="",B29=""),"Pendente",IF(B29>EOMONTH(B4,0)+Premissas!$B$9,"Conferir","OK")) | C24: =IF(OR(B4="",B29=""),"",B29-EOMONTH(B4,0)) | E24: =IFERROR(IF(Premissas!H26="","",Premissas!H26),"")
E25: =IFERROR(IF(Premissas!H27="","",Premissas!H27),"")
E26: =IFERROR(IF(Premissas!H28="","",Premissas!H28),"")
A27: Registro interno | B27: Preenchimento | C27: Situação | E27: =IFERROR(IF(Premissas!H29="","",Premissas!H29),"")
A28: Responsável pelo fechamento | B28: Pessoa Fictícia A | C28: =IF(B28="","Pendente","Preenchido") | E28: =IFERROR(IF(Premissas!H30="","",Premissas!H30),"")
A29: Data do fechamento | B29: 46270 | C29: =IF(B29="","Pendente",IF(B29>EOMONTH(B4,0)+Premissas!$B$9,"Conferir prazo interno","Preenchido")) | E29: =IFERROR(IF(Premissas!H31="","",Premissas!H31),"")
A30: Responsável pela revisão | B30: Pessoa Fictícia F | C30: =IF(B30="","Pendente","Preenchido") | E30: =IFERROR(IF(Premissas!H32="","",Premissas!H32),"")
A31: Data da revisão | B31: 46272 | C31: =IF(B31="","Pendente",IF(AND(B29<>"",B31<B29),"Conferir ordem das datas","Preenchido")) | E31: =IFERROR(IF(Premissas!H33="","",Premissas!H33),"")
A32: Observação de conferência | B32: Diferença bancária fictícia a conferir. | C32: =IF(B32="","Opcional","Registrada")
A35: Assinatura interna do fechamento (manual) | B35: ________________________________________ | C35: Data: ____/____/________
A38: Assinatura interna da revisão (manual) | B38: ________________________________________ | C38: Data: ____/____/________

Sheet Premissas
A1: Premissas do fechamento mensal
A3: Premissa | B3: Valor editável | D3: Tipo | E3: Ministério | F3: Forma | G3: Status | H3: Responsável | I3: Opção
A4: Competência (usar o primeiro dia) | B4: 46235 | D4: Entrada | E4: Administração Fictícia | F4: Dinheiro | G4: Confirmado | H4: Pessoa Fictícia A | I4: Sim
A5: Saldo inicial em caixa | B5: 1250 | D5: Saída | E5: Ação Comunitária Fictícia | F5: PIX fictício | G5: Pendente | H5: Pessoa Fictícia B | I5: Não
A6: Saldo inicial em bancos | B6: 5800 | E6: Música Fictícia | F6: Transferência fictícia | G6: Cancelado | H6: Pessoa Fictícia C
A7: Tolerância do fechamento | B7: 0.01 | E7: Ensino Fictício | F7: Cartão fictício | H7: Pessoa Fictícia D
A8: Limite de diferença por lançamento | B8: 1 | E8: Manutenção Fictícia | F8: Boleto fictício | H8: Pessoa Fictícia E
A9: Prazo interno após o fim do mês | B9: 10 | H9: Pessoa Fictícia F
