Workbook

Sheet Resumo
A1: Doações por finalidade — resumo
A2: Indicadores calculados a partir dos registros preenchidos na planilha Doações.
A4: Indicador | B4: Resultado | D4: Finalidade | E4: Total considerado (R$) | F4: Qtde. recebida | H4: Campanha / evento | I4: Total considerado (R$) | J4: Qtde. recebida
A5: Total considerado | B5: =IF(COUNT('Doações'!$A$5:$A$124)=0,"",IFERROR(SUM('Doações'!$J$5:$J$124),"")) | D5: =IF(Premissas!$D$4="","",Premissas!$D$4) | E5: =IF(D5="","",IF(COUNTIF('Doações'!$C$5:$C$124,D5)=0,"",IFERROR(SUMIFS('Doações'!$J$5:$J$124,'Doações'!$C$5:$C$124,D5),""))) | F5: =IF(D5="","",IF(COUNTIF('Doações'!$C$5:$C$124,D5)=0,"",IFERROR(COUNTIFS('Doações'!$C$5:$C$124,D5,'Doações'!$H$5:$H$124,"Recebida"),""))) | H5: =IF(Premissas!$F$4="","",Premissas!$F$4) | I5: =IF(H5="","",IF(COUNTIF('Doações'!$D$5:$D$124,H5)=0,"",IFERROR(SUMIFS('Doações'!$J$5:$J$124,'Doações'!$D$5:$D$124,H5),""))) | J5: =IF(H5="","",IF(COUNTIF('Doações'!$D$5:$D$124,H5)=0,"",IFERROR(COUNTIFS('Doações'!$D$5:$D$124,H5,'Doações'!$H$5:$H$124,"Recebida"),"")))
A6: Total pendente de conferência | B6: =IF(COUNT('Doações'!$A$5:$A$124)=0,"",IFERROR(SUMIFS('Doações'!$E$5:$E$124,'Doações'!$H$5:$H$124,"Pendente de conferência"),"")) | D6: =IF(Premissas!$D$5="","",Premissas!$D$5) | E6: =IF(D6="","",IF(COUNTIF('Doações'!$C$5:$C$124,D6)=0,"",IFERROR(SUMIFS('Doações'!$J$5:$J$124,'Doações'!$C$5:$C$124,D6),""))) | F6: =IF(D6="","",IF(COUNTIF('Doações'!$C$5:$C$124,D6)=0,"",IFERROR(COUNTIFS('Doações'!$C$5:$C$124,D6,'Doações'!$H$5:$H$124,"Recebida"),""))) | H6: =IF(Premissas!$F$5="","",Premissas!$F$5) | I6: =IF(H6="","",IF(COUNTIF('Doações'!$D$5:$D$124,H6)=0,"",IFERROR(SUMIFS('Doações'!$J$5:$J$124,'Doações'!$D$5:$D$124,H6),""))) | J6: =IF(H6="","",IF(COUNTIF('Doações'!$D$5:$D$124,H6)=0,"",IFERROR(COUNTIFS('Doações'!$D$5:$D$124,H6,'Doações'!$H$5:$H$124,"Recebida"),"")))
A7: Total estornado | B7: =IF(COUNT('Doações'!$A$5:$A$124)=0,"",IFERROR(SUMIFS('Doações'!$E$5:$E$124,'Doações'!$H$5:$H$124,"Estornada"),"")) | D7: =IF(Premissas!$D$6="","",Premissas!$D$6) | E7: =IF(D7="","",IF(COUNTIF('Doações'!$C$5:$C$124,D7)=0,"",IFERROR(SUMIFS('Doações'!$J$5:$J$124,'Doações'!$C$5:$C$124,D7),""))) | F7: =IF(D7="","",IF(COUNTIF('Doações'!$C$5:$C$124,D7)=0,"",IFERROR(COUNTIFS('Doações'!$C$5:$C$124,D7,'Doações'!$H$5:$H$124,"Recebida"),""))) | H7: =IF(Premissas!$F$6="","",Premissas!$F$6) | I7: =IF(H7="","",IF(COUNTIF('Doações'!$D$5:$D$124,H7)=0,"",IFERROR(SUMIFS('Doações'!$J$5:$J$124,'Doações'!$D$5:$D$124,H7),""))) | J7: =IF(H7="","",IF(COUNTIF('Doações'!$D$5:$D$124,H7)=0,"",IFERROR(COUNTIFS('Doações'!$D$5:$D$124,H7,'Doações'!$H$5:$H$124,"Recebida"),"")))
A8: Quantidade recebida | B8: =IF(COUNT('Doações'!$A$5:$A$124)=0,"",IFERROR(COUNTIF('Doações'!$H$5:$H$124,"Recebida"),"")) | D8: =IF(Premissas!$D$7="","",Premissas!$D$7) | E8: =IF(D8="","",IF(COUNTIF('Doações'!$C$5:$C$124,D8)=0,"",IFERROR(SUMIFS('Doações'!$J$5:$J$124,'Doações'!$C$5:$C$124,D8),""))) | F8: =IF(D8="","",IF(COUNTIF('Doações'!$C$5:$C$124,D8)=0,"",IFERROR(COUNTIFS('Doações'!$C$5:$C$124,D8,'Doações'!$H$5:$H$124,"Recebida"),""))) | H8: =IF(Premissas!$F$7="","",Premissas!$F$7) | I8: =IF(H8="","",IF(COUNTIF('Doações'!$D$5:$D$124,H8)=0,"",IFERROR(SUMIFS('Doações'!$J$5:$J$124,'Doações'!$D$5:$D$124,H8),""))) | J8: =IF(H8="","",IF(COUNTIF('Doações'!$D$5:$D$124,H8)=0,"",IFERROR(COUNTIFS('Doações'!$D$5:$D$124,H8,'Doações'!$H$5:$H$124,"Recebida"),"")))
A9: Primeiro lançamento | B9: =IF(COUNT('Doações'!$A$5:$A$124)=0,"",IFERROR(MIN('Doações'!$A$5:INDEX('Doações'!$A:$A,124)),"")) | D9: =IF(Premissas!$D$8="","",Premissas!$D$8) | E9: =IF(D9="","",IF(COUNTIF('Doações'!$C$5:$C$124,D9)=0,"",IFERROR(SUMIFS('Doações'!$J$5:$J$124,'Doações'!$C$5:$C$124,D9),""))) | F9: =IF(D9="","",IF(COUNTIF('Doações'!$C$5:$C$124,D9)=0,"",IFERROR(COUNTIFS('Doações'!$C$5:$C$124,D9,'Doações'!$H$5:$H$124,"Recebida"),""))) | H9: =IF(Premissas!$F$8="","",Premissas!$F$8) | I9: =IF(H9="","",IF(COUNTIF('Doações'!$D$5:$D$124,H9)=0,"",IFERROR(SUMIFS('Doações'!$J$5:$J$124,'Doações'!$D$5:$D$124,H9),""))) | J9: =IF(H9="","",IF(COUNTIF('Doações'!$D$5:$D$124,H9)=0,"",IFERROR(COUNTIFS('Doações'!$D$5:$D$124,H9,'Doações'!$H$5:$H$124,"Recebida"),"")))
A10: Último lançamento | B10: =IF(COUNT('Doações'!$A$5:$A$124)=0,"",IFERROR(MAX('Doações'!$A$5:INDEX('Doações'!$A:$A,124)),"")) | D10: =IF(Premissas!$D$9="","",Premissas!$D$9) | E10: =IF(D10="","",IF(COUNTIF('Doações'!$C$5:$C$124,D10)=0,"",IFERROR(SUMIFS('Doações'!$J$5:$J$124,'Doações'!$C$5:$C$124,D10),""))) | F10: =IF(D10="","",IF(COUNTIF('Doações'!$C$5:$C$124,D10)=0,"",IFERROR(COUNTIFS('Doações'!$C$5:$C$124,D10,'Doações'!$H$5:$H$124,"Recebida"),"")))
A13: Mês | B13: Total considerado (R$)
A14: =IF(Premissas!$B$8="","",Premissas!$B$8) | B14: =IF(A14="","",IF(COUNTIFS('Doações'!$A$5:$A$124,">="&A14,'Doações'!$A$5:$A$124,"<"&EDATE(A14,1))=0,"",IFERROR(SUMIFS('Doações'!$J$5:$J$124,'Doações'!$A$5:$A$124,">="&A14,'Doações'!$A$5:$A$124,"<"&EDATE(A14,1)),"")))
A15: =IF(A14="","",EDATE(A14,1)) | B15: =IF(A15="","",IF(COUNTIFS('Doações'!$A$5:$A$124,">="&A15,'Doações'!$A$5:$A$124,"<"&EDATE(A15,1))=0,"",IFERROR(SUMIFS('Doações'!$J$5:$J$124,'Doações'!$A$5:$A$124,">="&A15,'Doações'!$A$5:$A$124,"<"&EDATE(A15,1)),"")))
A16: =IF(A15="","",EDATE(A15,1)) | B16: =IF(A16="","",IF(COUNTIFS('Doações'!$A$5:$A$124,">="&A16,'Doações'!$A$5:$A$124,"<"&EDATE(A16,1))=0,"",IFERROR(SUMIFS('Doações'!$J$5:$J$124,'Doações'!$A$5:$A$124,">="&A16,'Doações'!$A$5:$A$124,"<"&EDATE(A16,1)),"")))
A17: =IF(A16="","",EDATE(A16,1)) | B17: =IF(A17="","",IF(COUNTIFS('Doações'!$A$5:$A$124,">="&A17,'Doações'!$A$5:$A$124,"<"&EDATE(A17,1))=0,"",IFERROR(SUMIFS('Doações'!$J$5:$J$124,'Doações'!$A$5:$A$124,">="&A17,'Doações'!$A$5:$A$124,"<"&EDATE(A17,1)),"")))
A18: =IF(A17="","",EDATE(A17,1)) | B18: =IF(A18="","",IF(COUNTIFS('Doações'!$A$5:$A$124,">="&A18,'Doações'!$A$5:$A$124,"<"&EDATE(A18,1))=0,"",IFERROR(SUMIFS('Doações'!$J$5:$J$124,'Doações'!$A$5:$A$124,">="&A18,'Doações'!$A$5:$A$124,"<"&EDATE(A18,1)),"")))
A19: =IF(A18="","",EDATE(A18,1)) | B19: =IF(A19="","",IF(COUNTIFS('Doações'!$A$5:$A$124,">="&A19,'Doações'!$A$5:$A$124,"<"&EDATE(A19,1))=0,"",IFERROR(SUMIFS('Doações'!$J$5:$J$124,'Doações'!$A$5:$A$124,">="&A19,'Doações'!$A$5:$A$124,"<"&EDATE(A19,1)),"")))
A20: =IF(A19="","",EDATE(A19,1)) | B20: =IF(A20="","",IF(COUNTIFS('Doações'!$A$5:$A$124,">="&A20,'Doações'!$A$5:$A$124,"<"&EDATE(A20,1))=0,"",IFERROR(SUMIFS('Doações'!$J$5:$J$124,'Doações'!$A$5:$A$124,">="&A20,'Doações'!$A$5:$A$124,"<"&EDATE(A20,1)),"")))
A21: =IF(A20="","",EDATE(A20,1)) | B21: =IF(A21="","",IF(COUNTIFS('Doações'!$A$5:$A$124,">="&A21,'Doações'!$A$5:$A$124,"<"&EDATE(A21,1))=0,"",IFERROR(SUMIFS('Doações'!$J$5:$J$124,'Doações'!$A$5:$A$124,">="&A21,'Doações'!$A$5:$A$124,"<"&EDATE(A21,1)),"")))
A22: =IF(A21="","",EDATE(A21,1)) | B22: =IF(A22="","",IF(COUNTIFS('Doações'!$A$5:$A$124,">="&A22,'Doações'!$A$5:$A$124,"<"&EDATE(A22,1))=0,"",IFERROR(SUMIFS('Doações'!$J$5:$J$124,'Doações'!$A$5:$A$124,">="&A22,'Doações'!$A$5:$A$124,"<"&EDATE(A22,1)),"")))
A23: =IF(A22="","",EDATE(A22,1)) | B23: =IF(A23="","",IF(COUNTIFS('Doações'!$A$5:$A$124,">="&A23,'Doações'!$A$5:$A$124,"<"&EDATE(A23,1))=0,"",IFERROR(SUMIFS('Doações'!$J$5:$J$124,'Doações'!$A$5:$A$124,">="&A23,'Doações'!$A$5:$A$124,"<"&EDATE(A23,1)),"")))
A24: =IF(A23="","",EDATE(A23,1)) | B24: =IF(A24="","",IF(COUNTIFS('Doações'!$A$5:$A$124,">="&A24,'Doações'!$A$5:$A$124,"<"&EDATE(A24,1))=0,"",IFERROR(SUMIFS('Doações'!$J$5:$J$124,'Doações'!$A$5:$A$124,">="&A24,'Doações'!$A$5:$A$124,"<"&EDATE(A24,1)),"")))
A25: =IF(A24="","",EDATE(A24,1)) | B25: =IF(A25="","",IF(COUNTIFS('Doações'!$A$5:$A$124,">="&A25,'Doações'!$A$5:$A$124,"<"&EDATE(A25,1))=0,"",IFERROR(SUMIFS('Doações'!$J$5:$J$124,'Doações'!$A$5:$A$124,">="&A25,'Doações'!$A$5:$A$124,"<"&EDATE(A25,1)),"")))

Sheet Doações
A1: Doações por finalidade — registros
A2: Preencha as células amarelas. Os alertas solicitam conferência humana e não executam ações externas.
A4: Data | B4: Descrição | C4: Finalidade | D4: Campanha / evento | E4: Valor recebido (R$) | F4: Responsável pelo registro | G4: Ministério vinculado | H4: Status | I4: Competência | J4: Valor considerado (R$) | K4: Alerta de conferência
A5: 46116 | B5: Registro fictício de oferta coletiva A | C5: Manutenção predial fictícia | D5: Campanha Horizonte Fictício | E5: 1800 | F5: Responsável fictício A | G5: Administração fictícia | H5: Recebida | I5: =IF(A5="","",TEXT(A5,"mm/yyyy")) | J5: =IF(OR(A5="",E5="",H5=""),"",IF(H5="Recebida",E5,"")) | K5: =IF(A5="","",IF(OR(B5="",C5="",D5="",E5="",F5="",G5="",H5=""),"Revisar campos",IF(OR(A5<Premissas!$B$6,A5>Premissas!$B$7,E5>Premissas!$B$4,AND(H5="Pendente de conferência",TODAY()-A5>Premissas!$B$5)),"Conferir","")))
A6: 46144 | B6: Registro fictício de oferta coletiva B | C6: Missões locais fictícias | D6: Projeto Luz Fictícia | E6: 2450 | F6: Responsável fictício B | G6: Missões fictícias | H6: Recebida | I6: =IF(A6="","",TEXT(A6,"mm/yyyy")) | J6: =IF(OR(A6="",E6="",H6=""),"",IF(H6="Recebida",E6,"")) | K6: =IF(A6="","",IF(OR(B6="",C6="",D6="",E6="",F6="",G6="",H6=""),"Revisar campos",IF(OR(A6<Premissas!$B$6,A6>Premissas!$B$7,E6>Premissas!$B$4,AND(H6="Pendente de conferência",TODAY()-A6>Premissas!$B$5)),"Conferir","")))
A7: 46171 | B7: Registro fictício de contribuição coletiva C | C7: Apoio comunitário fictício | D7: Campanha Ponte Fictícia | E7: 950 | F7: Responsável fictício C | G7: Ação comunitária fictícia | H7: Pendente de conferência | I7: =IF(A7="","",TEXT(A7,"mm/yyyy")) | J7: =IF(OR(A7="",E7="",H7=""),"",IF(H7="Recebida",E7,"")) | K7: =IF(A7="","",IF(OR(B7="",C7="",D7="",E7="",F7="",G7="",H7=""),"Revisar campos",IF(OR(A7<Premissas!$B$6,A7>Premissas!$B$7,E7>Premissas!$B$4,AND(H7="Pendente de conferência",TODAY()-A7>Premissas!$B$5)),"Conferir","")))
A8: 46201 | B8: Registro fictício de oferta coletiva D | C8: Música e culto fictícios | D8: Encontro Semente Fictícia | E8: 780 | F8: Responsável fictício A | G8: Música fictícia | H8: Recebida | I8: =IF(A8="","",TEXT(A8,"mm/yyyy")) | J8: =IF(OR(A8="",E8="",H8=""),"",IF(H8="Recebida",E8,"")) | K8: =IF(A8="","",IF(OR(B8="",C8="",D8="",E8="",F8="",G8="",H8=""),"Revisar campos",IF(OR(A8<Premissas!$B$6,A8>Premissas!$B$7,E8>Premissas!$B$4,AND(H8="Pendente de conferência",TODAY()-A8>Premissas!$B$5)),"Conferir","")))
A9: 46230 | B9: Registro fictício de contribuição coletiva E | C9: Formação cristã fictícia | D9: Sem campanha | E9: 6200 | F9: Responsável fictício D | G9: Formação fictícia | H9: Recebida | I9: =IF(A9="","",TEXT(A9,"mm/yyyy")) | J9: =IF(OR(A9="",E9="",H9=""),"",IF(H9="Recebida",E9,"")) | K9: =IF(A9="","",IF(OR(B9="",C9="",D9="",E9="",F9="",G9="",H9=""),"Revisar campos",IF(OR(A9<Premissas!$B$6,A9>Premissas!$B$7,E9>Premissas!$B$4,AND(H9="Pendente de conferência",TODAY()-A9>Premissas!$B$5)),"Conferir","")))
A10: 46241 | B10: Registro fictício de oferta coletiva F | C10: Reserva emergencial fictícia | D10: Campanha Horizonte Fictício | E10: 1250 | F10: Responsável fictício B | G10: Administração fictícia | H10: Recebida | I10: =IF(A10="","",TEXT(A10,"mm/yyyy")) | J10: =IF(OR(A10="",E10="",H10=""),"",IF(H10="Recebida",E10,"")) | K10: =IF(A10="","",IF(OR(B10="",C10="",D10="",E10="",F10="",G10="",H10=""),"Revisar campos",IF(OR(A10<Premissas!$B$6,A10>Premissas!$B$7,E10>Premissas!$B$4,AND(H10="Pendente de conferência",TODAY()-A10>Premissas!$B$5)),"Conferir","")))
A11: 46252 | B11: Registro fictício de contribuição coletiva G | C11: Apoio comunitário fictício | D11: Campanha Ponte Fictícia | E11: 1380 | F11: Responsável fictício C | G11: Ação comunitária fictícia | H11: Recebida | I11: =IF(A11="","",TEXT(A11,"mm/yyyy")) | J11: =IF(OR(A11="",E11="",H11=""),"",IF(H11="Recebida",E11,"")) | K11: =IF(A11="","",IF(OR(B11="",C11="",D11="",E11="",F11="",G11="",H11=""),"Revisar campos",IF(OR(A11<Premissas!$B$6,A11>Premissas!$B$7,E11>Premissas!$B$4,AND(H11="Pendente de conferência",TODAY()-A11>Premissas!$B$5)),"Conferir","")))
A12: 46260 | B12: Registro fictício de oferta coletiva H | C12: Manutenção predial fictícia | D12: Projeto Luz Fictícia | E12: 2100 | F12: Responsável fictício A | G12: Administração fictícia | H12: Estornada | I12: =IF(A12="","",TEXT(A12,"mm/yyyy")) | J12: =IF(OR(A12="",E12="",H12=""),"",IF(H12="Recebida",E12,"")) | K12: =IF(A12="","",IF(OR(B12="",C12="",D12="",E12="",F12="",G12="",H12=""),"Revisar campos",IF(OR(A12<Premissas!$B$6,A12>Premissas!$B$7,E12>Premissas!$B$4,AND(H12="Pendente de conferência",TODAY()-A12>Premissas!$B$5)),"Conferir","")))
A13: 46267 | B13: Registro fictício de contribuição coletiva I | C13: Missões locais fictícias | D13: Encontro Semente Fictícia | E13: 560 | F13: Responsável fictício D | G13: Missões fictícias | H13: Pendente de conferência | I13: =IF(A13="","",TEXT(A13,"mm/yyyy")) | J13: =IF(OR(A13="",E13="",H13=""),"",IF(H13="Recebida",E13,"")) | K13: =IF(A13="","",IF(OR(B13="",C13="",D13="",E13="",F13="",G13="",H13=""),"Revisar campos",IF(OR(A13<Premissas!$B$6,A13>Premissas!$B$7,E13>Premissas!$B$4,AND(H13="Pendente de conferência",TODAY()-A13>Premissas!$B$5)),"Conferir","")))
A14: 46273 | B14: Registro fictício de oferta coletiva J | C14: Formação cristã fictícia | D14: Sem campanha | E14: 890 | F14: Responsável fictício B | G14: Formação fictícia | H14: Recebida | I14: =IF(A14="","",TEXT(A14,"mm/yyyy")) | J14: =IF(OR(A14="",E14="",H14=""),"",IF(H14="Recebida",E14,"")) | K14: =IF(A14="","",IF(OR(B14="",C14="",D14="",E14="",F14="",G14="",H14=""),"Revisar campos",IF(OR(A14<Premissas!$B$6,A14>Premissas!$B$7,E14>Premissas!$B$4,AND(H14="Pendente de conferência",TODAY()-A14>Premissas!$B$5)),"Conferir","")))
I15: =IF(A15="","",TEXT(A15,"mm/yyyy")) | J15: =IF(OR(A15="",E15="",H15=""),"",IF(H15="Recebida",E15,"")) | K15: =IF(A15="","",IF(OR(B15="",C15="",D15="",E15="",F15="",G15="",H15=""),"Revisar campos",IF(OR(A15<Premissas!$B$6,A15>Premissas!$B$7,E15>Premissas!$B$4,AND(H15="Pendente de conferência",TODAY()-A15>Premissas!$B$5)),"Conferir","")))
I16: =IF(A16="","",TEXT(A16,"mm/yyyy")) | J16: =IF(OR(A16="",E16="",H16=""),"",IF(H16="Recebida",E16,"")) | K16: =IF(A16="","",IF(OR(B16="",C16="",D16="",E16="",F16="",G16="",H16=""),"Revisar campos",IF(OR(A16<Premissas!$B$6,A16>Premissas!$B$7,E16>Premissas!$B$4,AND(H16="Pendente de conferência",TODAY()-A16>Premissas!$B$5)),"Conferir","")))
I17: =IF(A17="","",TEXT(A17,"mm/yyyy")) | J17: =IF(OR(A17="",E17="",H17=""),"",IF(H17="Recebida",E17,"")) | K17: =IF(A17="","",IF(OR(B17="",C17="",D17="",E17="",F17="",G17="",H17=""),"Revisar campos",IF(OR(A17<Premissas!$B$6,A17>Premissas!$B$7,E17>Premissas!$B$4,AND(H17="Pendente de conferência",TODAY()-A17>Premissas!$B$5)),"Conferir","")))
I18: =IF(A18="","",TEXT(A18,"mm/yyyy")) | J18: =IF(OR(A18="",E18="",H18=""),"",IF(H18="Recebida",E18,"")) | K18: =IF(A18="","",IF(OR(B18="",C18="",D18="",E18="",F18="",G18="",H18=""),"Revisar campos",IF(OR(A18<Premissas!$B$6,A18>Premissas!$B$7,E18>Premissas!$B$4,AND(H18="Pendente de conferência",TODAY()-A18>Premissas!$B$5)),"Conferir","")))
I19: =IF(A19="","",TEXT(A19,"mm/yyyy")) | J19: =IF(OR(A19="",E19="",H19=""),"",IF(H19="Recebida",E19,"")) | K19: =IF(A19="","",IF(OR(B19="",C19="",D19="",E19="",F19="",G19="",H19=""),"Revisar campos",IF(OR(A19<Premissas!$B$6,A19>Premissas!$B$7,E19>Premissas!$B$4,AND(H19="Pendente de conferência",TODAY()-A19>Premissas!$B$5)),"Conferir","")))
I20: =IF(A20="","",TEXT(A20,"mm/yyyy")) | J20: =IF(OR(A20="",E20="",H20=""),"",IF(H20="Recebida",E20,"")) | K20: =IF(A20="","",IF(OR(B20="",C20="",D20="",E20="",F20="",G20="",H20=""),"Revisar campos",IF(OR(A20<Premissas!$B$6,A20>Premissas!$B$7,E20>Premissas!$B$4,AND(H20="Pendente de conferência",TODAY()-A20>Premissas!$B$5)),"Conferir","")))
I21: =IF(A21="","",TEXT(A21,"mm/yyyy")) | J21: =IF(OR(A21="",E21="",H21=""),"",IF(H21="Recebida",E21,"")) | K21: =IF(A21="","",IF(OR(B21="",C21="",D21="",E21="",F21="",G21="",H21=""),"Revisar campos",IF(OR(A21<Premissas!$B$6,A21>Premissas!$B$7,E21>Premissas!$B$4,AND(H21="Pendente de conferência",TODAY()-A21>Premissas!$B$5)),"Conferir","")))
I22: =IF(A22="","",TEXT(A22,"mm/yyyy")) | J22: =IF(OR(A22="",E22="",H22=""),"",IF(H22="Recebida",E22,"")) | K22: =IF(A22="","",IF(OR(B22="",C22="",D22="",E22="",F22="",G22="",H22=""),"Revisar campos",IF(OR(A22<Premissas!$B$6,A22>Premissas!$B$7,E22>Premissas!$B$4,AND(H22="Pendente de conferência",TODAY()-A22>Premissas!$B$5)),"Conferir","")))
I23: =IF(A23="","",TEXT(A23,"mm/yyyy")) | J23: =IF(OR(A23="",E23="",H23=""),"",IF(H23="Recebida",E23,"")) | K23: =IF(A23="","",IF(OR(B23="",C23="",D23="",E23="",F23="",G23="",H23=""),"Revisar campos",IF(OR(A23<Premissas!$B$6,A23>Premissas!$B$7,E23>Premissas!$B$4,AND(H23="Pendente de conferência",TODAY()-A23>Premissas!$B$5)),"Conferir","")))
I24: =IF(A24="","",TEXT(A24,"mm/yyyy")) | J24: =IF(OR(A24="",E24="",H24=""),"",IF(H24="Recebida",E24,"")) | K24: =IF(A24="","",IF(OR(B24="",C24="",D24="",E24="",F24="",G24="",H24=""),"Revisar campos",IF(OR(A24<Premissas!$B$6,A24>Premissas!$B$7,E24>Premissas!$B$4,AND(H24="Pendente de conferência",TODAY()-A24>Premissas!$B$5)),"Conferir","")))
I25: =IF(A25="","",TEXT(A25,"mm/yyyy")) | J25: =IF(OR(A25="",E25="",H25=""),"",IF(H25="Recebida",E25,"")) | K25: =IF(A25="","",IF(OR(B25="",C25="",D25="",E25="",F25="",G25="",H25=""),"Revisar campos",IF(OR(A25<Premissas!$B$6,A25>Premissas!$B$7,E25>Premissas!$B$4,AND(H25="Pendente de conferência",TODAY()-A25>Premissas!$B$5)),"Conferir","")))
I26: =IF(A26="","",TEXT(A26,"mm/yyyy")) | J26: =IF(OR(A26="",E26="",H26=""),"",IF(H26="Recebida",E26,"")) | K26: =IF(A26="","",IF(OR(B26="",C26="",D26="",E26="",F26="",G26="",H26=""),"Revisar campos",IF(OR(A26<Premissas!$B$6,A26>Premissas!$B$7,E26>Premissas!$B$4,AND(H26="Pendente de conferência",TODAY()-A26>Premissas!$B$5)),"Conferir","")))
... I124: =IF(A124="","",TEXT(A124,"mm/yyyy")) | J124: =IF(OR(A124="",E124="",H124=""),"",IF(H124="Recebida",E124,"")) | K124: =IF(A124="","",IF(OR(B124="",C124="",D124="",E124="",F124="",G124="",H124=""),"Revisar campos",IF(OR(A124<Premissas!$B$6,A124>Premissas!$B$7,E124>Premissas!$B$4,AND(H124="Pendente de conferência",TODAY()-A124>Premissas!$B$5)),"Conferir","")))

Sheet Premissas
A1: Premissas e listas editáveis
A2: Ajuste limites, período e opções antes de utilizar os registros.
A3: Parâmetro | B3: Valor editável | D3: Finalidades | F3: Campanhas / eventos | H3: Ministérios | J3: Responsáveis | L3: Status
A4: Limite de alerta por lançamento (R$) | B4: 5000 | D4: Apoio comunitário fictício | F4: Sem campanha | H4: Ação comunitária fictícia | J4: Responsável fictício A | L4: Recebida
A5: Dias para alerta de pendência | B5: 7 | D5: Manutenção predial fictícia | F5: Campanha Horizonte Fictício | H5: Administração fictícia | J5: Responsável fictício B | L5: Pendente de conferência
A6: Data mínima aceita | B6: 45658 | D6: Missões locais fictícias | F6: Campanha Ponte Fictícia | H6: Missões fictícias | J6: Responsável fictício C | L6: Estornada
A7: Data máxima aceita | B7: 46752 | D7: Música e culto fictícios | F7: Encontro Semente Fictícia | H7: Música fictícia | J7: Responsável fictício D
A8: Início do período mensal do resumo | B8: 46023 | D8: Formação cristã fictícia | F8: Projeto Luz Fictícia | H8: Formação fictícia
D9: Reserva emergencial fictícia
A11: Conferência humana | B11: Os alertas apenas indicam registros que devem ser conferidos por uma pessoa responsável.
A12: Dados de exemplo | B12: Todos os nomes, campanhas, ministérios e lançamentos deste modelo são fictícios.
