Workbook

Sheet Resumo
A1: Resumo da distribuição de membros em células
A3: Indicador | B3: Valor
A4: Pessoas cadastradas | B4: =COUNTIF('Membros'!$A$5:$A$104,"<>")
A5: Alocações válidas | B5: =COUNTIF('Membros'!$H$5:$H$104,"Alocado")
A6: Pendentes de célula | B6: =COUNTIF('Membros'!$H$5:$H$104,"Pendente")
A7: Registros para conferência | B7: =COUNTIF('Membros'!$H$5:$H$104,"Conferir")
A8: Células ativas | B8: =COUNTIF('Células'!$F$5:$F$104,"Ativa")
A9: Capacidade das células ativas | B9: =SUMIF('Células'!$F$5:$F$104,"Ativa",'Células'!$E$5:$E$104)
A10: Pessoas atribuídas a células ativas | B10: =SUMIF('Células'!$F$5:$F$104,"Ativa",'Células'!$G$5:$G$104)
A11: Ocupação das células ativas | B11: =IFERROR(IF(SUMIF('Células'!$F$5:$F$104,"Ativa",'Células'!$E$5:$E$104)=0,"",SUMIF('Células'!$F$5:$F$104,"Ativa",'Células'!$G$5:$G$104)/SUMIF('Células'!$F$5:$F$104,"Ativa",'Células'!$E$5:$E$104)),"")
A14: Região | B14: Membros alocados
A15: =IF('Premissas'!A10="","",'Premissas'!A10) | B15: =IF(A15="","",COUNTIF('Membros'!$F$5:$F$104,A15))
A16: =IF('Premissas'!A11="","",'Premissas'!A11) | B16: =IF(A16="","",COUNTIF('Membros'!$F$5:$F$104,A16))
A17: =IF('Premissas'!A12="","",'Premissas'!A12) | B17: =IF(A17="","",COUNTIF('Membros'!$F$5:$F$104,A17))
A18: =IF('Premissas'!A13="","",'Premissas'!A13) | B18: =IF(A18="","",COUNTIF('Membros'!$F$5:$F$104,A18))

Sheet Membros
A1: Distribuição de membros em células fictícias
A4: ID do membro | B4: Nome fictício | C4: Data de cadastro | D4: Região preferida | E4: Célula atribuída | F4: Região da célula | G4: Responsável da célula | H4: Situação da alocação | I4: Alerta
A5: MEM-FIC-001 | B5: Pessoa Fictícia Alfa | C5: 46066 | D5: Aurora fictícia | E5: Célula Fictícia Âmbar | F5: =IF(OR(A5="",E5=""),"",IFERROR(VLOOKUP(E5,'Células'!$B$5:$I$104,2,FALSE),"")) | G5: =IF(OR(A5="",E5=""),"",IFERROR(VLOOKUP(E5,'Células'!$B$5:$I$104,3,FALSE),"")) | H5: =IF(A5="","",IF(OR(B5="",C5="",D5="",COUNTIF($A$5:$A$104,A5)>1),"Conferir",IF(E5="","Pendente",IF(OR(I5="OK",I5="Próxima do limite"),"Alocado","Conferir")))) | I5: =IF(A5="","",IF(B5="","Informar nome",IF(C5="","Informar cadastro",IF(COUNTIF($A$5:$A$104,A5)>1,"ID duplicado",IF(D5="","Informar região",IF(E5="","Definir célula",IF(COUNTIF('Células'!$B$5:$B$104,E5)=0,"Célula não cadastrada",IF(COUNTIF('Células'!$B$5:$B$104,E5)>1,"Nome de célula ambíguo",IFERROR(IF(VLOOKUP(E5,'Células'!$B$5:$I$104,5,FALSE)<>"Ativa","Célula inativa",IF(VLOOKUP(E5,'Células'!$B$5:$I$104,2,FALSE)<>D5,"Conferir região",IF(VLOOKUP(E5,'Células'!$B$5:$I$104,8,FALSE)>1,"Capacidade excedida",IF(VLOOKUP(E5,'Células'!$B$5:$I$104,8,FALSE)>='Premissas'!$B$4,"Próxima do limite","OK")))),"Conferir cadastro da célula"))))))))) | X5: =IF('Premissas'!A10="","",'Premissas'!A10) | Y5: =IF('Células'!B5="","",'Células'!B5) | Z5: ='Premissas'!B6
A6: MEM-FIC-002 | B6: Pessoa Fictícia Beta | C6: 46091 | D6: Aurora fictícia | E6: Célula Fictícia Âmbar | F6: =IF(OR(A6="",E6=""),"",IFERROR(VLOOKUP(E6,'Células'!$B$5:$I$104,2,FALSE),"")) | G6: =IF(OR(A6="",E6=""),"",IFERROR(VLOOKUP(E6,'Células'!$B$5:$I$104,3,FALSE),"")) | H6: =IF(A6="","",IF(OR(B6="",C6="",D6="",COUNTIF($A$5:$A$104,A6)>1),"Conferir",IF(E6="","Pendente",IF(OR(I6="OK",I6="Próxima do limite"),"Alocado","Conferir")))) | I6: =IF(A6="","",IF(B6="","Informar nome",IF(C6="","Informar cadastro",IF(COUNTIF($A$5:$A$104,A6)>1,"ID duplicado",IF(D6="","Informar região",IF(E6="","Definir célula",IF(COUNTIF('Células'!$B$5:$B$104,E6)=0,"Célula não cadastrada",IF(COUNTIF('Células'!$B$5:$B$104,E6)>1,"Nome de célula ambíguo",IFERROR(IF(VLOOKUP(E6,'Células'!$B$5:$I$104,5,FALSE)<>"Ativa","Célula inativa",IF(VLOOKUP(E6,'Células'!$B$5:$I$104,2,FALSE)<>D6,"Conferir região",IF(VLOOKUP(E6,'Células'!$B$5:$I$104,8,FALSE)>1,"Capacidade excedida",IF(VLOOKUP(E6,'Células'!$B$5:$I$104,8,FALSE)>='Premissas'!$B$4,"Próxima do limite","OK")))),"Conferir cadastro da célula"))))))))) | X6: =IF('Premissas'!A11="","",'Premissas'!A11) | Y6: =IF('Células'!B6="","",'Células'!B6)
A7: MEM-FIC-003 | B7: Pessoa Fictícia Gama | C7: 46116 | D7: Bosque fictício | E7: Célula Fictícia Âmbar | F7: =IF(OR(A7="",E7=""),"",IFERROR(VLOOKUP(E7,'Células'!$B$5:$I$104,2,FALSE),"")) | G7: =IF(OR(A7="",E7=""),"",IFERROR(VLOOKUP(E7,'Células'!$B$5:$I$104,3,FALSE),"")) | H7: =IF(A7="","",IF(OR(B7="",C7="",D7="",COUNTIF($A$5:$A$104,A7)>1),"Conferir",IF(E7="","Pendente",IF(OR(I7="OK",I7="Próxima do limite"),"Alocado","Conferir")))) | I7: =IF(A7="","",IF(B7="","Informar nome",IF(C7="","Informar cadastro",IF(COUNTIF($A$5:$A$104,A7)>1,"ID duplicado",IF(D7="","Informar região",IF(E7="","Definir célula",IF(COUNTIF('Células'!$B$5:$B$104,E7)=0,"Célula não cadastrada",IF(COUNTIF('Células'!$B$5:$B$104,E7)>1,"Nome de célula ambíguo",IFERROR(IF(VLOOKUP(E7,'Células'!$B$5:$I$104,5,FALSE)<>"Ativa","Célula inativa",IF(VLOOKUP(E7,'Células'!$B$5:$I$104,2,FALSE)<>D7,"Conferir região",IF(VLOOKUP(E7,'Células'!$B$5:$I$104,8,FALSE)>1,"Capacidade excedida",IF(VLOOKUP(E7,'Células'!$B$5:$I$104,8,FALSE)>='Premissas'!$B$4,"Próxima do limite","OK")))),"Conferir cadastro da célula"))))))))) | X7: =IF('Premissas'!A12="","",'Premissas'!A12) | Y7: =IF('Células'!B7="","",'Células'!B7)
A8: MEM-FIC-004 | B8: Pessoa Fictícia Delta | C8: 46138 | D8: Aurora fictícia | E8: Célula Fictícia Cedro | F8: =IF(OR(A8="",E8=""),"",IFERROR(VLOOKUP(E8,'Células'!$B$5:$I$104,2,FALSE),"")) | G8: =IF(OR(A8="",E8=""),"",IFERROR(VLOOKUP(E8,'Células'!$B$5:$I$104,3,FALSE),"")) | H8: =IF(A8="","",IF(OR(B8="",C8="",D8="",COUNTIF($A$5:$A$104,A8)>1),"Conferir",IF(E8="","Pendente",IF(OR(I8="OK",I8="Próxima do limite"),"Alocado","Conferir")))) | I8: =IF(A8="","",IF(B8="","Informar nome",IF(C8="","Informar cadastro",IF(COUNTIF($A$5:$A$104,A8)>1,"ID duplicado",IF(D8="","Informar região",IF(E8="","Definir célula",IF(COUNTIF('Células'!$B$5:$B$104,E8)=0,"Célula não cadastrada",IF(COUNTIF('Células'!$B$5:$B$104,E8)>1,"Nome de célula ambíguo",IFERROR(IF(VLOOKUP(E8,'Células'!$B$5:$I$104,5,FALSE)<>"Ativa","Célula inativa",IF(VLOOKUP(E8,'Células'!$B$5:$I$104,2,FALSE)<>D8,"Conferir região",IF(VLOOKUP(E8,'Células'!$B$5:$I$104,8,FALSE)>1,"Capacidade excedida",IF(VLOOKUP(E8,'Células'!$B$5:$I$104,8,FALSE)>='Premissas'!$B$4,"Próxima do limite","OK")))),"Conferir cadastro da célula"))))))))) | X8: =IF('Premissas'!A13="","",'Premissas'!A13) | Y8: =IF('Células'!B8="","",'Células'!B8)
A9: MEM-FIC-005 | B9: Pessoa Fictícia Épsilon | C9: 46161 | D9: Bosque fictício | E9: Célula Fictícia Estrela | F9: =IF(OR(A9="",E9=""),"",IFERROR(VLOOKUP(E9,'Células'!$B$5:$I$104,2,FALSE),"")) | G9: =IF(OR(A9="",E9=""),"",IFERROR(VLOOKUP(E9,'Células'!$B$5:$I$104,3,FALSE),"")) | H9: =IF(A9="","",IF(OR(B9="",C9="",D9="",COUNTIF($A$5:$A$104,A9)>1),"Conferir",IF(E9="","Pendente",IF(OR(I9="OK",I9="Próxima do limite"),"Alocado","Conferir")))) | I9: =IF(A9="","",IF(B9="","Informar nome",IF(C9="","Informar cadastro",IF(COUNTIF($A$5:$A$104,A9)>1,"ID duplicado",IF(D9="","Informar região",IF(E9="","Definir célula",IF(COUNTIF('Células'!$B$5:$B$104,E9)=0,"Célula não cadastrada",IF(COUNTIF('Células'!$B$5:$B$104,E9)>1,"Nome de célula ambíguo",IFERROR(IF(VLOOKUP(E9,'Células'!$B$5:$I$104,5,FALSE)<>"Ativa","Célula inativa",IF(VLOOKUP(E9,'Células'!$B$5:$I$104,2,FALSE)<>D9,"Conferir região",IF(VLOOKUP(E9,'Células'!$B$5:$I$104,8,FALSE)>1,"Capacidade excedida",IF(VLOOKUP(E9,'Células'!$B$5:$I$104,8,FALSE)>='Premissas'!$B$4,"Próxima do limite","OK")))),"Conferir cadastro da célula"))))))))) | X9: =IF('Premissas'!A14="","",'Premissas'!A14) | Y9: =IF('Células'!B9="","",'Células'!B9)
A10: MEM-FIC-006 | B10: Pessoa Fictícia Zeta | C10: 46184 | D10: Bosque fictício | E10: Célula Fictícia Estrela | F10: =IF(OR(A10="",E10=""),"",IFERROR(VLOOKUP(E10,'Células'!$B$5:$I$104,2,FALSE),"")) | G10: =IF(OR(A10="",E10=""),"",IFERROR(VLOOKUP(E10,'Células'!$B$5:$I$104,3,FALSE),"")) | H10: =IF(A10="","",IF(OR(B10="",C10="",D10="",COUNTIF($A$5:$A$104,A10)>1),"Conferir",IF(E10="","Pendente",IF(OR(I10="OK",I10="Próxima do limite"),"Alocado","Conferir")))) | I10: =IF(A10="","",IF(B10="","Informar nome",IF(C10="","Informar cadastro",IF(COUNTIF($A$5:$A$104,A10)>1,"ID duplicado",IF(D10="","Informar região",IF(E10="","Definir célula",IF(COUNTIF('Células'!$B$5:$B$104,E10)=0,"Célula não cadastrada",IF(COUNTIF('Células'!$B$5:$B$104,E10)>1,"Nome de célula ambíguo",IFERROR(IF(VLOOKUP(E10,'Células'!$B$5:$I$104,5,FALSE)<>"Ativa","Célula inativa",IF(VLOOKUP(E10,'Células'!$B$5:$I$104,2,FALSE)<>D10,"Conferir região",IF(VLOOKUP(E10,'Células'!$B$5:$I$104,8,FALSE)>1,"Capacidade excedida",IF(VLOOKUP(E10,'Células'!$B$5:$I$104,8,FALSE)>='Premissas'!$B$4,"Próxima do limite","OK")))),"Conferir cadastro da célula"))))))))) | X10: =IF('Premissas'!A15="","",'Premissas'!A15) | Y10: =IF('Células'!B10="","",'Células'!B10)
A11: MEM-FIC-007 | B11: Pessoa Fictícia Eta | C11: 46202 | D11: Bosque fictício | E11: Célula Fictícia Ponte | F11: =IF(OR(A11="",E11=""),"",IFERROR(VLOOKUP(E11,'Células'!$B$5:$I$104,2,FALSE),"")) | G11: =IF(OR(A11="",E11=""),"",IFERROR(VLOOKUP(E11,'Células'!$B$5:$I$104,3,FALSE),"")) | H11: =IF(A11="","",IF(OR(B11="",C11="",D11="",COUNTIF($A$5:$A$104,A11)>1),"Conferir",IF(E11="","Pendente",IF(OR(I11="OK",I11="Próxima do limite"),"Alocado","Conferir")))) | I11: =IF(A11="","",IF(B11="","Informar nome",IF(C11="","Informar cadastro",IF(COUNTIF($A$5:$A$104,A11)>1,"ID duplicado",IF(D11="","Informar região",IF(E11="","Definir célula",IF(COUNTIF('Células'!$B$5:$B$104,E11)=0,"Célula não cadastrada",IF(COUNTIF('Células'!$B$5:$B$104,E11)>1,"Nome de célula ambíguo",IFERROR(IF(VLOOKUP(E11,'Células'!$B$5:$I$104,5,FALSE)<>"Ativa","Célula inativa",IF(VLOOKUP(E11,'Células'!$B$5:$I$104,2,FALSE)<>D11,"Conferir região",IF(VLOOKUP(E11,'Células'!$B$5:$I$104,8,FALSE)>1,"Capacidade excedida",IF(VLOOKUP(E11,'Células'!$B$5:$I$104,8,FALSE)>='Premissas'!$B$4,"Próxima do limite","OK")))),"Conferir cadastro da célula"))))))))) | X11: =IF('Premissas'!A16="","",'Premissas'!A16) | Y11: =IF('Células'!B11="","",'Células'!B11)
A12: MEM-FIC-008 | B12: Pessoa Fictícia Teta | C12: 46223 | D12: Lago fictício | E12: Célula Fictícia Horizonte | F12: =IF(OR(A12="",E12=""),"",IFERROR(VLOOKUP(E12,'Células'!$B$5:$I$104,2,FALSE),"")) | G12: =IF(OR(A12="",E12=""),"",IFERROR(VLOOKUP(E12,'Células'!$B$5:$I$104,3,FALSE),"")) | H12: =IF(A12="","",IF(OR(B12="",C12="",D12="",COUNTIF($A$5:$A$104,A12)>1),"Conferir",IF(E12="","Pendente",IF(OR(I12="OK",I12="Próxima do limite"),"Alocado","Conferir")))) | I12: =IF(A12="","",IF(B12="","Informar nome",IF(C12="","Informar cadastro",IF(COUNTIF($A$5:$A$104,A12)>1,"ID duplicado",IF(D12="","Informar região",IF(E12="","Definir célula",IF(COUNTIF('Células'!$B$5:$B$104,E12)=0,"Célula não cadastrada",IF(COUNTIF('Células'!$B$5:$B$104,E12)>1,"Nome de célula ambíguo",IFERROR(IF(VLOOKUP(E12,'Células'!$B$5:$I$104,5,FALSE)<>"Ativa","Célula inativa",IF(VLOOKUP(E12,'Células'!$B$5:$I$104,2,FALSE)<>D12,"Conferir região",IF(VLOOKUP(E12,'Células'!$B$5:$I$104,8,FALSE)>1,"Capacidade excedida",IF(VLOOKUP(E12,'Células'!$B$5:$I$104,8,FALSE)>='Premissas'!$B$4,"Próxima do limite","OK")))),"Conferir cadastro da célula"))))))))) | X12: =IF('Premissas'!A17="","",'Premissas'!A17) | Y12: =IF('Células'!B12="","",'Células'!B12)
A13: MEM-FIC-009 | B13: Pessoa Fictícia Iota | C13: 46245 | D13: Lago fictício | E13: Célula Fictícia Ipê | F13: =IF(OR(A13="",E13=""),"",IFERROR(VLOOKUP(E13,'Células'!$B$5:$I$104,2,FALSE),"")) | G13: =IF(OR(A13="",E13=""),"",IFERROR(VLOOKUP(E13,'Células'!$B$5:$I$104,3,FALSE),"")) | H13: =IF(A13="","",IF(OR(B13="",C13="",D13="",COUNTIF($A$5:$A$104,A13)>1),"Conferir",IF(E13="","Pendente",IF(OR(I13="OK",I13="Próxima do limite"),"Alocado","Conferir")))) | I13: =IF(A13="","",IF(B13="","Informar nome",IF(C13="","Informar cadastro",IF(COUNTIF($A$5:$A$104,A13)>1,"ID duplicado",IF(D13="","Informar região",IF(E13="","Definir célula",IF(COUNTIF('Células'!$B$5:$B$104,E13)=0,"Célula não cadastrada",IF(COUNTIF('Células'!$B$5:$B$104,E13)>1,"Nome de célula ambíguo",IFERROR(IF(VLOOKUP(E13,'Células'!$B$5:$I$104,5,FALSE)<>"Ativa","Célula inativa",IF(VLOOKUP(E13,'Células'!$B$5:$I$104,2,FALSE)<>D13,"Conferir região",IF(VLOOKUP(E13,'Células'!$B$5:$I$104,8,FALSE)>1,"Capacidade excedida",IF(VLOOKUP(E13,'Células'!$B$5:$I$104,8,FALSE)>='Premissas'!$B$4,"Próxima do limite","OK")))),"Conferir cadastro da célula"))))))))) | X13: =IF('Premissas'!A18="","",'Premissas'!A18) | Y13: =IF('Células'!B13="","",'Células'!B13)
A14: MEM-FIC-010 | B14: Pessoa Fictícia Capa | C14: 46264 | D14: Colina fictícia | F14: =IF(OR(A14="",E14=""),"",IFERROR(VLOOKUP(E14,'Células'!$B$5:$I$104,2,FALSE),"")) | G14: =IF(OR(A14="",E14=""),"",IFERROR(VLOOKUP(E14,'Células'!$B$5:$I$104,3,FALSE),"")) | H14: =IF(A14="","",IF(OR(B14="",C14="",D14="",COUNTIF($A$5:$A$104,A14)>1),"Conferir",IF(E14="","Pendente",IF(OR(I14="OK",I14="Próxima do limite"),"Alocado","Conferir")))) | I14: =IF(A14="","",IF(B14="","Informar nome",IF(C14="","Informar cadastro",IF(COUNTIF($A$5:$A$104,A14)>1,"ID duplicado",IF(D14="","Informar região",IF(E14="","Definir célula",IF(COUNTIF('Células'!$B$5:$B$104,E14)=0,"Célula não cadastrada",IF(COUNTIF('Células'!$B$5:$B$104,E14)>1,"Nome de célula ambíguo",IFERROR(IF(VLOOKUP(E14,'Células'!$B$5:$I$104,5,FALSE)<>"Ativa","Célula inativa",IF(VLOOKUP(E14,'Células'!$B$5:$I$104,2,FALSE)<>D14,"Conferir região",IF(VLOOKUP(E14,'Células'!$B$5:$I$104,8,FALSE)>1,"Capacidade excedida",IF(VLOOKUP(E14,'Células'!$B$5:$I$104,8,FALSE)>='Premissas'!$B$4,"Próxima do limite","OK")))),"Conferir cadastro da célula"))))))))) | X14: =IF('Premissas'!A19="","",'Premissas'!A19) | Y14: =IF('Células'!B14="","",'Células'!B14)
F15: =IF(OR(A15="",E15=""),"",IFERROR(VLOOKUP(E15,'Células'!$B$5:$I$104,2,FALSE),"")) | G15: =IF(OR(A15="",E15=""),"",IFERROR(VLOOKUP(E15,'Células'!$B$5:$I$104,3,FALSE),"")) | H15: =IF(A15="","",IF(OR(B15="",C15="",D15="",COUNTIF($A$5:$A$104,A15)>1),"Conferir",IF(E15="","Pendente",IF(OR(I15="OK",I15="Próxima do limite"),"Alocado","Conferir")))) | I15: =IF(A15="","",IF(B15="","Informar nome",IF(C15="","Informar cadastro",IF(COUNTIF($A$5:$A$104,A15)>1,"ID duplicado",IF(D15="","Informar região",IF(E15="","Definir célula",IF(COUNTIF('Células'!$B$5:$B$104,E15)=0,"Célula não cadastrada",IF(COUNTIF('Células'!$B$5:$B$104,E15)>1,"Nome de célula ambíguo",IFERROR(IF(VLOOKUP(E15,'Células'!$B$5:$I$104,5,FALSE)<>"Ativa","Célula inativa",IF(VLOOKUP(E15,'Células'!$B$5:$I$104,2,FALSE)<>D15,"Conferir região",IF(VLOOKUP(E15,'Células'!$B$5:$I$104,8,FALSE)>1,"Capacidade excedida",IF(VLOOKUP(E15,'Células'!$B$5:$I$104,8,FALSE)>='Premissas'!$B$4,"Próxima do limite","OK")))),"Conferir cadastro da célula"))))))))) | X15: =IF('Premissas'!A20="","",'Premissas'!A20) | Y15: =IF('Células'!B15="","",'Células'!B15)
F16: =IF(OR(A16="",E16=""),"",IFERROR(VLOOKUP(E16,'Células'!$B$5:$I$104,2,FALSE),"")) | G16: =IF(OR(A16="",E16=""),"",IFERROR(VLOOKUP(E16,'Células'!$B$5:$I$104,3,FALSE),"")) | H16: =IF(A16="","",IF(OR(B16="",C16="",D16="",COUNTIF($A$5:$A$104,A16)>1),"Conferir",IF(E16="","Pendente",IF(OR(I16="OK",I16="Próxima do limite"),"Alocado","Conferir")))) | I16: =IF(A16="","",IF(B16="","Informar nome",IF(C16="","Informar cadastro",IF(COUNTIF($A$5:$A$104,A16)>1,"ID duplicado",IF(D16="","Informar região",IF(E16="","Definir célula",IF(COUNTIF('Células'!$B$5:$B$104,E16)=0,"Célula não cadastrada",IF(COUNTIF('Células'!$B$5:$B$104,E16)>1,"Nome de célula ambíguo",IFERROR(IF(VLOOKUP(E16,'Células'!$B$5:$I$104,5,FALSE)<>"Ativa","Célula inativa",IF(VLOOKUP(E16,'Células'!$B$5:$I$104,2,FALSE)<>D16,"Conferir região",IF(VLOOKUP(E16,'Células'!$B$5:$I$104,8,FALSE)>1,"Capacidade excedida",IF(VLOOKUP(E16,'Células'!$B$5:$I$104,8,FALSE)>='Premissas'!$B$4,"Próxima do limite","OK")))),"Conferir cadastro da célula"))))))))) | X16: =IF('Premissas'!A21="","",'Premissas'!A21) | Y16: =IF('Células'!B16="","",'Células'!B16)
F17: =IF(OR(A17="",E17=""),"",IFERROR(VLOOKUP(E17,'Células'!$B$5:$I$104,2,FALSE),"")) | G17: =IF(OR(A17="",E17=""),"",IFERROR(VLOOKUP(E17,'Células'!$B$5:$I$104,3,FALSE),"")) | H17: =IF(A17="","",IF(OR(B17="",C17="",D17="",COUNTIF($A$5:$A$104,A17)>1),"Conferir",IF(E17="","Pendente",IF(OR(I17="OK",I17="Próxima do limite"),"Alocado","Conferir")))) | I17: =IF(A17="","",IF(B17="","Informar nome",IF(C17="","Informar cadastro",IF(COUNTIF($A$5:$A$104,A17)>1,"ID duplicado",IF(D17="","Informar região",IF(E17="","Definir célula",IF(COUNTIF('Células'!$B$5:$B$104,E17)=0,"Célula não cadastrada",IF(COUNTIF('Células'!$B$5:$B$104,E17)>1,"Nome de célula ambíguo",IFERROR(IF(VLOOKUP(E17,'Células'!$B$5:$I$104,5,FALSE)<>"Ativa","Célula inativa",IF(VLOOKUP(E17,'Células'!$B$5:$I$104,2,FALSE)<>D17,"Conferir região",IF(VLOOKUP(E17,'Células'!$B$5:$I$104,8,FALSE)>1,"Capacidade excedida",IF(VLOOKUP(E17,'Células'!$B$5:$I$104,8,FALSE)>='Premissas'!$B$4,"Próxima do limite","OK")))),"Conferir cadastro da célula"))))))))) | X17: =IF('Premissas'!A22="","",'Premissas'!A22) | Y17: =IF('Células'!B17="","",'Células'!B17)
F18: =IF(OR(A18="",E18=""),"",IFERROR(VLOOKUP(E18,'Células'!$B$5:$I$104,2,FALSE),"")) | G18: =IF(OR(A18="",E18=""),"",IFERROR(VLOOKUP(E18,'Células'!$B$5:$I$104,3,FALSE),"")) | H18: =IF(A18="","",IF(OR(B18="",C18="",D18="",COUNTIF($A$5:$A$104,A18)>1),"Conferir",IF(E18="","Pendente",IF(OR(I18="OK",I18="Próxima do limite"),"Alocado","Conferir")))) | I18: =IF(A18="","",IF(B18="","Informar nome",IF(C18="","Informar cadastro",IF(COUNTIF($A$5:$A$104,A18)>1,"ID duplicado",IF(D18="","Informar região",IF(E18="","Definir célula",IF(COUNTIF('Células'!$B$5:$B$104,E18)=0,"Célula não cadastrada",IF(COUNTIF('Células'!$B$5:$B$104,E18)>1,"Nome de célula ambíguo",IFERROR(IF(VLOOKUP(E18,'Células'!$B$5:$I$104,5,FALSE)<>"Ativa","Célula inativa",IF(VLOOKUP(E18,'Células'!$B$5:$I$104,2,FALSE)<>D18,"Conferir região",IF(VLOOKUP(E18,'Células'!$B$5:$I$104,8,FALSE)>1,"Capacidade excedida",IF(VLOOKUP(E18,'Células'!$B$5:$I$104,8,FALSE)>='Premissas'!$B$4,"Próxima do limite","OK")))),"Conferir cadastro da célula"))))))))) | X18: =IF('Premissas'!A23="","",'Premissas'!A23) | Y18: =IF('Células'!B18="","",'Células'!B18)
F19: =IF(OR(A19="",E19=""),"",IFERROR(VLOOKUP(E19,'Células'!$B$5:$I$104,2,FALSE),"")) | G19: =IF(OR(A19="",E19=""),"",IFERROR(VLOOKUP(E19,'Células'!$B$5:$I$104,3,FALSE),"")) | H19: =IF(A19="","",IF(OR(B19="",C19="",D19="",COUNTIF($A$5:$A$104,A19)>1),"Conferir",IF(E19="","Pendente",IF(OR(I19="OK",I19="Próxima do limite"),"Alocado","Conferir")))) | I19: =IF(A19="","",IF(B19="","Informar nome",IF(C19="","Informar cadastro",IF(COUNTIF($A$5:$A$104,A19)>1,"ID duplicado",IF(D19="","Informar região",IF(E19="","Definir célula",IF(COUNTIF('Células'!$B$5:$B$104,E19)=0,"Célula não cadastrada",IF(COUNTIF('Células'!$B$5:$B$104,E19)>1,"Nome de célula ambíguo",IFERROR(IF(VLOOKUP(E19,'Células'!$B$5:$I$104,5,FALSE)<>"Ativa","Célula inativa",IF(VLOOKUP(E19,'Células'!$B$5:$I$104,2,FALSE)<>D19,"Conferir região",IF(VLOOKUP(E19,'Células'!$B$5:$I$104,8,FALSE)>1,"Capacidade excedida",IF(VLOOKUP(E19,'Células'!$B$5:$I$104,8,FALSE)>='Premissas'!$B$4,"Próxima do limite","OK")))),"Conferir cadastro da célula"))))))))) | X19: =IF('Premissas'!A24="","",'Premissas'!A24) | Y19: =IF('Células'!B19="","",'Células'!B19)
F20: =IF(OR(A20="",E20=""),"",IFERROR(VLOOKUP(E20,'Células'!$B$5:$I$104,2,FALSE),"")) | G20: =IF(OR(A20="",E20=""),"",IFERROR(VLOOKUP(E20,'Células'!$B$5:$I$104,3,FALSE),"")) | H20: =IF(A20="","",IF(OR(B20="",C20="",D20="",COUNTIF($A$5:$A$104,A20)>1),"Conferir",IF(E20="","Pendente",IF(OR(I20="OK",I20="Próxima do limite"),"Alocado","Conferir")))) | I20: =IF(A20="","",IF(B20="","Informar nome",IF(C20="","Informar cadastro",IF(COUNTIF($A$5:$A$104,A20)>1,"ID duplicado",IF(D20="","Informar região",IF(E20="","Definir célula",IF(COUNTIF('Células'!$B$5:$B$104,E20)=0,"Célula não cadastrada",IF(COUNTIF('Células'!$B$5:$B$104,E20)>1,"Nome de célula ambíguo",IFERROR(IF(VLOOKUP(E20,'Células'!$B$5:$I$104,5,FALSE)<>"Ativa","Célula inativa",IF(VLOOKUP(E20,'Células'!$B$5:$I$104,2,FALSE)<>D20,"Conferir região",IF(VLOOKUP(E20,'Células'!$B$5:$I$104,8,FALSE)>1,"Capacidade excedida",IF(VLOOKUP(E20,'Células'!$B$5:$I$104,8,FALSE)>='Premissas'!$B$4,"Próxima do limite","OK")))),"Conferir cadastro da célula"))))))))) | X20: =IF('Premissas'!A25="","",'Premissas'!A25) | Y20: =IF('Células'!B20="","",'Células'!B20)
F21: =IF(OR(A21="",E21=""),"",IFERROR(VLOOKUP(E21,'Células'!$B$5:$I$104,2,FALSE),"")) | G21: =IF(OR(A21="",E21=""),"",IFERROR(VLOOKUP(E21,'Células'!$B$5:$I$104,3,FALSE),"")) | H21: =IF(A21="","",IF(OR(B21="",C21="",D21="",COUNTIF($A$5:$A$104,A21)>1),"Conferir",IF(E21="","Pendente",IF(OR(I21="OK",I21="Próxima do limite"),"Alocado","Conferir")))) | I21: =IF(A21="","",IF(B21="","Informar nome",IF(C21="","Informar cadastro",IF(COUNTIF($A$5:$A$104,A21)>1,"ID duplicado",IF(D21="","Informar região",IF(E21="","Definir célula",IF(COUNTIF('Células'!$B$5:$B$104,E21)=0,"Célula não cadastrada",IF(COUNTIF('Células'!$B$5:$B$104,E21)>1,"Nome de célula ambíguo",IFERROR(IF(VLOOKUP(E21,'Células'!$B$5:$I$104,5,FALSE)<>"Ativa","Célula inativa",IF(VLOOKUP(E21,'Células'!$B$5:$I$104,2,FALSE)<>D21,"Conferir região",IF(VLOOKUP(E21,'Células'!$B$5:$I$104,8,FALSE)>1,"Capacidade excedida",IF(VLOOKUP(E21,'Células'!$B$5:$I$104,8,FALSE)>='Premissas'!$B$4,"Próxima do limite","OK")))),"Conferir cadastro da célula"))))))))) | X21: =IF('Premissas'!A26="","",'Premissas'!A26) | Y21: =IF('Células'!B21="","",'Células'!B21)
F22: =IF(OR(A22="",E22=""),"",IFERROR(VLOOKUP(E22,'Células'!$B$5:$I$104,2,FALSE),"")) | G22: =IF(OR(A22="",E22=""),"",IFERROR(VLOOKUP(E22,'Células'!$B$5:$I$104,3,FALSE),"")) | H22: =IF(A22="","",IF(OR(B22="",C22="",D22="",COUNTIF($A$5:$A$104,A22)>1),"Conferir",IF(E22="","Pendente",IF(OR(I22="OK",I22="Próxima do limite"),"Alocado","Conferir")))) | I22: =IF(A22="","",IF(B22="","Informar nome",IF(C22="","Informar cadastro",IF(COUNTIF($A$5:$A$104,A22)>1,"ID duplicado",IF(D22="","Informar região",IF(E22="","Definir célula",IF(COUNTIF('Células'!$B$5:$B$104,E22)=0,"Célula não cadastrada",IF(COUNTIF('Células'!$B$5:$B$104,E22)>1,"Nome de célula ambíguo",IFERROR(IF(VLOOKUP(E22,'Células'!$B$5:$I$104,5,FALSE)<>"Ativa","Célula inativa",IF(VLOOKUP(E22,'Células'!$B$5:$I$104,2,FALSE)<>D22,"Conferir região",IF(VLOOKUP(E22,'Células'!$B$5:$I$104,8,FALSE)>1,"Capacidade excedida",IF(VLOOKUP(E22,'Células'!$B$5:$I$104,8,FALSE)>='Premissas'!$B$4,"Próxima do limite","OK")))),"Conferir cadastro da célula"))))))))) | X22: =IF('Premissas'!A27="","",'Premissas'!A27) | Y22: =IF('Células'!B22="","",'Células'!B22)
F23: =IF(OR(A23="",E23=""),"",IFERROR(VLOOKUP(E23,'Células'!$B$5:$I$104,2,FALSE),"")) | G23: =IF(OR(A23="",E23=""),"",IFERROR(VLOOKUP(E23,'Células'!$B$5:$I$104,3,FALSE),"")) | H23: =IF(A23="","",IF(OR(B23="",C23="",D23="",COUNTIF($A$5:$A$104,A23)>1),"Conferir",IF(E23="","Pendente",IF(OR(I23="OK",I23="Próxima do limite"),"Alocado","Conferir")))) | I23: =IF(A23="","",IF(B23="","Informar nome",IF(C23="","Informar cadastro",IF(COUNTIF($A$5:$A$104,A23)>1,"ID duplicado",IF(D23="","Informar região",IF(E23="","Definir célula",IF(COUNTIF('Células'!$B$5:$B$104,E23)=0,"Célula não cadastrada",IF(COUNTIF('Células'!$B$5:$B$104,E23)>1,"Nome de célula ambíguo",IFERROR(IF(VLOOKUP(E23,'Células'!$B$5:$I$104,5,FALSE)<>"Ativa","Célula inativa",IF(VLOOKUP(E23,'Células'!$B$5:$I$104,2,FALSE)<>D23,"Conferir região",IF(VLOOKUP(E23,'Células'!$B$5:$I$104,8,FALSE)>1,"Capacidade excedida",IF(VLOOKUP(E23,'Células'!$B$5:$I$104,8,FALSE)>='Premissas'!$B$4,"Próxima do limite","OK")))),"Conferir cadastro da célula"))))))))) | X23: =IF('Premissas'!A28="","",'Premissas'!A28) | Y23: =IF('Células'!B23="","",'Células'!B23)
F24: =IF(OR(A24="",E24=""),"",IFERROR(VLOOKUP(E24,'Células'!$B$5:$I$104,2,FALSE),"")) | G24: =IF(OR(A24="",E24=""),"",IFERROR(VLOOKUP(E24,'Células'!$B$5:$I$104,3,FALSE),"")) | H24: =IF(A24="","",IF(OR(B24="",C24="",D24="",COUNTIF($A$5:$A$104,A24)>1),"Conferir",IF(E24="","Pendente",IF(OR(I24="OK",I24="Próxima do limite"),"Alocado","Conferir")))) | I24: =IF(A24="","",IF(B24="","Informar nome",IF(C24="","Informar cadastro",IF(COUNTIF($A$5:$A$104,A24)>1,"ID duplicado",IF(D24="","Informar região",IF(E24="","Definir célula",IF(COUNTIF('Células'!$B$5:$B$104,E24)=0,"Célula não cadastrada",IF(COUNTIF('Células'!$B$5:$B$104,E24)>1,"Nome de célula ambíguo",IFERROR(IF(VLOOKUP(E24,'Células'!$B$5:$I$104,5,FALSE)<>"Ativa","Célula inativa",IF(VLOOKUP(E24,'Células'!$B$5:$I$104,2,FALSE)<>D24,"Conferir região",IF(VLOOKUP(E24,'Células'!$B$5:$I$104,8,FALSE)>1,"Capacidade excedida",IF(VLOOKUP(E24,'Células'!$B$5:$I$104,8,FALSE)>='Premissas'!$B$4,"Próxima do limite","OK")))),"Conferir cadastro da célula"))))))))) | X24: =IF('Premissas'!A29="","",'Premissas'!A29) | Y24: =IF('Células'!B24="","",'Células'!B24)
F25: =IF(OR(A25="",E25=""),"",IFERROR(VLOOKUP(E25,'Células'!$B$5:$I$104,2,FALSE),"")) | G25: =IF(OR(A25="",E25=""),"",IFERROR(VLOOKUP(E25,'Células'!$B$5:$I$104,3,FALSE),"")) | H25: =IF(A25="","",IF(OR(B25="",C25="",D25="",COUNTIF($A$5:$A$104,A25)>1),"Conferir",IF(E25="","Pendente",IF(OR(I25="OK",I25="Próxima do limite"),"Alocado","Conferir")))) | I25: =IF(A25="","",IF(B25="","Informar nome",IF(C25="","Informar cadastro",IF(COUNTIF($A$5:$A$104,A25)>1,"ID duplicado",IF(D25="","Informar região",IF(E25="","Definir célula",IF(COUNTIF('Células'!$B$5:$B$104,E25)=0,"Célula não cadastrada",IF(COUNTIF('Células'!$B$5:$B$104,E25)>1,"Nome de célula ambíguo",IFERROR(IF(VLOOKUP(E25,'Células'!$B$5:$I$104,5,FALSE)<>"Ativa","Célula inativa",IF(VLOOKUP(E25,'Células'!$B$5:$I$104,2,FALSE)<>D25,"Conferir região",IF(VLOOKUP(E25,'Células'!$B$5:$I$104,8,FALSE)>1,"Capacidade excedida",IF(VLOOKUP(E25,'Células'!$B$5:$I$104,8,FALSE)>='Premissas'!$B$4,"Próxima do limite","OK")))),"Conferir cadastro da célula"))))))))) | X25: =IF('Premissas'!A30="","",'Premissas'!A30) | Y25: =IF('Células'!B25="","",'Células'!B25)
F26: =IF(OR(A26="",E26=""),"",IFERROR(VLOOKUP(E26,'Células'!$B$5:$I$104,2,FALSE),"")) | G26: =IF(OR(A26="",E26=""),"",IFERROR(VLOOKUP(E26,'Células'!$B$5:$I$104,3,FALSE),"")) | H26: =IF(A26="","",IF(OR(B26="",C26="",D26="",COUNTIF($A$5:$A$104,A26)>1),"Conferir",IF(E26="","Pendente",IF(OR(I26="OK",I26="Próxima do limite"),"Alocado","Conferir")))) | I26: =IF(A26="","",IF(B26="","Informar nome",IF(C26="","Informar cadastro",IF(COUNTIF($A$5:$A$104,A26)>1,"ID duplicado",IF(D26="","Informar região",IF(E26="","Definir célula",IF(COUNTIF('Células'!$B$5:$B$104,E26)=0,"Célula não cadastrada",IF(COUNTIF('Células'!$B$5:$B$104,E26)>1,"Nome de célula ambíguo",IFERROR(IF(VLOOKUP(E26,'Células'!$B$5:$I$104,5,FALSE)<>"Ativa","Célula inativa",IF(VLOOKUP(E26,'Células'!$B$5:$I$104,2,FALSE)<>D26,"Conferir região",IF(VLOOKUP(E26,'Células'!$B$5:$I$104,8,FALSE)>1,"Capacidade excedida",IF(VLOOKUP(E26,'Células'!$B$5:$I$104,8,FALSE)>='Premissas'!$B$4,"Próxima do limite","OK")))),"Conferir cadastro da célula"))))))))) | X26: =IF('Premissas'!A31="","",'Premissas'!A31) | Y26: =IF('Células'!B26="","",'Células'!B26)
... F104: =IF(OR(A104="",E104=""),"",IFERROR(VLOOKUP(E104,'Células'!$B$5:$I$104,2,FALSE),"")) | G104: =IF(OR(A104="",E104=""),"",IFERROR(VLOOKUP(E104,'Células'!$B$5:$I$104,3,FALSE),"")) | H104: =IF(A104="","",IF(OR(B104="",C104="",D104="",COUNTIF($A$5:$A$104,A104)>1),"Conferir",IF(E104="","Pendente",IF(OR(I104="OK",I104="Próxima do limite"),"Alocado","Conferir")))) | I104: =IF(A104="","",IF(B104="","Informar nome",IF(C104="","Informar cadastro",IF(COUNTIF($A$5:$A$104,A104)>1,"ID duplicado",IF(D104="","Informar região",IF(E104="","Definir célula",IF(COUNTIF('Células'!$B$5:$B$104,E104)=0,"Célula não cadastrada",IF(COUNTIF('Células'!$B$5:$B$104,E104)>1,"Nome de célula ambíguo",IFERROR(IF(VLOOKUP(E104,'Células'!$B$5:$I$104,5,FALSE)<>"Ativa","Célula inativa",IF(VLOOKUP(E104,'Células'!$B$5:$I$104,2,FALSE)<>D104,"Conferir região",IF(VLOOKUP(E104,'Células'!$B$5:$I$104,8,FALSE)>1,"Capacidade excedida",IF(VLOOKUP(E104,'Células'!$B$5:$I$104,8,FALSE)>='Premissas'!$B$4,"Próxima do limite","OK")))),"Conferir cadastro da célula"))))))))) | X104: =IF('Premissas'!A109="","",'Premissas'!A109) | Y104: =IF('Células'!B104="","",'Células'!B104)

Sheet Células
A1: Cadastro e capacidade das células fictícias
A4: ID da célula | B4: Nome fictício | C4: Região | D4: Responsável fictício | E4: Capacidade | F4: Status | G4: Membros atribuídos | H4: Vagas | I4: Ocupação | J4: Alerta
A5: CEL-FIC-001 | B5: Célula Fictícia Âmbar | C5: Aurora fictícia | D5: Responsável Fictício 01 | E5: 3 | F5: Ativa | G5: =IF(OR(A5="",B5=""),"",COUNTIF('Membros'!$E$5:$E$104,B5)) | H5: =IF(OR(A5="",E5="",G5=""),"",MAX(E5-G5,0)) | I5: =IF(OR(A5="",E5="",G5=""),"",IFERROR(G5/E5,"")) | J5: =IF(A5="","",IF(B5="","Informar nome",IF(COUNTIF($A$5:$A$104,A5)>1,"ID duplicado",IF(COUNTIF($B$5:$B$104,B5)>1,"Nome duplicado",IF(C5="","Informar região",IF(D5="","Informar responsável",IF(E5="","Informar capacidade",IF(F5="","Informar status",IF(AND(F5="Inativa",G5>0),"Conferir alocações",IF(G5>E5,"Capacidade excedida",IF(I5>='Premissas'!$B$4,"Próxima do limite","OK"))))))))))) | X5: =IF('Premissas'!A10="","",'Premissas'!A10) | Y5: ='Premissas'!C10 | Z5: ='Premissas'!B5
A6: CEL-FIC-002 | B6: Célula Fictícia Cedro | C6: Aurora fictícia | D6: Responsável Fictício 02 | E6: 3 | F6: Ativa | G6: =IF(OR(A6="",B6=""),"",COUNTIF('Membros'!$E$5:$E$104,B6)) | H6: =IF(OR(A6="",E6="",G6=""),"",MAX(E6-G6,0)) | I6: =IF(OR(A6="",E6="",G6=""),"",IFERROR(G6/E6,"")) | J6: =IF(A6="","",IF(B6="","Informar nome",IF(COUNTIF($A$5:$A$104,A6)>1,"ID duplicado",IF(COUNTIF($B$5:$B$104,B6)>1,"Nome duplicado",IF(C6="","Informar região",IF(D6="","Informar responsável",IF(E6="","Informar capacidade",IF(F6="","Informar status",IF(AND(F6="Inativa",G6>0),"Conferir alocações",IF(G6>E6,"Capacidade excedida",IF(I6>='Premissas'!$B$4,"Próxima do limite","OK"))))))))))) | X6: =IF('Premissas'!A11="","",'Premissas'!A11) | Y6: ='Premissas'!C11
A7: CEL-FIC-003 | B7: Célula Fictícia Estrela | C7: Bosque fictício | D7: Responsável Fictício 03 | E7: 3 | F7: Ativa | G7: =IF(OR(A7="",B7=""),"",COUNTIF('Membros'!$E$5:$E$104,B7)) | H7: =IF(OR(A7="",E7="",G7=""),"",MAX(E7-G7,0)) | I7: =IF(OR(A7="",E7="",G7=""),"",IFERROR(G7/E7,"")) | J7: =IF(A7="","",IF(B7="","Informar nome",IF(COUNTIF($A$5:$A$104,A7)>1,"ID duplicado",IF(COUNTIF($B$5:$B$104,B7)>1,"Nome duplicado",IF(C7="","Informar região",IF(D7="","Informar responsável",IF(E7="","Informar capacidade",IF(F7="","Informar status",IF(AND(F7="Inativa",G7>0),"Conferir alocações",IF(G7>E7,"Capacidade excedida",IF(I7>='Premissas'!$B$4,"Próxima do limite","OK"))))))))))) | X7: =IF('Premissas'!A12="","",'Premissas'!A12)
A8: CEL-FIC-004 | B8: Célula Fictícia Ponte | C8: Bosque fictício | D8: Responsável Fictício 04 | E8: 2 | F8: Inativa | G8: =IF(OR(A8="",B8=""),"",COUNTIF('Membros'!$E$5:$E$104,B8)) | H8: =IF(OR(A8="",E8="",G8=""),"",MAX(E8-G8,0)) | I8: =IF(OR(A8="",E8="",G8=""),"",IFERROR(G8/E8,"")) | J8: =IF(A8="","",IF(B8="","Informar nome",IF(COUNTIF($A$5:$A$104,A8)>1,"ID duplicado",IF(COUNTIF($B$5:$B$104,B8)>1,"Nome duplicado",IF(C8="","Informar região",IF(D8="","Informar responsável",IF(E8="","Informar capacidade",IF(F8="","Informar status",IF(AND(F8="Inativa",G8>0),"Conferir alocações",IF(G8>E8,"Capacidade excedida",IF(I8>='Premissas'!$B$4,"Próxima do limite","OK"))))))))))) | X8: =IF('Premissas'!A13="","",'Premissas'!A13)
A9: CEL-FIC-005 | B9: Célula Fictícia Horizonte | C9: Lago fictício | D9: Responsável Fictício 05 | E9: 2 | F9: Ativa | G9: =IF(OR(A9="",B9=""),"",COUNTIF('Membros'!$E$5:$E$104,B9)) | H9: =IF(OR(A9="",E9="",G9=""),"",MAX(E9-G9,0)) | I9: =IF(OR(A9="",E9="",G9=""),"",IFERROR(G9/E9,"")) | J9: =IF(A9="","",IF(B9="","Informar nome",IF(COUNTIF($A$5:$A$104,A9)>1,"ID duplicado",IF(COUNTIF($B$5:$B$104,B9)>1,"Nome duplicado",IF(C9="","Informar região",IF(D9="","Informar responsável",IF(E9="","Informar capacidade",IF(F9="","Informar status",IF(AND(F9="Inativa",G9>0),"Conferir alocações",IF(G9>E9,"Capacidade excedida",IF(I9>='Premissas'!$B$4,"Próxima do limite","OK"))))))))))) | X9: =IF('Premissas'!A14="","",'Premissas'!A14)
A10: CEL-FIC-006 | B10: Célula Fictícia Ipê | C10: Lago fictício | D10: Responsável Fictício 06 | E10: 1 | F10: Ativa | G10: =IF(OR(A10="",B10=""),"",COUNTIF('Membros'!$E$5:$E$104,B10)) | H10: =IF(OR(A10="",E10="",G10=""),"",MAX(E10-G10,0)) | I10: =IF(OR(A10="",E10="",G10=""),"",IFERROR(G10/E10,"")) | J10: =IF(A10="","",IF(B10="","Informar nome",IF(COUNTIF($A$5:$A$104,A10)>1,"ID duplicado",IF(COUNTIF($B$5:$B$104,B10)>1,"Nome duplicado",IF(C10="","Informar região",IF(D10="","Informar responsável",IF(E10="","Informar capacidade",IF(F10="","Informar status",IF(AND(F10="Inativa",G10>0),"Conferir alocações",IF(G10>E10,"Capacidade excedida",IF(I10>='Premissas'!$B$4,"Próxima do limite","OK"))))))))))) | X10: =IF('Premissas'!A15="","",'Premissas'!A15)
A11: CEL-FIC-007 | B11: Célula Fictícia Vento | C11: Colina fictícia | D11: Responsável Fictício 07 | E11: 2 | F11: Ativa | G11: =IF(OR(A11="",B11=""),"",COUNTIF('Membros'!$E$5:$E$104,B11)) | H11: =IF(OR(A11="",E11="",G11=""),"",MAX(E11-G11,0)) | I11: =IF(OR(A11="",E11="",G11=""),"",IFERROR(G11/E11,"")) | J11: =IF(A11="","",IF(B11="","Informar nome",IF(COUNTIF($A$5:$A$104,A11)>1,"ID duplicado",IF(COUNTIF($B$5:$B$104,B11)>1,"Nome duplicado",IF(C11="","Informar região",IF(D11="","Informar responsável",IF(E11="","Informar capacidade",IF(F11="","Informar status",IF(AND(F11="Inativa",G11>0),"Conferir alocações",IF(G11>E11,"Capacidade excedida",IF(I11>='Premissas'!$B$4,"Próxima do limite","OK"))))))))))) | X11: =IF('Premissas'!A16="","",'Premissas'!A16)
A12: CEL-FIC-008 | B12: Célula Fictícia Farol | C12: Colina fictícia | D12: Responsável Fictício 08 | E12: 4 | F12: Ativa | G12: =IF(OR(A12="",B12=""),"",COUNTIF('Membros'!$E$5:$E$104,B12)) | H12: =IF(OR(A12="",E12="",G12=""),"",MAX(E12-G12,0)) | I12: =IF(OR(A12="",E12="",G12=""),"",IFERROR(G12/E12,"")) | J12: =IF(A12="","",IF(B12="","Informar nome",IF(COUNTIF($A$5:$A$104,A12)>1,"ID duplicado",IF(COUNTIF($B$5:$B$104,B12)>1,"Nome duplicado",IF(C12="","Informar região",IF(D12="","Informar responsável",IF(E12="","Informar capacidade",IF(F12="","Informar status",IF(AND(F12="Inativa",G12>0),"Conferir alocações",IF(G12>E12,"Capacidade excedida",IF(I12>='Premissas'!$B$4,"Próxima do limite","OK"))))))))))) | X12: =IF('Premissas'!A17="","",'Premissas'!A17)
G13: =IF(OR(A13="",B13=""),"",COUNTIF('Membros'!$E$5:$E$104,B13)) | H13: =IF(OR(A13="",E13="",G13=""),"",MAX(E13-G13,0)) | I13: =IF(OR(A13="",E13="",G13=""),"",IFERROR(G13/E13,"")) | J13: =IF(A13="","",IF(B13="","Informar nome",IF(COUNTIF($A$5:$A$104,A13)>1,"ID duplicado",IF(COUNTIF($B$5:$B$104,B13)>1,"Nome duplicado",IF(C13="","Informar região",IF(D13="","Informar responsável",IF(E13="","Informar capacidade",IF(F13="","Informar status",IF(AND(F13="Inativa",G13>0),"Conferir alocações",IF(G13>E13,"Capacidade excedida",IF(I13>='Premissas'!$B$4,"Próxima do limite","OK"))))))))))) | X13: =IF('Premissas'!A18="","",'Premissas'!A18)
G14: =IF(OR(A14="",B14=""),"",COUNTIF('Membros'!$E$5:$E$104,B14)) | H14: =IF(OR(A14="",E14="",G14=""),"",MAX(E14-G14,0)) | I14: =IF(OR(A14="",E14="",G14=""),"",IFERROR(G14/E14,"")) | J14: =IF(A14="","",IF(B14="","Informar nome",IF(COUNTIF($A$5:$A$104,A14)>1,"ID duplicado",IF(COUNTIF($B$5:$B$104,B14)>1,"Nome duplicado",IF(C14="","Informar região",IF(D14="","Informar responsável",IF(E14="","Informar capacidade",IF(F14="","Informar status",IF(AND(F14="Inativa",G14>0),"Conferir alocações",IF(G14>E14,"Capacidade excedida",IF(I14>='Premissas'!$B$4,"Próxima do limite","OK"))))))))))) | X14: =IF('Premissas'!A19="","",'Premissas'!A19)
G15: =IF(OR(A15="",B15=""),"",COUNTIF('Membros'!$E$5:$E$104,B15)) | H15: =IF(OR(A15="",E15="",G15=""),"",MAX(E15-G15,0)) | I15: =IF(OR(A15="",E15="",G15=""),"",IFERROR(G15/E15,"")) | J15: =IF(A15="","",IF(B15="","Informar nome",IF(COUNTIF($A$5:$A$104,A15)>1,"ID duplicado",IF(COUNTIF($B$5:$B$104,B15)>1,"Nome duplicado",IF(C15="","Informar região",IF(D15="","Informar responsável",IF(E15="","Informar capacidade",IF(F15="","Informar status",IF(AND(F15="Inativa",G15>0),"Conferir alocações",IF(G15>E15,"Capacidade excedida",IF(I15>='Premissas'!$B$4,"Próxima do limite","OK"))))))))))) | X15: =IF('Premissas'!A20="","",'Premissas'!A20)
G16: =IF(OR(A16="",B16=""),"",COUNTIF('Membros'!$E$5:$E$104,B16)) | H16: =IF(OR(A16="",E16="",G16=""),"",MAX(E16-G16,0)) | I16: =IF(OR(A16="",E16="",G16=""),"",IFERROR(G16/E16,"")) | J16: =IF(A16="","",IF(B16="","Informar nome",IF(COUNTIF($A$5:$A$104,A16)>1,"ID duplicado",IF(COUNTIF($B$5:$B$104,B16)>1,"Nome duplicado",IF(C16="","Informar região",IF(D16="","Informar responsável",IF(E16="","Informar capacidade",IF(F16="","Informar status",IF(AND(F16="Inativa",G16>0),"Conferir alocações",IF(G16>E16,"Capacidade excedida",IF(I16>='Premissas'!$B$4,"Próxima do limite","OK"))))))))))) | X16: =IF('Premissas'!A21="","",'Premissas'!A21)
G17: =IF(OR(A17="",B17=""),"",COUNTIF('Membros'!$E$5:$E$104,B17)) | H17: =IF(OR(A17="",E17="",G17=""),"",MAX(E17-G17,0)) | I17: =IF(OR(A17="",E17="",G17=""),"",IFERROR(G17/E17,"")) | J17: =IF(A17="","",IF(B17="","Informar nome",IF(COUNTIF($A$5:$A$104,A17)>1,"ID duplicado",IF(COUNTIF($B$5:$B$104,B17)>1,"Nome duplicado",IF(C17="","Informar região",IF(D17="","Informar responsável",IF(E17="","Informar capacidade",IF(F17="","Informar status",IF(AND(F17="Inativa",G17>0),"Conferir alocações",IF(G17>E17,"Capacidade excedida",IF(I17>='Premissas'!$B$4,"Próxima do limite","OK"))))))))))) | X17: =IF('Premissas'!A22="","",'Premissas'!A22)
G18: =IF(OR(A18="",B18=""),"",COUNTIF('Membros'!$E$5:$E$104,B18)) | H18: =IF(OR(A18="",E18="",G18=""),"",MAX(E18-G18,0)) | I18: =IF(OR(A18="",E18="",G18=""),"",IFERROR(G18/E18,"")) | J18: =IF(A18="","",IF(B18="","Informar nome",IF(COUNTIF($A$5:$A$104,A18)>1,"ID duplicado",IF(COUNTIF($B$5:$B$104,B18)>1,"Nome duplicado",IF(C18="","Informar região",IF(D18="","Informar responsável",IF(E18="","Informar capacidade",IF(F18="","Informar status",IF(AND(F18="Inativa",G18>0),"Conferir alocações",IF(G18>E18,"Capacidade excedida",IF(I18>='Premissas'!$B$4,"Próxima do limite","OK"))))))))))) | X18: =IF('Premissas'!A23="","",'Premissas'!A23)
G19: =IF(OR(A19="",B19=""),"",COUNTIF('Membros'!$E$5:$E$104,B19)) | H19: =IF(OR(A19="",E19="",G19=""),"",MAX(E19-G19,0)) | I19: =IF(OR(A19="",E19="",G19=""),"",IFERROR(G19/E19,"")) | J19: =IF(A19="","",IF(B19="","Informar nome",IF(COUNTIF($A$5:$A$104,A19)>1,"ID duplicado",IF(COUNTIF($B$5:$B$104,B19)>1,"Nome duplicado",IF(C19="","Informar região",IF(D19="","Informar responsável",IF(E19="","Informar capacidade",IF(F19="","Informar status",IF(AND(F19="Inativa",G19>0),"Conferir alocações",IF(G19>E19,"Capacidade excedida",IF(I19>='Premissas'!$B$4,"Próxima do limite","OK"))))))))))) | X19: =IF('Premissas'!A24="","",'Premissas'!A24)
G20: =IF(OR(A20="",B20=""),"",COUNTIF('Membros'!$E$5:$E$104,B20)) | H20: =IF(OR(A20="",E20="",G20=""),"",MAX(E20-G20,0)) | I20: =IF(OR(A20="",E20="",G20=""),"",IFERROR(G20/E20,"")) | J20: =IF(A20="","",IF(B20="","Informar nome",IF(COUNTIF($A$5:$A$104,A20)>1,"ID duplicado",IF(COUNTIF($B$5:$B$104,B20)>1,"Nome duplicado",IF(C20="","Informar região",IF(D20="","Informar responsável",IF(E20="","Informar capacidade",IF(F20="","Informar status",IF(AND(F20="Inativa",G20>0),"Conferir alocações",IF(G20>E20,"Capacidade excedida",IF(I20>='Premissas'!$B$4,"Próxima do limite","OK"))))))))))) | X20: =IF('Premissas'!A25="","",'Premissas'!A25)
G21: =IF(OR(A21="",B21=""),"",COUNTIF('Membros'!$E$5:$E$104,B21)) | H21: =IF(OR(A21="",E21="",G21=""),"",MAX(E21-G21,0)) | I21: =IF(OR(A21="",E21="",G21=""),"",IFERROR(G21/E21,"")) | J21: =IF(A21="","",IF(B21="","Informar nome",IF(COUNTIF($A$5:$A$104,A21)>1,"ID duplicado",IF(COUNTIF($B$5:$B$104,B21)>1,"Nome duplicado",IF(C21="","Informar região",IF(D21="","Informar responsável",IF(E21="","Informar capacidade",IF(F21="","Informar status",IF(AND(F21="Inativa",G21>0),"Conferir alocações",IF(G21>E21,"Capacidade excedida",IF(I21>='Premissas'!$B$4,"Próxima do limite","OK"))))))))))) | X21: =IF('Premissas'!A26="","",'Premissas'!A26)
G22: =IF(OR(A22="",B22=""),"",COUNTIF('Membros'!$E$5:$E$104,B22)) | H22: =IF(OR(A22="",E22="",G22=""),"",MAX(E22-G22,0)) | I22: =IF(OR(A22="",E22="",G22=""),"",IFERROR(G22/E22,"")) | J22: =IF(A22="","",IF(B22="","Informar nome",IF(COUNTIF($A$5:$A$104,A22)>1,"ID duplicado",IF(COUNTIF($B$5:$B$104,B22)>1,"Nome duplicado",IF(C22="","Informar região",IF(D22="","Informar responsável",IF(E22="","Informar capacidade",IF(F22="","Informar status",IF(AND(F22="Inativa",G22>0),"Conferir alocações",IF(G22>E22,"Capacidade excedida",IF(I22>='Premissas'!$B$4,"Próxima do limite","OK"))))))))))) | X22: =IF('Premissas'!A27="","",'Premissas'!A27)
G23: =IF(OR(A23="",B23=""),"",COUNTIF('Membros'!$E$5:$E$104,B23)) | H23: =IF(OR(A23="",E23="",G23=""),"",MAX(E23-G23,0)) | I23: =IF(OR(A23="",E23="",G23=""),"",IFERROR(G23/E23,"")) | J23: =IF(A23="","",IF(B23="","Informar nome",IF(COUNTIF($A$5:$A$104,A23)>1,"ID duplicado",IF(COUNTIF($B$5:$B$104,B23)>1,"Nome duplicado",IF(C23="","Informar região",IF(D23="","Informar responsável",IF(E23="","Informar capacidade",IF(F23="","Informar status",IF(AND(F23="Inativa",G23>0),"Conferir alocações",IF(G23>E23,"Capacidade excedida",IF(I23>='Premissas'!$B$4,"Próxima do limite","OK"))))))))))) | X23: =IF('Premissas'!A28="","",'Premissas'!A28)
G24: =IF(OR(A24="",B24=""),"",COUNTIF('Membros'!$E$5:$E$104,B24)) | H24: =IF(OR(A24="",E24="",G24=""),"",MAX(E24-G24,0)) | I24: =IF(OR(A24="",E24="",G24=""),"",IFERROR(G24/E24,"")) | J24: =IF(A24="","",IF(B24="","Informar nome",IF(COUNTIF($A$5:$A$104,A24)>1,"ID duplicado",IF(COUNTIF($B$5:$B$104,B24)>1,"Nome duplicado",IF(C24="","Informar região",IF(D24="","Informar responsável",IF(E24="","Informar capacidade",IF(F24="","Informar status",IF(AND(F24="Inativa",G24>0),"Conferir alocações",IF(G24>E24,"Capacidade excedida",IF(I24>='Premissas'!$B$4,"Próxima do limite","OK"))))))))))) | X24: =IF('Premissas'!A29="","",'Premissas'!A29)
... G104: =IF(OR(A104="",B104=""),"",COUNTIF('Membros'!$E$5:$E$104,B104)) | H104: =IF(OR(A104="",E104="",G104=""),"",MAX(E104-G104,0)) | I104: =IF(OR(A104="",E104="",G104=""),"",IFERROR(G104/E104,"")) | J104: =IF(A104="","",IF(B104="","Informar nome",IF(COUNTIF($A$5:$A$104,A104)>1,"ID duplicado",IF(COUNTIF($B$5:$B$104,B104)>1,"Nome duplicado",IF(C104="","Informar região",IF(D104="","Informar responsável",IF(E104="","Informar capacidade",IF(F104="","Informar status",IF(AND(F104="Inativa",G104>0),"Conferir alocações",IF(G104>E104,"Capacidade excedida",IF(I104>='Premissas'!$B$4,"Próxima do limite","OK"))))))))))) | X104: =IF('Premissas'!A109="","",'Premissas'!A109)

Sheet Premissas
A1: Premissas da distribuição de membros em células
A3: Premissa | B3: Valor | C3: Uso administrativo | D3: Unidade
A4: Alerta a partir da ocupação | B4: 0.85 | C4: Sinaliza célula próxima do limite | D4: percentual
A5: Capacidade máxima permitida no cadastro | B5: 30 | C5: Limite de conferência para cada célula | D5: pessoas
A6: Data mínima de cadastro | B6: 45658 | C6: Evita datas anteriores ao período adotado | D6: data
A9: Regiões fictícias | B9: Uso | C9: Status de célula | D9: Uso
A10: Aurora fictícia | B10: Preferência e localização da célula | C10: Ativa | D10: Situação disponível para cadastro
A11: Bosque fictício | B11: Preferência e localização da célula | C11: Inativa | D11: Situação disponível para cadastro
A12: Colina fictícia | B12: Preferência e localização da célula
A13: Lago fictício | B13: Preferência e localização da célula
