Workbook

Sheet Resumo
A1: Resumo — disponibilidade de voluntários
A3: Indicador da consulta atual | B3: Quantidade
A4: Aptos para contato | B4: =IF('Consulta'!D2="","",'Consulta'!D2)
A5: Aptos — confirmar atualização | B5: =IF('Consulta'!D3="","",'Consulta'!D3)
A6: Cadastros a revisar | B6: =IF('Consulta'!D4="","",'Consulta'!D4)
A8: Uso operacional
A9: Os resultados são indicações para contato. A pasta não cria escala, não confirma presença e não interpreta restrições textuais.
A10: Confirme diretamente com a pessoa antes de qualquer atividade. Não registre telefone, endereço, credenciais ou outros dados desnecessários.
A12: Abrir consulta
A13: Abrir cadastros de voluntários
A14: Abrir registros de disponibilidade

Sheet Consulta
A1: Consulta de disponibilidade — indicação para contato
A2: Data da necessidade | B2: 46278 | C2: Aptos para contato | D2: =IF(OR(COUNTBLANK($B$2:$B$8)>0,$B$4<=$B$3),"",COUNTIF($L$10:$L$209,"Apto para contato")) | F2: Verifique restrições textuais antes do contato.
A3: Hora inicial | B3: 0.375 | C3: Aptos — confirmar atualização | D3: =IF(OR(COUNTBLANK($B$2:$B$8)>0,$B$4<=$B$3),"",COUNTIF($L$10:$L$209,"Apto — confirmar atualização")) | F3: O resultado não confirma presença nem cria escala.
A4: Hora final | B4: 0.45833333 | C4: Cadastros a revisar | D4: =IF(OR(COUNTBLANK($B$2:$B$8)>0,$B$4<=$B$3),"",COUNTIF($L$10:$L$209,"Revisar cadastro")) | F4: Cadastros inconsistentes nunca são indicados como aptos.
A5: Área necessária | B5: Recepção
A6: Incluir “Talvez”? | B6: Não
A7: Data de referência | B7: 46276
A8: Limite sem atualização, em dias | B8: 90
A9: Dia calculado | B9: =IF(B2="","",CHOOSE(WEEKDAY(B2,2),"Segunda-feira","Terça-feira","Quarta-feira","Quinta-feira","Sexta-feira","Sábado","Domingo"))
A10: =IF('Disponibilidade'!A2="","",'Disponibilidade'!A2) | B10: =IF(A10="","",'Disponibilidade'!B2) | C10: =IF(B10="","",IFERROR(INDEX('Voluntários'!$B$2:$B$101,MATCH(B10,'Voluntários'!$A$2:$A$101,0)),"Código não cadastrado")) | D10: =IF(B10="","",IFERROR(INDEX('Voluntários'!$C$2:$C$101,MATCH(B10,'Voluntários'!$A$2:$A$101,0)),"")) | E10: =IF(A10="","",'Disponibilidade'!F2) | F10: =IF(A10="","",'Disponibilidade'!G2) | G10: =IF(A10="","",'Disponibilidade'!D2) | H10: =IF(A10="","",'Disponibilidade'!E2) | I10: =IF(A10="","",'Disponibilidade'!I2) | J10: =IF(A10="","",'Disponibilidade'!J2) | K10: =IF(A10="","",'Disponibilidade'!K2) | L10: =IF(A10="","",IF(OR($B$2="",$B$3="",$B$4="",$B$5="",$B$6="",$B$7="",$B$8=""),"Preencha a consulta",IF($B$4<=$B$3,"Horário consultado inválido",IF(OR('Disponibilidade'!$L2<>"OK",IFERROR(INDEX('Voluntários'!$F$2:$F$101,MATCH(B10,'Voluntários'!$A$2:$A$101,0)),"")<>"OK"),"Revisar cadastro",IF(D10<>"Ativo","Inativo",IF('Disponibilidade'!$C2<>$B$9,"Fora do dia",IF(OR(G10>$B$3,H10<$B$4),"Fora do horário",IF(OR('Disponibilidade'!$H2>$B$2,AND(I10<>"",I10<$B$2)),"Fora da validade",IF(AND(E10<>$B$5,E10<>"Qualquer área"),"Outra preferência",IF(F10="Indisponível","Indisponível",IF(AND(F10="Talvez",$B$6="Não"),"Talvez não incluído",IF($B$7-K10>$B$8,"Apto — confirmar atualização","Apto para contato"))))))))))))
A11: =IF('Disponibilidade'!A3="","",'Disponibilidade'!A3) | B11: =IF(A11="","",'Disponibilidade'!B3) | C11: =IF(B11="","",IFERROR(INDEX('Voluntários'!$B$2:$B$101,MATCH(B11,'Voluntários'!$A$2:$A$101,0)),"Código não cadastrado")) | D11: =IF(B11="","",IFERROR(INDEX('Voluntários'!$C$2:$C$101,MATCH(B11,'Voluntários'!$A$2:$A$101,0)),"")) | E11: =IF(A11="","",'Disponibilidade'!F3) | F11: =IF(A11="","",'Disponibilidade'!G3) | G11: =IF(A11="","",'Disponibilidade'!D3) | H11: =IF(A11="","",'Disponibilidade'!E3) | I11: =IF(A11="","",'Disponibilidade'!I3) | J11: =IF(A11="","",'Disponibilidade'!J3) | K11: =IF(A11="","",'Disponibilidade'!K3) | L11: =IF(A11="","",IF(OR($B$2="",$B$3="",$B$4="",$B$5="",$B$6="",$B$7="",$B$8=""),"Preencha a consulta",IF($B$4<=$B$3,"Horário consultado inválido",IF(OR('Disponibilidade'!$L3<>"OK",IFERROR(INDEX('Voluntários'!$F$2:$F$101,MATCH(B11,'Voluntários'!$A$2:$A$101,0)),"")<>"OK"),"Revisar cadastro",IF(D11<>"Ativo","Inativo",IF('Disponibilidade'!$C3<>$B$9,"Fora do dia",IF(OR(G11>$B$3,H11<$B$4),"Fora do horário",IF(OR('Disponibilidade'!$H3>$B$2,AND(I11<>"",I11<$B$2)),"Fora da validade",IF(AND(E11<>$B$5,E11<>"Qualquer área"),"Outra preferência",IF(F11="Indisponível","Indisponível",IF(AND(F11="Talvez",$B$6="Não"),"Talvez não incluído",IF($B$7-K11>$B$8,"Apto — confirmar atualização","Apto para contato"))))))))))))
A12: =IF('Disponibilidade'!A4="","",'Disponibilidade'!A4) | B12: =IF(A12="","",'Disponibilidade'!B4) | C12: =IF(B12="","",IFERROR(INDEX('Voluntários'!$B$2:$B$101,MATCH(B12,'Voluntários'!$A$2:$A$101,0)),"Código não cadastrado")) | D12: =IF(B12="","",IFERROR(INDEX('Voluntários'!$C$2:$C$101,MATCH(B12,'Voluntários'!$A$2:$A$101,0)),"")) | E12: =IF(A12="","",'Disponibilidade'!F4) | F12: =IF(A12="","",'Disponibilidade'!G4) | G12: =IF(A12="","",'Disponibilidade'!D4) | H12: =IF(A12="","",'Disponibilidade'!E4) | I12: =IF(A12="","",'Disponibilidade'!I4) | J12: =IF(A12="","",'Disponibilidade'!J4) | K12: =IF(A12="","",'Disponibilidade'!K4) | L12: =IF(A12="","",IF(OR($B$2="",$B$3="",$B$4="",$B$5="",$B$6="",$B$7="",$B$8=""),"Preencha a consulta",IF($B$4<=$B$3,"Horário consultado inválido",IF(OR('Disponibilidade'!$L4<>"OK",IFERROR(INDEX('Voluntários'!$F$2:$F$101,MATCH(B12,'Voluntários'!$A$2:$A$101,0)),"")<>"OK"),"Revisar cadastro",IF(D12<>"Ativo","Inativo",IF('Disponibilidade'!$C4<>$B$9,"Fora do dia",IF(OR(G12>$B$3,H12<$B$4),"Fora do horário",IF(OR('Disponibilidade'!$H4>$B$2,AND(I12<>"",I12<$B$2)),"Fora da validade",IF(AND(E12<>$B$5,E12<>"Qualquer área"),"Outra preferência",IF(F12="Indisponível","Indisponível",IF(AND(F12="Talvez",$B$6="Não"),"Talvez não incluído",IF($B$7-K12>$B$8,"Apto — confirmar atualização","Apto para contato"))))))))))))
A13: =IF('Disponibilidade'!A5="","",'Disponibilidade'!A5) | B13: =IF(A13="","",'Disponibilidade'!B5) | C13: =IF(B13="","",IFERROR(INDEX('Voluntários'!$B$2:$B$101,MATCH(B13,'Voluntários'!$A$2:$A$101,0)),"Código não cadastrado")) | D13: =IF(B13="","",IFERROR(INDEX('Voluntários'!$C$2:$C$101,MATCH(B13,'Voluntários'!$A$2:$A$101,0)),"")) | E13: =IF(A13="","",'Disponibilidade'!F5) | F13: =IF(A13="","",'Disponibilidade'!G5) | G13: =IF(A13="","",'Disponibilidade'!D5) | H13: =IF(A13="","",'Disponibilidade'!E5) | I13: =IF(A13="","",'Disponibilidade'!I5) | J13: =IF(A13="","",'Disponibilidade'!J5) | K13: =IF(A13="","",'Disponibilidade'!K5) | L13: =IF(A13="","",IF(OR($B$2="",$B$3="",$B$4="",$B$5="",$B$6="",$B$7="",$B$8=""),"Preencha a consulta",IF($B$4<=$B$3,"Horário consultado inválido",IF(OR('Disponibilidade'!$L5<>"OK",IFERROR(INDEX('Voluntários'!$F$2:$F$101,MATCH(B13,'Voluntários'!$A$2:$A$101,0)),"")<>"OK"),"Revisar cadastro",IF(D13<>"Ativo","Inativo",IF('Disponibilidade'!$C5<>$B$9,"Fora do dia",IF(OR(G13>$B$3,H13<$B$4),"Fora do horário",IF(OR('Disponibilidade'!$H5>$B$2,AND(I13<>"",I13<$B$2)),"Fora da validade",IF(AND(E13<>$B$5,E13<>"Qualquer área"),"Outra preferência",IF(F13="Indisponível","Indisponível",IF(AND(F13="Talvez",$B$6="Não"),"Talvez não incluído",IF($B$7-K13>$B$8,"Apto — confirmar atualização","Apto para contato"))))))))))))
A14: =IF('Disponibilidade'!A6="","",'Disponibilidade'!A6) | B14: =IF(A14="","",'Disponibilidade'!B6) | C14: =IF(B14="","",IFERROR(INDEX('Voluntários'!$B$2:$B$101,MATCH(B14,'Voluntários'!$A$2:$A$101,0)),"Código não cadastrado")) | D14: =IF(B14="","",IFERROR(INDEX('Voluntários'!$C$2:$C$101,MATCH(B14,'Voluntários'!$A$2:$A$101,0)),"")) | E14: =IF(A14="","",'Disponibilidade'!F6) | F14: =IF(A14="","",'Disponibilidade'!G6) | G14: =IF(A14="","",'Disponibilidade'!D6) | H14: =IF(A14="","",'Disponibilidade'!E6) | I14: =IF(A14="","",'Disponibilidade'!I6) | J14: =IF(A14="","",'Disponibilidade'!J6) | K14: =IF(A14="","",'Disponibilidade'!K6) | L14: =IF(A14="","",IF(OR($B$2="",$B$3="",$B$4="",$B$5="",$B$6="",$B$7="",$B$8=""),"Preencha a consulta",IF($B$4<=$B$3,"Horário consultado inválido",IF(OR('Disponibilidade'!$L6<>"OK",IFERROR(INDEX('Voluntários'!$F$2:$F$101,MATCH(B14,'Voluntários'!$A$2:$A$101,0)),"")<>"OK"),"Revisar cadastro",IF(D14<>"Ativo","Inativo",IF('Disponibilidade'!$C6<>$B$9,"Fora do dia",IF(OR(G14>$B$3,H14<$B$4),"Fora do horário",IF(OR('Disponibilidade'!$H6>$B$2,AND(I14<>"",I14<$B$2)),"Fora da validade",IF(AND(E14<>$B$5,E14<>"Qualquer área"),"Outra preferência",IF(F14="Indisponível","Indisponível",IF(AND(F14="Talvez",$B$6="Não"),"Talvez não incluído",IF($B$7-K14>$B$8,"Apto — confirmar atualização","Apto para contato"))))))))))))
A15: =IF('Disponibilidade'!A7="","",'Disponibilidade'!A7) | B15: =IF(A15="","",'Disponibilidade'!B7) | C15: =IF(B15="","",IFERROR(INDEX('Voluntários'!$B$2:$B$101,MATCH(B15,'Voluntários'!$A$2:$A$101,0)),"Código não cadastrado")) | D15: =IF(B15="","",IFERROR(INDEX('Voluntários'!$C$2:$C$101,MATCH(B15,'Voluntários'!$A$2:$A$101,0)),"")) | E15: =IF(A15="","",'Disponibilidade'!F7) | F15: =IF(A15="","",'Disponibilidade'!G7) | G15: =IF(A15="","",'Disponibilidade'!D7) | H15: =IF(A15="","",'Disponibilidade'!E7) | I15: =IF(A15="","",'Disponibilidade'!I7) | J15: =IF(A15="","",'Disponibilidade'!J7) | K15: =IF(A15="","",'Disponibilidade'!K7) | L15: =IF(A15="","",IF(OR($B$2="",$B$3="",$B$4="",$B$5="",$B$6="",$B$7="",$B$8=""),"Preencha a consulta",IF($B$4<=$B$3,"Horário consultado inválido",IF(OR('Disponibilidade'!$L7<>"OK",IFERROR(INDEX('Voluntários'!$F$2:$F$101,MATCH(B15,'Voluntários'!$A$2:$A$101,0)),"")<>"OK"),"Revisar cadastro",IF(D15<>"Ativo","Inativo",IF('Disponibilidade'!$C7<>$B$9,"Fora do dia",IF(OR(G15>$B$3,H15<$B$4),"Fora do horário",IF(OR('Disponibilidade'!$H7>$B$2,AND(I15<>"",I15<$B$2)),"Fora da validade",IF(AND(E15<>$B$5,E15<>"Qualquer área"),"Outra preferência",IF(F15="Indisponível","Indisponível",IF(AND(F15="Talvez",$B$6="Não"),"Talvez não incluído",IF($B$7-K15>$B$8,"Apto — confirmar atualização","Apto para contato"))))))))))))
A16: =IF('Disponibilidade'!A8="","",'Disponibilidade'!A8) | B16: =IF(A16="","",'Disponibilidade'!B8) | C16: =IF(B16="","",IFERROR(INDEX('Voluntários'!$B$2:$B$101,MATCH(B16,'Voluntários'!$A$2:$A$101,0)),"Código não cadastrado")) | D16: =IF(B16="","",IFERROR(INDEX('Voluntários'!$C$2:$C$101,MATCH(B16,'Voluntários'!$A$2:$A$101,0)),"")) | E16: =IF(A16="","",'Disponibilidade'!F8) | F16: =IF(A16="","",'Disponibilidade'!G8) | G16: =IF(A16="","",'Disponibilidade'!D8) | H16: =IF(A16="","",'Disponibilidade'!E8) | I16: =IF(A16="","",'Disponibilidade'!I8) | J16: =IF(A16="","",'Disponibilidade'!J8) | K16: =IF(A16="","",'Disponibilidade'!K8) | L16: =IF(A16="","",IF(OR($B$2="",$B$3="",$B$4="",$B$5="",$B$6="",$B$7="",$B$8=""),"Preencha a consulta",IF($B$4<=$B$3,"Horário consultado inválido",IF(OR('Disponibilidade'!$L8<>"OK",IFERROR(INDEX('Voluntários'!$F$2:$F$101,MATCH(B16,'Voluntários'!$A$2:$A$101,0)),"")<>"OK"),"Revisar cadastro",IF(D16<>"Ativo","Inativo",IF('Disponibilidade'!$C8<>$B$9,"Fora do dia",IF(OR(G16>$B$3,H16<$B$4),"Fora do horário",IF(OR('Disponibilidade'!$H8>$B$2,AND(I16<>"",I16<$B$2)),"Fora da validade",IF(AND(E16<>$B$5,E16<>"Qualquer área"),"Outra preferência",IF(F16="Indisponível","Indisponível",IF(AND(F16="Talvez",$B$6="Não"),"Talvez não incluído",IF($B$7-K16>$B$8,"Apto — confirmar atualização","Apto para contato"))))))))))))
A17: =IF('Disponibilidade'!A9="","",'Disponibilidade'!A9) | B17: =IF(A17="","",'Disponibilidade'!B9) | C17: =IF(B17="","",IFERROR(INDEX('Voluntários'!$B$2:$B$101,MATCH(B17,'Voluntários'!$A$2:$A$101,0)),"Código não cadastrado")) | D17: =IF(B17="","",IFERROR(INDEX('Voluntários'!$C$2:$C$101,MATCH(B17,'Voluntários'!$A$2:$A$101,0)),"")) | E17: =IF(A17="","",'Disponibilidade'!F9) | F17: =IF(A17="","",'Disponibilidade'!G9) | G17: =IF(A17="","",'Disponibilidade'!D9) | H17: =IF(A17="","",'Disponibilidade'!E9) | I17: =IF(A17="","",'Disponibilidade'!I9) | J17: =IF(A17="","",'Disponibilidade'!J9) | K17: =IF(A17="","",'Disponibilidade'!K9) | L17: =IF(A17="","",IF(OR($B$2="",$B$3="",$B$4="",$B$5="",$B$6="",$B$7="",$B$8=""),"Preencha a consulta",IF($B$4<=$B$3,"Horário consultado inválido",IF(OR('Disponibilidade'!$L9<>"OK",IFERROR(INDEX('Voluntários'!$F$2:$F$101,MATCH(B17,'Voluntários'!$A$2:$A$101,0)),"")<>"OK"),"Revisar cadastro",IF(D17<>"Ativo","Inativo",IF('Disponibilidade'!$C9<>$B$9,"Fora do dia",IF(OR(G17>$B$3,H17<$B$4),"Fora do horário",IF(OR('Disponibilidade'!$H9>$B$2,AND(I17<>"",I17<$B$2)),"Fora da validade",IF(AND(E17<>$B$5,E17<>"Qualquer área"),"Outra preferência",IF(F17="Indisponível","Indisponível",IF(AND(F17="Talvez",$B$6="Não"),"Talvez não incluído",IF($B$7-K17>$B$8,"Apto — confirmar atualização","Apto para contato"))))))))))))
A18: =IF('Disponibilidade'!A10="","",'Disponibilidade'!A10) | B18: =IF(A18="","",'Disponibilidade'!B10) | C18: =IF(B18="","",IFERROR(INDEX('Voluntários'!$B$2:$B$101,MATCH(B18,'Voluntários'!$A$2:$A$101,0)),"Código não cadastrado")) | D18: =IF(B18="","",IFERROR(INDEX('Voluntários'!$C$2:$C$101,MATCH(B18,'Voluntários'!$A$2:$A$101,0)),"")) | E18: =IF(A18="","",'Disponibilidade'!F10) | F18: =IF(A18="","",'Disponibilidade'!G10) | G18: =IF(A18="","",'Disponibilidade'!D10) | H18: =IF(A18="","",'Disponibilidade'!E10) | I18: =IF(A18="","",'Disponibilidade'!I10) | J18: =IF(A18="","",'Disponibilidade'!J10) | K18: =IF(A18="","",'Disponibilidade'!K10) | L18: =IF(A18="","",IF(OR($B$2="",$B$3="",$B$4="",$B$5="",$B$6="",$B$7="",$B$8=""),"Preencha a consulta",IF($B$4<=$B$3,"Horário consultado inválido",IF(OR('Disponibilidade'!$L10<>"OK",IFERROR(INDEX('Voluntários'!$F$2:$F$101,MATCH(B18,'Voluntários'!$A$2:$A$101,0)),"")<>"OK"),"Revisar cadastro",IF(D18<>"Ativo","Inativo",IF('Disponibilidade'!$C10<>$B$9,"Fora do dia",IF(OR(G18>$B$3,H18<$B$4),"Fora do horário",IF(OR('Disponibilidade'!$H10>$B$2,AND(I18<>"",I18<$B$2)),"Fora da validade",IF(AND(E18<>$B$5,E18<>"Qualquer área"),"Outra preferência",IF(F18="Indisponível","Indisponível",IF(AND(F18="Talvez",$B$6="Não"),"Talvez não incluído",IF($B$7-K18>$B$8,"Apto — confirmar atualização","Apto para contato"))))))))))))
A19: =IF('Disponibilidade'!A11="","",'Disponibilidade'!A11) | B19: =IF(A19="","",'Disponibilidade'!B11) | C19: =IF(B19="","",IFERROR(INDEX('Voluntários'!$B$2:$B$101,MATCH(B19,'Voluntários'!$A$2:$A$101,0)),"Código não cadastrado")) | D19: =IF(B19="","",IFERROR(INDEX('Voluntários'!$C$2:$C$101,MATCH(B19,'Voluntários'!$A$2:$A$101,0)),"")) | E19: =IF(A19="","",'Disponibilidade'!F11) | F19: =IF(A19="","",'Disponibilidade'!G11) | G19: =IF(A19="","",'Disponibilidade'!D11) | H19: =IF(A19="","",'Disponibilidade'!E11) | I19: =IF(A19="","",'Disponibilidade'!I11) | J19: =IF(A19="","",'Disponibilidade'!J11) | K19: =IF(A19="","",'Disponibilidade'!K11) | L19: =IF(A19="","",IF(OR($B$2="",$B$3="",$B$4="",$B$5="",$B$6="",$B$7="",$B$8=""),"Preencha a consulta",IF($B$4<=$B$3,"Horário consultado inválido",IF(OR('Disponibilidade'!$L11<>"OK",IFERROR(INDEX('Voluntários'!$F$2:$F$101,MATCH(B19,'Voluntários'!$A$2:$A$101,0)),"")<>"OK"),"Revisar cadastro",IF(D19<>"Ativo","Inativo",IF('Disponibilidade'!$C11<>$B$9,"Fora do dia",IF(OR(G19>$B$3,H19<$B$4),"Fora do horário",IF(OR('Disponibilidade'!$H11>$B$2,AND(I19<>"",I19<$B$2)),"Fora da validade",IF(AND(E19<>$B$5,E19<>"Qualquer área"),"Outra preferência",IF(F19="Indisponível","Indisponível",IF(AND(F19="Talvez",$B$6="Não"),"Talvez não incluído",IF($B$7-K19>$B$8,"Apto — confirmar atualização","Apto para contato"))))))))))))
A20: =IF('Disponibilidade'!A12="","",'Disponibilidade'!A12) | B20: =IF(A20="","",'Disponibilidade'!B12) | C20: =IF(B20="","",IFERROR(INDEX('Voluntários'!$B$2:$B$101,MATCH(B20,'Voluntários'!$A$2:$A$101,0)),"Código não cadastrado")) | D20: =IF(B20="","",IFERROR(INDEX('Voluntários'!$C$2:$C$101,MATCH(B20,'Voluntários'!$A$2:$A$101,0)),"")) | E20: =IF(A20="","",'Disponibilidade'!F12) | F20: =IF(A20="","",'Disponibilidade'!G12) | G20: =IF(A20="","",'Disponibilidade'!D12) | H20: =IF(A20="","",'Disponibilidade'!E12) | I20: =IF(A20="","",'Disponibilidade'!I12) | J20: =IF(A20="","",'Disponibilidade'!J12) | K20: =IF(A20="","",'Disponibilidade'!K12) | L20: =IF(A20="","",IF(OR($B$2="",$B$3="",$B$4="",$B$5="",$B$6="",$B$7="",$B$8=""),"Preencha a consulta",IF($B$4<=$B$3,"Horário consultado inválido",IF(OR('Disponibilidade'!$L12<>"OK",IFERROR(INDEX('Voluntários'!$F$2:$F$101,MATCH(B20,'Voluntários'!$A$2:$A$101,0)),"")<>"OK"),"Revisar cadastro",IF(D20<>"Ativo","Inativo",IF('Disponibilidade'!$C12<>$B$9,"Fora do dia",IF(OR(G20>$B$3,H20<$B$4),"Fora do horário",IF(OR('Disponibilidade'!$H12>$B$2,AND(I20<>"",I20<$B$2)),"Fora da validade",IF(AND(E20<>$B$5,E20<>"Qualquer área"),"Outra preferência",IF(F20="Indisponível","Indisponível",IF(AND(F20="Talvez",$B$6="Não"),"Talvez não incluído",IF($B$7-K20>$B$8,"Apto — confirmar atualização","Apto para contato"))))))))))))
A21: =IF('Disponibilidade'!A13="","",'Disponibilidade'!A13) | B21: =IF(A21="","",'Disponibilidade'!B13) | C21: =IF(B21="","",IFERROR(INDEX('Voluntários'!$B$2:$B$101,MATCH(B21,'Voluntários'!$A$2:$A$101,0)),"Código não cadastrado")) | D21: =IF(B21="","",IFERROR(INDEX('Voluntários'!$C$2:$C$101,MATCH(B21,'Voluntários'!$A$2:$A$101,0)),"")) | E21: =IF(A21="","",'Disponibilidade'!F13) | F21: =IF(A21="","",'Disponibilidade'!G13) | G21: =IF(A21="","",'Disponibilidade'!D13) | H21: =IF(A21="","",'Disponibilidade'!E13) | I21: =IF(A21="","",'Disponibilidade'!I13) | J21: =IF(A21="","",'Disponibilidade'!J13) | K21: =IF(A21="","",'Disponibilidade'!K13) | L21: =IF(A21="","",IF(OR($B$2="",$B$3="",$B$4="",$B$5="",$B$6="",$B$7="",$B$8=""),"Preencha a consulta",IF($B$4<=$B$3,"Horário consultado inválido",IF(OR('Disponibilidade'!$L13<>"OK",IFERROR(INDEX('Voluntários'!$F$2:$F$101,MATCH(B21,'Voluntários'!$A$2:$A$101,0)),"")<>"OK"),"Revisar cadastro",IF(D21<>"Ativo","Inativo",IF('Disponibilidade'!$C13<>$B$9,"Fora do dia",IF(OR(G21>$B$3,H21<$B$4),"Fora do horário",IF(OR('Disponibilidade'!$H13>$B$2,AND(I21<>"",I21<$B$2)),"Fora da validade",IF(AND(E21<>$B$5,E21<>"Qualquer área"),"Outra preferência",IF(F21="Indisponível","Indisponível",IF(AND(F21="Talvez",$B$6="Não"),"Talvez não incluído",IF($B$7-K21>$B$8,"Apto — confirmar atualização","Apto para contato"))))))))))))
... A209: =IF('Disponibilidade'!A201="","",'Disponibilidade'!A201) | B209: =IF(A209="","",'Disponibilidade'!B201) | C209: =IF(B209="","",IFERROR(INDEX('Voluntários'!$B$2:$B$101,MATCH(B209,'Voluntários'!$A$2:$A$101,0)),"Código não cadastrado")) | D209: =IF(B209="","",IFERROR(INDEX('Voluntários'!$C$2:$C$101,MATCH(B209,'Voluntários'!$A$2:$A$101,0)),"")) | E209: =IF(A209="","",'Disponibilidade'!F201) | F209: =IF(A209="","",'Disponibilidade'!G201) | G209: =IF(A209="","",'Disponibilidade'!D201) | H209: =IF(A209="","",'Disponibilidade'!E201) | I209: =IF(A209="","",'Disponibilidade'!I201) | J209: =IF(A209="","",'Disponibilidade'!J201) | K209: =IF(A209="","",'Disponibilidade'!K201) | L209: =IF(A209="","",IF(OR($B$2="",$B$3="",$B$4="",$B$5="",$B$6="",$B$7="",$B$8=""),"Preencha a consulta",IF($B$4<=$B$3,"Horário consultado inválido",IF(OR('Disponibilidade'!$L201<>"OK",IFERROR(INDEX('Voluntários'!$F$2:$F$101,MATCH(B209,'Voluntários'!$A$2:$A$101,0)),"")<>"OK"),"Revisar cadastro",IF(D209<>"Ativo","Inativo",IF('Disponibilidade'!$C201<>$B$9,"Fora do dia",IF(OR(G209>$B$3,H209<$B$4),"Fora do horário",IF(OR('Disponibilidade'!$H201>$B$2,AND(I209<>"",I209<$B$2)),"Fora da validade",IF(AND(E209<>$B$5,E209<>"Qualquer área"),"Outra preferência",IF(F209="Indisponível","Indisponível",IF(AND(F209="Talvez",$B$6="Não"),"Talvez não incluído",IF($B$7-K209>$B$8,"Apto — confirmar atualização","Apto para contato"))))))))))))

Sheet Disponibilidade
A1: ID do registro | B1: Código do voluntário | C1: Dia da semana | D1: Hora inicial | E1: Hora final | F1: Área de preferência | G1: Grau de disponibilidade | H1: Válido de | I1: Válido até | J1: Restrição ou preferência | K1: Atualizado em | L1: Consistência
A2: DISP-001 | B2: VF-001 | C2: Domingo | D2: 0.33333333 | E2: 0.5 | F2: Recepção | G2: Disponível | H2: 46266 | I2: 46387 | J2: Observação fictícia: verificar a entrada definida. | K2: 46275 | L2: =IF(COUNTA(A2:K2)=0,"",IF(A2="","Falta ID",IF(COUNTIF($A$2:$A$201,A2)>1,"ID duplicado",IF(B2="","Falta código",IF(COUNTIF('Voluntários'!$A$2:$A$101,B2)=0,"Código não cadastrado",IF(COUNTIF('Listas'!$A$2:$A$8,C2)=0,"Dia inválido",IF(OR(D2="",E2=""),"Falta horário",IF(E2<=D2,"Horário inválido",IF(COUNTIF('Listas'!$B$2:$B$20,F2)=0,"Área inválida",IF(COUNTIF('Listas'!$C$2:$C$4,G2)=0,"Grau inválido",IF(H2="","Falta validade",IF(AND(I2<>"",I2<H2),"Validade inválida",IF(K2="","Falta atualização",IF(K2>'Consulta'!$B$7,"Atualização futura","OK"))))))))))))))
A3: DISP-002 | B3: VF-002 | C3: Domingo | D3: 0.375 | E3: 0.45833333 | F3: Qualquer área | G3: Disponível | H3: 46023 | I3: 46387 | J3: Sem restrição fictícia registrada. | K3: 46143 | L3: =IF(COUNTA(A3:K3)=0,"",IF(A3="","Falta ID",IF(COUNTIF($A$2:$A$201,A3)>1,"ID duplicado",IF(B3="","Falta código",IF(COUNTIF('Voluntários'!$A$2:$A$101,B3)=0,"Código não cadastrado",IF(COUNTIF('Listas'!$A$2:$A$8,C3)=0,"Dia inválido",IF(OR(D3="",E3=""),"Falta horário",IF(E3<=D3,"Horário inválido",IF(COUNTIF('Listas'!$B$2:$B$20,F3)=0,"Área inválida",IF(COUNTIF('Listas'!$C$2:$C$4,G3)=0,"Grau inválido",IF(H3="","Falta validade",IF(AND(I3<>"",I3<H3),"Validade inválida",IF(K3="","Falta atualização",IF(K3>'Consulta'!$B$7,"Atualização futura","OK"))))))))))))))
A4: DISP-003 | B4: VF-003 | C4: Domingo | D4: 0.35416667 | E4: 0.4375 | F4: Recepção | G4: Disponível | H4: 46266 | I4: 46387 | J4: Preferência fictícia por período matutino. | K4: 46274 | L4: =IF(COUNTA(A4:K4)=0,"",IF(A4="","Falta ID",IF(COUNTIF($A$2:$A$201,A4)>1,"ID duplicado",IF(B4="","Falta código",IF(COUNTIF('Voluntários'!$A$2:$A$101,B4)=0,"Código não cadastrado",IF(COUNTIF('Listas'!$A$2:$A$8,C4)=0,"Dia inválido",IF(OR(D4="",E4=""),"Falta horário",IF(E4<=D4,"Horário inválido",IF(COUNTIF('Listas'!$B$2:$B$20,F4)=0,"Área inválida",IF(COUNTIF('Listas'!$C$2:$C$4,G4)=0,"Grau inválido",IF(H4="","Falta validade",IF(AND(I4<>"",I4<H4),"Validade inválida",IF(K4="","Falta atualização",IF(K4>'Consulta'!$B$7,"Atualização futura","OK"))))))))))))))
A5: DISP-004 | B5: VF-004 | C5: Domingo | D5: 0.375 | E5: 0.5 | F5: Recepção | G5: Talvez | H5: 46266 | I5: 46387 | J5: Disponibilidade fictícia sujeita a confirmação. | K5: 46270 | L5: =IF(COUNTA(A5:K5)=0,"",IF(A5="","Falta ID",IF(COUNTIF($A$2:$A$201,A5)>1,"ID duplicado",IF(B5="","Falta código",IF(COUNTIF('Voluntários'!$A$2:$A$101,B5)=0,"Código não cadastrado",IF(COUNTIF('Listas'!$A$2:$A$8,C5)=0,"Dia inválido",IF(OR(D5="",E5=""),"Falta horário",IF(E5<=D5,"Horário inválido",IF(COUNTIF('Listas'!$B$2:$B$20,F5)=0,"Área inválida",IF(COUNTIF('Listas'!$C$2:$C$4,G5)=0,"Grau inválido",IF(H5="","Falta validade",IF(AND(I5<>"",I5<H5),"Validade inválida",IF(K5="","Falta atualização",IF(K5>'Consulta'!$B$7,"Atualização futura","OK"))))))))))))))
A6: DISP-005 | B6: VF-005 | C6: Sábado | D6: 0.375 | E6: 0.5 | F6: Recepção | G6: Disponível | H6: 46266 | I6: 46387 | J6: Sem restrição fictícia registrada. | K6: 46273 | L6: =IF(COUNTA(A6:K6)=0,"",IF(A6="","Falta ID",IF(COUNTIF($A$2:$A$201,A6)>1,"ID duplicado",IF(B6="","Falta código",IF(COUNTIF('Voluntários'!$A$2:$A$101,B6)=0,"Código não cadastrado",IF(COUNTIF('Listas'!$A$2:$A$8,C6)=0,"Dia inválido",IF(OR(D6="",E6=""),"Falta horário",IF(E6<=D6,"Horário inválido",IF(COUNTIF('Listas'!$B$2:$B$20,F6)=0,"Área inválida",IF(COUNTIF('Listas'!$C$2:$C$4,G6)=0,"Grau inválido",IF(H6="","Falta validade",IF(AND(I6<>"",I6<H6),"Validade inválida",IF(K6="","Falta atualização",IF(K6>'Consulta'!$B$7,"Atualização futura","OK"))))))))))))))
A7: DISP-006 | B7: VF-006 | C7: Domingo | D7: 0.33333333 | E7: 0.5 | F7: Música | G7: Disponível | H7: 46266 | I7: 46387 | J7: Preferência fictícia pela área informada. | K7: 46275 | L7: =IF(COUNTA(A7:K7)=0,"",IF(A7="","Falta ID",IF(COUNTIF($A$2:$A$201,A7)>1,"ID duplicado",IF(B7="","Falta código",IF(COUNTIF('Voluntários'!$A$2:$A$101,B7)=0,"Código não cadastrado",IF(COUNTIF('Listas'!$A$2:$A$8,C7)=0,"Dia inválido",IF(OR(D7="",E7=""),"Falta horário",IF(E7<=D7,"Horário inválido",IF(COUNTIF('Listas'!$B$2:$B$20,F7)=0,"Área inválida",IF(COUNTIF('Listas'!$C$2:$C$4,G7)=0,"Grau inválido",IF(H7="","Falta validade",IF(AND(I7<>"",I7<H7),"Validade inválida",IF(K7="","Falta atualização",IF(K7>'Consulta'!$B$7,"Atualização futura","OK"))))))))))))))
A8: DISP-007 | B8: VF-007 | C8: Domingo | D8: 0.33333333 | E8: 0.5 | F8: Recepção | G8: Indisponível | H8: 46266 | I8: 46387 | J8: Indisponibilidade fictícia registrada. | K8: 46275 | L8: =IF(COUNTA(A8:K8)=0,"",IF(A8="","Falta ID",IF(COUNTIF($A$2:$A$201,A8)>1,"ID duplicado",IF(B8="","Falta código",IF(COUNTIF('Voluntários'!$A$2:$A$101,B8)=0,"Código não cadastrado",IF(COUNTIF('Listas'!$A$2:$A$8,C8)=0,"Dia inválido",IF(OR(D8="",E8=""),"Falta horário",IF(E8<=D8,"Horário inválido",IF(COUNTIF('Listas'!$B$2:$B$20,F8)=0,"Área inválida",IF(COUNTIF('Listas'!$C$2:$C$4,G8)=0,"Grau inválido",IF(H8="","Falta validade",IF(AND(I8<>"",I8<H8),"Validade inválida",IF(K8="","Falta atualização",IF(K8>'Consulta'!$B$7,"Atualização futura","OK"))))))))))))))
A9: DISP-008 | B9: VF-008 | C9: Domingo | D9: 0.33333333 | E9: 0.5 | F9: Recepção | G9: Disponível | H9: 46023 | I9: 46265 | J9: Janela fictícia já encerrada. | K9: 46254 | L9: =IF(COUNTA(A9:K9)=0,"",IF(A9="","Falta ID",IF(COUNTIF($A$2:$A$201,A9)>1,"ID duplicado",IF(B9="","Falta código",IF(COUNTIF('Voluntários'!$A$2:$A$101,B9)=0,"Código não cadastrado",IF(COUNTIF('Listas'!$A$2:$A$8,C9)=0,"Dia inválido",IF(OR(D9="",E9=""),"Falta horário",IF(E9<=D9,"Horário inválido",IF(COUNTIF('Listas'!$B$2:$B$20,F9)=0,"Área inválida",IF(COUNTIF('Listas'!$C$2:$C$4,G9)=0,"Grau inválido",IF(H9="","Falta validade",IF(AND(I9<>"",I9<H9),"Validade inválida",IF(K9="","Falta atualização",IF(K9>'Consulta'!$B$7,"Atualização futura","OK"))))))))))))))
A10: DISP-009 | B10: VF-009 | C10: Domingo | D10: 0.33333333 | E10: 0.5 | F10: Recepção | G10: Disponível | H10: 46266 | I10: 46387 | J10: Cadastro fictício marcado como inativo. | K10: 46275 | L10: =IF(COUNTA(A10:K10)=0,"",IF(A10="","Falta ID",IF(COUNTIF($A$2:$A$201,A10)>1,"ID duplicado",IF(B10="","Falta código",IF(COUNTIF('Voluntários'!$A$2:$A$101,B10)=0,"Código não cadastrado",IF(COUNTIF('Listas'!$A$2:$A$8,C10)=0,"Dia inválido",IF(OR(D10="",E10=""),"Falta horário",IF(E10<=D10,"Horário inválido",IF(COUNTIF('Listas'!$B$2:$B$20,F10)=0,"Área inválida",IF(COUNTIF('Listas'!$C$2:$C$4,G10)=0,"Grau inválido",IF(H10="","Falta validade",IF(AND(I10<>"",I10<H10),"Validade inválida",IF(K10="","Falta atualização",IF(K10>'Consulta'!$B$7,"Atualização futura","OK"))))))))))))))
A11: DISP-010 | B11: VF-010 | C11: Domingo | D11: 0.5 | E11: 0.33333333 | F11: Recepção | G11: Disponível | H11: 46266 | I11: 46387 | J11: Horário fictício propositalmente inválido. | K11: 46275 | L11: =IF(COUNTA(A11:K11)=0,"",IF(A11="","Falta ID",IF(COUNTIF($A$2:$A$201,A11)>1,"ID duplicado",IF(B11="","Falta código",IF(COUNTIF('Voluntários'!$A$2:$A$101,B11)=0,"Código não cadastrado",IF(COUNTIF('Listas'!$A$2:$A$8,C11)=0,"Dia inválido",IF(OR(D11="",E11=""),"Falta horário",IF(E11<=D11,"Horário inválido",IF(COUNTIF('Listas'!$B$2:$B$20,F11)=0,"Área inválida",IF(COUNTIF('Listas'!$C$2:$C$4,G11)=0,"Grau inválido",IF(H11="","Falta validade",IF(AND(I11<>"",I11<H11),"Validade inválida",IF(K11="","Falta atualização",IF(K11>'Consulta'!$B$7,"Atualização futura","OK"))))))))))))))
L12: =IF(COUNTA(A12:K12)=0,"",IF(A12="","Falta ID",IF(COUNTIF($A$2:$A$201,A12)>1,"ID duplicado",IF(B12="","Falta código",IF(COUNTIF('Voluntários'!$A$2:$A$101,B12)=0,"Código não cadastrado",IF(COUNTIF('Listas'!$A$2:$A$8,C12)=0,"Dia inválido",IF(OR(D12="",E12=""),"Falta horário",IF(E12<=D12,"Horário inválido",IF(COUNTIF('Listas'!$B$2:$B$20,F12)=0,"Área inválida",IF(COUNTIF('Listas'!$C$2:$C$4,G12)=0,"Grau inválido",IF(H12="","Falta validade",IF(AND(I12<>"",I12<H12),"Validade inválida",IF(K12="","Falta atualização",IF(K12>'Consulta'!$B$7,"Atualização futura","OK"))))))))))))))
L13: =IF(COUNTA(A13:K13)=0,"",IF(A13="","Falta ID",IF(COUNTIF($A$2:$A$201,A13)>1,"ID duplicado",IF(B13="","Falta código",IF(COUNTIF('Voluntários'!$A$2:$A$101,B13)=0,"Código não cadastrado",IF(COUNTIF('Listas'!$A$2:$A$8,C13)=0,"Dia inválido",IF(OR(D13="",E13=""),"Falta horário",IF(E13<=D13,"Horário inválido",IF(COUNTIF('Listas'!$B$2:$B$20,F13)=0,"Área inválida",IF(COUNTIF('Listas'!$C$2:$C$4,G13)=0,"Grau inválido",IF(H13="","Falta validade",IF(AND(I13<>"",I13<H13),"Validade inválida",IF(K13="","Falta atualização",IF(K13>'Consulta'!$B$7,"Atualização futura","OK"))))))))))))))
L14: =IF(COUNTA(A14:K14)=0,"",IF(A14="","Falta ID",IF(COUNTIF($A$2:$A$201,A14)>1,"ID duplicado",IF(B14="","Falta código",IF(COUNTIF('Voluntários'!$A$2:$A$101,B14)=0,"Código não cadastrado",IF(COUNTIF('Listas'!$A$2:$A$8,C14)=0,"Dia inválido",IF(OR(D14="",E14=""),"Falta horário",IF(E14<=D14,"Horário inválido",IF(COUNTIF('Listas'!$B$2:$B$20,F14)=0,"Área inválida",IF(COUNTIF('Listas'!$C$2:$C$4,G14)=0,"Grau inválido",IF(H14="","Falta validade",IF(AND(I14<>"",I14<H14),"Validade inválida",IF(K14="","Falta atualização",IF(K14>'Consulta'!$B$7,"Atualização futura","OK"))))))))))))))
L15: =IF(COUNTA(A15:K15)=0,"",IF(A15="","Falta ID",IF(COUNTIF($A$2:$A$201,A15)>1,"ID duplicado",IF(B15="","Falta código",IF(COUNTIF('Voluntários'!$A$2:$A$101,B15)=0,"Código não cadastrado",IF(COUNTIF('Listas'!$A$2:$A$8,C15)=0,"Dia inválido",IF(OR(D15="",E15=""),"Falta horário",IF(E15<=D15,"Horário inválido",IF(COUNTIF('Listas'!$B$2:$B$20,F15)=0,"Área inválida",IF(COUNTIF('Listas'!$C$2:$C$4,G15)=0,"Grau inválido",IF(H15="","Falta validade",IF(AND(I15<>"",I15<H15),"Validade inválida",IF(K15="","Falta atualização",IF(K15>'Consulta'!$B$7,"Atualização futura","OK"))))))))))))))
L16: =IF(COUNTA(A16:K16)=0,"",IF(A16="","Falta ID",IF(COUNTIF($A$2:$A$201,A16)>1,"ID duplicado",IF(B16="","Falta código",IF(COUNTIF('Voluntários'!$A$2:$A$101,B16)=0,"Código não cadastrado",IF(COUNTIF('Listas'!$A$2:$A$8,C16)=0,"Dia inválido",IF(OR(D16="",E16=""),"Falta horário",IF(E16<=D16,"Horário inválido",IF(COUNTIF('Listas'!$B$2:$B$20,F16)=0,"Área inválida",IF(COUNTIF('Listas'!$C$2:$C$4,G16)=0,"Grau inválido",IF(H16="","Falta validade",IF(AND(I16<>"",I16<H16),"Validade inválida",IF(K16="","Falta atualização",IF(K16>'Consulta'!$B$7,"Atualização futura","OK"))))))))))))))
L17: =IF(COUNTA(A17:K17)=0,"",IF(A17="","Falta ID",IF(COUNTIF($A$2:$A$201,A17)>1,"ID duplicado",IF(B17="","Falta código",IF(COUNTIF('Voluntários'!$A$2:$A$101,B17)=0,"Código não cadastrado",IF(COUNTIF('Listas'!$A$2:$A$8,C17)=0,"Dia inválido",IF(OR(D17="",E17=""),"Falta horário",IF(E17<=D17,"Horário inválido",IF(COUNTIF('Listas'!$B$2:$B$20,F17)=0,"Área inválida",IF(COUNTIF('Listas'!$C$2:$C$4,G17)=0,"Grau inválido",IF(H17="","Falta validade",IF(AND(I17<>"",I17<H17),"Validade inválida",IF(K17="","Falta atualização",IF(K17>'Consulta'!$B$7,"Atualização futura","OK"))))))))))))))
L18: =IF(COUNTA(A18:K18)=0,"",IF(A18="","Falta ID",IF(COUNTIF($A$2:$A$201,A18)>1,"ID duplicado",IF(B18="","Falta código",IF(COUNTIF('Voluntários'!$A$2:$A$101,B18)=0,"Código não cadastrado",IF(COUNTIF('Listas'!$A$2:$A$8,C18)=0,"Dia inválido",IF(OR(D18="",E18=""),"Falta horário",IF(E18<=D18,"Horário inválido",IF(COUNTIF('Listas'!$B$2:$B$20,F18)=0,"Área inválida",IF(COUNTIF('Listas'!$C$2:$C$4,G18)=0,"Grau inválido",IF(H18="","Falta validade",IF(AND(I18<>"",I18<H18),"Validade inválida",IF(K18="","Falta atualização",IF(K18>'Consulta'!$B$7,"Atualização futura","OK"))))))))))))))
L19: =IF(COUNTA(A19:K19)=0,"",IF(A19="","Falta ID",IF(COUNTIF($A$2:$A$201,A19)>1,"ID duplicado",IF(B19="","Falta código",IF(COUNTIF('Voluntários'!$A$2:$A$101,B19)=0,"Código não cadastrado",IF(COUNTIF('Listas'!$A$2:$A$8,C19)=0,"Dia inválido",IF(OR(D19="",E19=""),"Falta horário",IF(E19<=D19,"Horário inválido",IF(COUNTIF('Listas'!$B$2:$B$20,F19)=0,"Área inválida",IF(COUNTIF('Listas'!$C$2:$C$4,G19)=0,"Grau inválido",IF(H19="","Falta validade",IF(AND(I19<>"",I19<H19),"Validade inválida",IF(K19="","Falta atualização",IF(K19>'Consulta'!$B$7,"Atualização futura","OK"))))))))))))))
L20: =IF(COUNTA(A20:K20)=0,"",IF(A20="","Falta ID",IF(COUNTIF($A$2:$A$201,A20)>1,"ID duplicado",IF(B20="","Falta código",IF(COUNTIF('Voluntários'!$A$2:$A$101,B20)=0,"Código não cadastrado",IF(COUNTIF('Listas'!$A$2:$A$8,C20)=0,"Dia inválido",IF(OR(D20="",E20=""),"Falta horário",IF(E20<=D20,"Horário inválido",IF(COUNTIF('Listas'!$B$2:$B$20,F20)=0,"Área inválida",IF(COUNTIF('Listas'!$C$2:$C$4,G20)=0,"Grau inválido",IF(H20="","Falta validade",IF(AND(I20<>"",I20<H20),"Validade inválida",IF(K20="","Falta atualização",IF(K20>'Consulta'!$B$7,"Atualização futura","OK"))))))))))))))
L21: =IF(COUNTA(A21:K21)=0,"",IF(A21="","Falta ID",IF(COUNTIF($A$2:$A$201,A21)>1,"ID duplicado",IF(B21="","Falta código",IF(COUNTIF('Voluntários'!$A$2:$A$101,B21)=0,"Código não cadastrado",IF(COUNTIF('Listas'!$A$2:$A$8,C21)=0,"Dia inválido",IF(OR(D21="",E21=""),"Falta horário",IF(E21<=D21,"Horário inválido",IF(COUNTIF('Listas'!$B$2:$B$20,F21)=0,"Área inválida",IF(COUNTIF('Listas'!$C$2:$C$4,G21)=0,"Grau inválido",IF(H21="","Falta validade",IF(AND(I21<>"",I21<H21),"Validade inválida",IF(K21="","Falta atualização",IF(K21>'Consulta'!$B$7,"Atualização futura","OK"))))))))))))))
L22: =IF(COUNTA(A22:K22)=0,"",IF(A22="","Falta ID",IF(COUNTIF($A$2:$A$201,A22)>1,"ID duplicado",IF(B22="","Falta código",IF(COUNTIF('Voluntários'!$A$2:$A$101,B22)=0,"Código não cadastrado",IF(COUNTIF('Listas'!$A$2:$A$8,C22)=0,"Dia inválido",IF(OR(D22="",E22=""),"Falta horário",IF(E22<=D22,"Horário inválido",IF(COUNTIF('Listas'!$B$2:$B$20,F22)=0,"Área inválida",IF(COUNTIF('Listas'!$C$2:$C$4,G22)=0,"Grau inválido",IF(H22="","Falta validade",IF(AND(I22<>"",I22<H22),"Validade inválida",IF(K22="","Falta atualização",IF(K22>'Consulta'!$B$7,"Atualização futura","OK"))))))))))))))
L23: =IF(COUNTA(A23:K23)=0,"",IF(A23="","Falta ID",IF(COUNTIF($A$2:$A$201,A23)>1,"ID duplicado",IF(B23="","Falta código",IF(COUNTIF('Voluntários'!$A$2:$A$101,B23)=0,"Código não cadastrado",IF(COUNTIF('Listas'!$A$2:$A$8,C23)=0,"Dia inválido",IF(OR(D23="",E23=""),"Falta horário",IF(E23<=D23,"Horário inválido",IF(COUNTIF('Listas'!$B$2:$B$20,F23)=0,"Área inválida",IF(COUNTIF('Listas'!$C$2:$C$4,G23)=0,"Grau inválido",IF(H23="","Falta validade",IF(AND(I23<>"",I23<H23),"Validade inválida",IF(K23="","Falta atualização",IF(K23>'Consulta'!$B$7,"Atualização futura","OK"))))))))))))))
... L201: =IF(COUNTA(A201:K201)=0,"",IF(A201="","Falta ID",IF(COUNTIF($A$2:$A$201,A201)>1,"ID duplicado",IF(B201="","Falta código",IF(COUNTIF('Voluntários'!$A$2:$A$101,B201)=0,"Código não cadastrado",IF(COUNTIF('Listas'!$A$2:$A$8,C201)=0,"Dia inválido",IF(OR(D201="",E201=""),"Falta horário",IF(E201<=D201,"Horário inválido",IF(COUNTIF('Listas'!$B$2:$B$20,F201)=0,"Área inválida",IF(COUNTIF('Listas'!$C$2:$C$4,G201)=0,"Grau inválido",IF(H201="","Falta validade",IF(AND(I201<>"",I201<H201),"Validade inválida",IF(K201="","Falta atualização",IF(K201>'Consulta'!$B$7,"Atualização futura","OK"))))))))))))))

Sheet Voluntários
A1: Código do voluntário | B1: Identificação de uso | C1: Situação | D1: Observação administrativa | E1: Atualizado em | F1: Consistência
A2: VF-001 | B2: Pessoa Fictícia 01 | C2: Ativo | D2: Cadastro fictício para teste 01. | E2: 46275 | F2: =IF(COUNTA(A2:E2)=0,"",IF(A2="","Falta código",IF(COUNTIF($A$2:$A$101,A2)>1,"Código duplicado",IF(B2="","Falta identificação",IF(COUNTIF('Listas'!$D$2:$D$3,C2)=0,"Situação inválida",IF(E2="","Falta atualização",IF(E2>'Consulta'!$B$7,"Atualização futura","OK")))))))
A3: VF-002 | B3: Pessoa Fictícia 02 | C3: Ativo | D3: Cadastro fictício para teste 02. | E3: 46143 | F3: =IF(COUNTA(A3:E3)=0,"",IF(A3="","Falta código",IF(COUNTIF($A$2:$A$101,A3)>1,"Código duplicado",IF(B3="","Falta identificação",IF(COUNTIF('Listas'!$D$2:$D$3,C3)=0,"Situação inválida",IF(E3="","Falta atualização",IF(E3>'Consulta'!$B$7,"Atualização futura","OK")))))))
A4: VF-003 | B4: Pessoa Fictícia 03 | C4: Ativo | D4: Cadastro fictício para teste 03. | E4: 46274 | F4: =IF(COUNTA(A4:E4)=0,"",IF(A4="","Falta código",IF(COUNTIF($A$2:$A$101,A4)>1,"Código duplicado",IF(B4="","Falta identificação",IF(COUNTIF('Listas'!$D$2:$D$3,C4)=0,"Situação inválida",IF(E4="","Falta atualização",IF(E4>'Consulta'!$B$7,"Atualização futura","OK")))))))
A5: VF-004 | B5: Pessoa Fictícia 04 | C5: Ativo | D5: Cadastro fictício para teste 04. | E5: 46270 | F5: =IF(COUNTA(A5:E5)=0,"",IF(A5="","Falta código",IF(COUNTIF($A$2:$A$101,A5)>1,"Código duplicado",IF(B5="","Falta identificação",IF(COUNTIF('Listas'!$D$2:$D$3,C5)=0,"Situação inválida",IF(E5="","Falta atualização",IF(E5>'Consulta'!$B$7,"Atualização futura","OK")))))))
A6: VF-005 | B6: Pessoa Fictícia 05 | C6: Ativo | D6: Cadastro fictício para teste 05. | E6: 46273 | F6: =IF(COUNTA(A6:E6)=0,"",IF(A6="","Falta código",IF(COUNTIF($A$2:$A$101,A6)>1,"Código duplicado",IF(B6="","Falta identificação",IF(COUNTIF('Listas'!$D$2:$D$3,C6)=0,"Situação inválida",IF(E6="","Falta atualização",IF(E6>'Consulta'!$B$7,"Atualização futura","OK")))))))
A7: VF-006 | B7: Pessoa Fictícia 06 | C7: Ativo | D7: Cadastro fictício para teste 06. | E7: 46275 | F7: =IF(COUNTA(A7:E7)=0,"",IF(A7="","Falta código",IF(COUNTIF($A$2:$A$101,A7)>1,"Código duplicado",IF(B7="","Falta identificação",IF(COUNTIF('Listas'!$D$2:$D$3,C7)=0,"Situação inválida",IF(E7="","Falta atualização",IF(E7>'Consulta'!$B$7,"Atualização futura","OK")))))))
A8: VF-007 | B8: Pessoa Fictícia 07 | C8: Ativo | D8: Cadastro fictício para teste 07. | E8: 46275 | F8: =IF(COUNTA(A8:E8)=0,"",IF(A8="","Falta código",IF(COUNTIF($A$2:$A$101,A8)>1,"Código duplicado",IF(B8="","Falta identificação",IF(COUNTIF('Listas'!$D$2:$D$3,C8)=0,"Situação inválida",IF(E8="","Falta atualização",IF(E8>'Consulta'!$B$7,"Atualização futura","OK")))))))
A9: VF-008 | B9: Pessoa Fictícia 08 | C9: Ativo | D9: Cadastro fictício para teste 08. | E9: 46254 | F9: =IF(COUNTA(A9:E9)=0,"",IF(A9="","Falta código",IF(COUNTIF($A$2:$A$101,A9)>1,"Código duplicado",IF(B9="","Falta identificação",IF(COUNTIF('Listas'!$D$2:$D$3,C9)=0,"Situação inválida",IF(E9="","Falta atualização",IF(E9>'Consulta'!$B$7,"Atualização futura","OK")))))))
A10: VF-009 | B10: Pessoa Fictícia 09 | C10: Inativo | D10: Cadastro fictício para teste 09. | E10: 46275 | F10: =IF(COUNTA(A10:E10)=0,"",IF(A10="","Falta código",IF(COUNTIF($A$2:$A$101,A10)>1,"Código duplicado",IF(B10="","Falta identificação",IF(COUNTIF('Listas'!$D$2:$D$3,C10)=0,"Situação inválida",IF(E10="","Falta atualização",IF(E10>'Consulta'!$B$7,"Atualização futura","OK")))))))
A11: VF-010 | B11: Pessoa Fictícia 10 | C11: Ativo | D11: Cadastro fictício para teste 10. | E11: 46275 | F11: =IF(COUNTA(A11:E11)=0,"",IF(A11="","Falta código",IF(COUNTIF($A$2:$A$101,A11)>1,"Código duplicado",IF(B11="","Falta identificação",IF(COUNTIF('Listas'!$D$2:$D$3,C11)=0,"Situação inválida",IF(E11="","Falta atualização",IF(E11>'Consulta'!$B$7,"Atualização futura","OK")))))))
F12: =IF(COUNTA(A12:E12)=0,"",IF(A12="","Falta código",IF(COUNTIF($A$2:$A$101,A12)>1,"Código duplicado",IF(B12="","Falta identificação",IF(COUNTIF('Listas'!$D$2:$D$3,C12)=0,"Situação inválida",IF(E12="","Falta atualização",IF(E12>'Consulta'!$B$7,"Atualização futura","OK")))))))
F13: =IF(COUNTA(A13:E13)=0,"",IF(A13="","Falta código",IF(COUNTIF($A$2:$A$101,A13)>1,"Código duplicado",IF(B13="","Falta identificação",IF(COUNTIF('Listas'!$D$2:$D$3,C13)=0,"Situação inválida",IF(E13="","Falta atualização",IF(E13>'Consulta'!$B$7,"Atualização futura","OK")))))))
F14: =IF(COUNTA(A14:E14)=0,"",IF(A14="","Falta código",IF(COUNTIF($A$2:$A$101,A14)>1,"Código duplicado",IF(B14="","Falta identificação",IF(COUNTIF('Listas'!$D$2:$D$3,C14)=0,"Situação inválida",IF(E14="","Falta atualização",IF(E14>'Consulta'!$B$7,"Atualização futura","OK")))))))
F15: =IF(COUNTA(A15:E15)=0,"",IF(A15="","Falta código",IF(COUNTIF($A$2:$A$101,A15)>1,"Código duplicado",IF(B15="","Falta identificação",IF(COUNTIF('Listas'!$D$2:$D$3,C15)=0,"Situação inválida",IF(E15="","Falta atualização",IF(E15>'Consulta'!$B$7,"Atualização futura","OK")))))))
F16: =IF(COUNTA(A16:E16)=0,"",IF(A16="","Falta código",IF(COUNTIF($A$2:$A$101,A16)>1,"Código duplicado",IF(B16="","Falta identificação",IF(COUNTIF('Listas'!$D$2:$D$3,C16)=0,"Situação inválida",IF(E16="","Falta atualização",IF(E16>'Consulta'!$B$7,"Atualização futura","OK")))))))
F17: =IF(COUNTA(A17:E17)=0,"",IF(A17="","Falta código",IF(COUNTIF($A$2:$A$101,A17)>1,"Código duplicado",IF(B17="","Falta identificação",IF(COUNTIF('Listas'!$D$2:$D$3,C17)=0,"Situação inválida",IF(E17="","Falta atualização",IF(E17>'Consulta'!$B$7,"Atualização futura","OK")))))))
F18: =IF(COUNTA(A18:E18)=0,"",IF(A18="","Falta código",IF(COUNTIF($A$2:$A$101,A18)>1,"Código duplicado",IF(B18="","Falta identificação",IF(COUNTIF('Listas'!$D$2:$D$3,C18)=0,"Situação inválida",IF(E18="","Falta atualização",IF(E18>'Consulta'!$B$7,"Atualização futura","OK")))))))
F19: =IF(COUNTA(A19:E19)=0,"",IF(A19="","Falta código",IF(COUNTIF($A$2:$A$101,A19)>1,"Código duplicado",IF(B19="","Falta identificação",IF(COUNTIF('Listas'!$D$2:$D$3,C19)=0,"Situação inválida",IF(E19="","Falta atualização",IF(E19>'Consulta'!$B$7,"Atualização futura","OK")))))))
F20: =IF(COUNTA(A20:E20)=0,"",IF(A20="","Falta código",IF(COUNTIF($A$2:$A$101,A20)>1,"Código duplicado",IF(B20="","Falta identificação",IF(COUNTIF('Listas'!$D$2:$D$3,C20)=0,"Situação inválida",IF(E20="","Falta atualização",IF(E20>'Consulta'!$B$7,"Atualização futura","OK")))))))
F21: =IF(COUNTA(A21:E21)=0,"",IF(A21="","Falta código",IF(COUNTIF($A$2:$A$101,A21)>1,"Código duplicado",IF(B21="","Falta identificação",IF(COUNTIF('Listas'!$D$2:$D$3,C21)=0,"Situação inválida",IF(E21="","Falta atualização",IF(E21>'Consulta'!$B$7,"Atualização futura","OK")))))))
F22: =IF(COUNTA(A22:E22)=0,"",IF(A22="","Falta código",IF(COUNTIF($A$2:$A$101,A22)>1,"Código duplicado",IF(B22="","Falta identificação",IF(COUNTIF('Listas'!$D$2:$D$3,C22)=0,"Situação inválida",IF(E22="","Falta atualização",IF(E22>'Consulta'!$B$7,"Atualização futura","OK")))))))
F23: =IF(COUNTA(A23:E23)=0,"",IF(A23="","Falta código",IF(COUNTIF($A$2:$A$101,A23)>1,"Código duplicado",IF(B23="","Falta identificação",IF(COUNTIF('Listas'!$D$2:$D$3,C23)=0,"Situação inválida",IF(E23="","Falta atualização",IF(E23>'Consulta'!$B$7,"Atualização futura","OK")))))))
... F101: =IF(COUNTA(A101:E101)=0,"",IF(A101="","Falta código",IF(COUNTIF($A$2:$A$101,A101)>1,"Código duplicado",IF(B101="","Falta identificação",IF(COUNTIF('Listas'!$D$2:$D$3,C101)=0,"Situação inválida",IF(E101="","Falta atualização",IF(E101>'Consulta'!$B$7,"Atualização futura","OK")))))))

Sheet Listas
A1: Dias da semana | B1: Áreas de preferência | C1: Graus de disponibilidade | D1: Situações | E1: Opções Sim/Não
A2: Segunda-feira | B2: Recepção | C2: Disponível | D2: Ativo | E2: Sim
A3: Terça-feira | B3: Música | C3: Talvez | D3: Inativo | E3: Não
A4: Quarta-feira | B4: Apoio ao culto | C4: Indisponível
A5: Quinta-feira | B5: Ação social
A6: Sexta-feira | B6: Manutenção
A7: Sábado | B7: Qualquer área
A8: Domingo
