Workbook

Sheet Resumo
A1: Controle do fundo de construção da igreja
A2: Indicadores calculados a partir dos lançamentos e das premissas editáveis. Todos os exemplos são fictícios e os alertas exigem conferência interna.
A4: Indicador financeiro | B4: Valor | D4: Conferência dos registros | E4: Resultado
A5: Saldo inicial | B5: =IFERROR('Premissas'!$B$5,0) | D5: Lançamentos preenchidos | E5: =COUNT('Movimentações'!$A$5:$A$104)
A6: Entradas realizadas | B6: =IFERROR(SUMIFS('Movimentações'!$H$5:$H$104,'Movimentações'!$B$5:$B$104,"Entrada",'Movimentações'!$I$5:$I$104,"Realizado",'Movimentações'!$A$5:$A$104,">="&'Premissas'!$B$7,'Movimentações'!$A$5:$A$104,"<="&'Premissas'!$B$8),0) | D6: Realizados | E6: =COUNTIF('Movimentações'!$I$5:$I$104,"Realizado")
A7: Saídas realizadas | B7: =IFERROR(SUMIFS('Movimentações'!$H$5:$H$104,'Movimentações'!$B$5:$B$104,"Saída",'Movimentações'!$I$5:$I$104,"Realizado",'Movimentações'!$A$5:$A$104,">="&'Premissas'!$B$7,'Movimentações'!$A$5:$A$104,"<="&'Premissas'!$B$8),0) | D7: Previstos | E7: =COUNTIF('Movimentações'!$I$5:$I$104,"Previsto")
A8: Saldo realizado | B8: =IFERROR(B5+B6-B7,0) | D8: Cancelados | E8: =COUNTIF('Movimentações'!$I$5:$I$104,"Cancelado")
A9: Entradas previstas | B9: =IFERROR(SUMIFS('Movimentações'!$H$5:$H$104,'Movimentações'!$B$5:$B$104,"Entrada",'Movimentações'!$I$5:$I$104,"Previsto",'Movimentações'!$A$5:$A$104,">="&'Premissas'!$B$7,'Movimentações'!$A$5:$A$104,"<="&'Premissas'!$B$8),0) | D9: Alertas de limite | E9: =COUNTIF('Movimentações'!$M$5:$M$104,"Conferir limite de saída")
A10: Saídas previstas | B10: =IFERROR(SUMIFS('Movimentações'!$H$5:$H$104,'Movimentações'!$B$5:$B$104,"Saída",'Movimentações'!$I$5:$I$104,"Previsto",'Movimentações'!$A$5:$A$104,">="&'Premissas'!$B$7,'Movimentações'!$A$5:$A$104,"<="&'Premissas'!$B$8),0) | D10: Dados incompletos | E10: =COUNTIF('Movimentações'!$M$5:$M$104,"Completar dados")
A11: Saldo projetado | B11: =IFERROR(B8+B9-B10,0) | D11: Última data lançada | E11: =IF(COUNT('Movimentações'!$A$5:$A$104)=0,"",MAX('Movimentações'!$A$5:INDEX('Movimentações'!$A:$A,104)))
A12: Meta de arrecadação | B12: =IFERROR('Premissas'!$B$9,0) | D12: Início do período | E12: ='Premissas'!$B$7
A13: Percentual da meta recebido | B13: =IFERROR(B6/B12,"") | D13: Fim do período | E13: ='Premissas'!$B$8
A14: Valor restante até a meta | B14: =IFERROR(MAX(B12-B6,0),"")
A17: Mês | B17: Entradas realizadas | C17: Saídas realizadas
A18: =DATE(YEAR('Premissas'!$B$7),MONTH('Premissas'!$B$7)+0,1) | B18: =IFERROR(SUMIFS('Movimentações'!$H$5:$H$104,'Movimentações'!$B$5:$B$104,"Entrada",'Movimentações'!$I$5:$I$104,"Realizado",'Movimentações'!$A$5:$A$104,">="&$A18,'Movimentações'!$A$5:$A$104,"<"&DATE(YEAR($A18),MONTH($A18)+1,1)),0) | C18: =IFERROR(SUMIFS('Movimentações'!$H$5:$H$104,'Movimentações'!$B$5:$B$104,"Saída",'Movimentações'!$I$5:$I$104,"Realizado",'Movimentações'!$A$5:$A$104,">="&$A18,'Movimentações'!$A$5:$A$104,"<"&DATE(YEAR($A18),MONTH($A18)+1,1)),0)
A19: =DATE(YEAR('Premissas'!$B$7),MONTH('Premissas'!$B$7)+1,1) | B19: =IFERROR(SUMIFS('Movimentações'!$H$5:$H$104,'Movimentações'!$B$5:$B$104,"Entrada",'Movimentações'!$I$5:$I$104,"Realizado",'Movimentações'!$A$5:$A$104,">="&$A19,'Movimentações'!$A$5:$A$104,"<"&DATE(YEAR($A19),MONTH($A19)+1,1)),0) | C19: =IFERROR(SUMIFS('Movimentações'!$H$5:$H$104,'Movimentações'!$B$5:$B$104,"Saída",'Movimentações'!$I$5:$I$104,"Realizado",'Movimentações'!$A$5:$A$104,">="&$A19,'Movimentações'!$A$5:$A$104,"<"&DATE(YEAR($A19),MONTH($A19)+1,1)),0)
A20: =DATE(YEAR('Premissas'!$B$7),MONTH('Premissas'!$B$7)+2,1) | B20: =IFERROR(SUMIFS('Movimentações'!$H$5:$H$104,'Movimentações'!$B$5:$B$104,"Entrada",'Movimentações'!$I$5:$I$104,"Realizado",'Movimentações'!$A$5:$A$104,">="&$A20,'Movimentações'!$A$5:$A$104,"<"&DATE(YEAR($A20),MONTH($A20)+1,1)),0) | C20: =IFERROR(SUMIFS('Movimentações'!$H$5:$H$104,'Movimentações'!$B$5:$B$104,"Saída",'Movimentações'!$I$5:$I$104,"Realizado",'Movimentações'!$A$5:$A$104,">="&$A20,'Movimentações'!$A$5:$A$104,"<"&DATE(YEAR($A20),MONTH($A20)+1,1)),0)
A21: =DATE(YEAR('Premissas'!$B$7),MONTH('Premissas'!$B$7)+3,1) | B21: =IFERROR(SUMIFS('Movimentações'!$H$5:$H$104,'Movimentações'!$B$5:$B$104,"Entrada",'Movimentações'!$I$5:$I$104,"Realizado",'Movimentações'!$A$5:$A$104,">="&$A21,'Movimentações'!$A$5:$A$104,"<"&DATE(YEAR($A21),MONTH($A21)+1,1)),0) | C21: =IFERROR(SUMIFS('Movimentações'!$H$5:$H$104,'Movimentações'!$B$5:$B$104,"Saída",'Movimentações'!$I$5:$I$104,"Realizado",'Movimentações'!$A$5:$A$104,">="&$A21,'Movimentações'!$A$5:$A$104,"<"&DATE(YEAR($A21),MONTH($A21)+1,1)),0)
A22: =DATE(YEAR('Premissas'!$B$7),MONTH('Premissas'!$B$7)+4,1) | B22: =IFERROR(SUMIFS('Movimentações'!$H$5:$H$104,'Movimentações'!$B$5:$B$104,"Entrada",'Movimentações'!$I$5:$I$104,"Realizado",'Movimentações'!$A$5:$A$104,">="&$A22,'Movimentações'!$A$5:$A$104,"<"&DATE(YEAR($A22),MONTH($A22)+1,1)),0) | C22: =IFERROR(SUMIFS('Movimentações'!$H$5:$H$104,'Movimentações'!$B$5:$B$104,"Saída",'Movimentações'!$I$5:$I$104,"Realizado",'Movimentações'!$A$5:$A$104,">="&$A22,'Movimentações'!$A$5:$A$104,"<"&DATE(YEAR($A22),MONTH($A22)+1,1)),0)
A23: =DATE(YEAR('Premissas'!$B$7),MONTH('Premissas'!$B$7)+5,1) | B23: =IFERROR(SUMIFS('Movimentações'!$H$5:$H$104,'Movimentações'!$B$5:$B$104,"Entrada",'Movimentações'!$I$5:$I$104,"Realizado",'Movimentações'!$A$5:$A$104,">="&$A23,'Movimentações'!$A$5:$A$104,"<"&DATE(YEAR($A23),MONTH($A23)+1,1)),0) | C23: =IFERROR(SUMIFS('Movimentações'!$H$5:$H$104,'Movimentações'!$B$5:$B$104,"Saída",'Movimentações'!$I$5:$I$104,"Realizado",'Movimentações'!$A$5:$A$104,">="&$A23,'Movimentações'!$A$5:$A$104,"<"&DATE(YEAR($A23),MONTH($A23)+1,1)),0)
A24: =DATE(YEAR('Premissas'!$B$7),MONTH('Premissas'!$B$7)+6,1) | B24: =IFERROR(SUMIFS('Movimentações'!$H$5:$H$104,'Movimentações'!$B$5:$B$104,"Entrada",'Movimentações'!$I$5:$I$104,"Realizado",'Movimentações'!$A$5:$A$104,">="&$A24,'Movimentações'!$A$5:$A$104,"<"&DATE(YEAR($A24),MONTH($A24)+1,1)),0) | C24: =IFERROR(SUMIFS('Movimentações'!$H$5:$H$104,'Movimentações'!$B$5:$B$104,"Saída",'Movimentações'!$I$5:$I$104,"Realizado",'Movimentações'!$A$5:$A$104,">="&$A24,'Movimentações'!$A$5:$A$104,"<"&DATE(YEAR($A24),MONTH($A24)+1,1)),0)
A25: =DATE(YEAR('Premissas'!$B$7),MONTH('Premissas'!$B$7)+7,1) | B25: =IFERROR(SUMIFS('Movimentações'!$H$5:$H$104,'Movimentações'!$B$5:$B$104,"Entrada",'Movimentações'!$I$5:$I$104,"Realizado",'Movimentações'!$A$5:$A$104,">="&$A25,'Movimentações'!$A$5:$A$104,"<"&DATE(YEAR($A25),MONTH($A25)+1,1)),0) | C25: =IFERROR(SUMIFS('Movimentações'!$H$5:$H$104,'Movimentações'!$B$5:$B$104,"Saída",'Movimentações'!$I$5:$I$104,"Realizado",'Movimentações'!$A$5:$A$104,">="&$A25,'Movimentações'!$A$5:$A$104,"<"&DATE(YEAR($A25),MONTH($A25)+1,1)),0)
A26: =DATE(YEAR('Premissas'!$B$7),MONTH('Premissas'!$B$7)+8,1) | B26: =IFERROR(SUMIFS('Movimentações'!$H$5:$H$104,'Movimentações'!$B$5:$B$104,"Entrada",'Movimentações'!$I$5:$I$104,"Realizado",'Movimentações'!$A$5:$A$104,">="&$A26,'Movimentações'!$A$5:$A$104,"<"&DATE(YEAR($A26),MONTH($A26)+1,1)),0) | C26: =IFERROR(SUMIFS('Movimentações'!$H$5:$H$104,'Movimentações'!$B$5:$B$104,"Saída",'Movimentações'!$I$5:$I$104,"Realizado",'Movimentações'!$A$5:$A$104,">="&$A26,'Movimentações'!$A$5:$A$104,"<"&DATE(YEAR($A26),MONTH($A26)+1,1)),0)
A27: =DATE(YEAR('Premissas'!$B$7),MONTH('Premissas'!$B$7)+9,1) | B27: =IFERROR(SUMIFS('Movimentações'!$H$5:$H$104,'Movimentações'!$B$5:$B$104,"Entrada",'Movimentações'!$I$5:$I$104,"Realizado",'Movimentações'!$A$5:$A$104,">="&$A27,'Movimentações'!$A$5:$A$104,"<"&DATE(YEAR($A27),MONTH($A27)+1,1)),0) | C27: =IFERROR(SUMIFS('Movimentações'!$H$5:$H$104,'Movimentações'!$B$5:$B$104,"Saída",'Movimentações'!$I$5:$I$104,"Realizado",'Movimentações'!$A$5:$A$104,">="&$A27,'Movimentações'!$A$5:$A$104,"<"&DATE(YEAR($A27),MONTH($A27)+1,1)),0)
A28: =DATE(YEAR('Premissas'!$B$7),MONTH('Premissas'!$B$7)+10,1) | B28: =IFERROR(SUMIFS('Movimentações'!$H$5:$H$104,'Movimentações'!$B$5:$B$104,"Entrada",'Movimentações'!$I$5:$I$104,"Realizado",'Movimentações'!$A$5:$A$104,">="&$A28,'Movimentações'!$A$5:$A$104,"<"&DATE(YEAR($A28),MONTH($A28)+1,1)),0) | C28: =IFERROR(SUMIFS('Movimentações'!$H$5:$H$104,'Movimentações'!$B$5:$B$104,"Saída",'Movimentações'!$I$5:$I$104,"Realizado",'Movimentações'!$A$5:$A$104,">="&$A28,'Movimentações'!$A$5:$A$104,"<"&DATE(YEAR($A28),MONTH($A28)+1,1)),0)
A29: =DATE(YEAR('Premissas'!$B$7),MONTH('Premissas'!$B$7)+11,1) | B29: =IFERROR(SUMIFS('Movimentações'!$H$5:$H$104,'Movimentações'!$B$5:$B$104,"Entrada",'Movimentações'!$I$5:$I$104,"Realizado",'Movimentações'!$A$5:$A$104,">="&$A29,'Movimentações'!$A$5:$A$104,"<"&DATE(YEAR($A29),MONTH($A29)+1,1)),0) | C29: =IFERROR(SUMIFS('Movimentações'!$H$5:$H$104,'Movimentações'!$B$5:$B$104,"Saída",'Movimentações'!$I$5:$I$104,"Realizado",'Movimentações'!$A$5:$A$104,">="&$A29,'Movimentações'!$A$5:$A$104,"<"&DATE(YEAR($A29),MONTH($A29)+1,1)),0)

Sheet Movimentações
A1: Movimentações do fundo de construção
A2: Registre os lançamentos em ordem de data. Células amarelas são editáveis; saldos e alertas são calculados e devem ser conferidos internamente.
A4: Data | B4: Tipo | C4: Descrição | D4: Categoria | E4: Evento ou patrimônio | F4: Responsável interno | G4: Ministério | H4: Valor | I4: Status | J4: Impacto realizado | K4: Impacto projetado | L4: Saldo realizado | M4: Alerta para conferência
A5: 46037 | B5: Entrada | C5: Contribuições fictícias da etapa inicial | D5: Oferta destinada | E5: Fundo Fictício Horizonte | F5: Equipe Fictícia Alfa | G5: Administração Modelo | H5: 45000 | I5: Realizado | J5: =IF(OR($A5="",$B5="",$H5="",$I5<>"Realizado"),"",IFERROR(IF($B5="Entrada",$H5,-$H5),"")) | K5: =IF(OR($A5="",$B5="",$H5="",$I5="",$I5="Cancelado"),"",IFERROR(IF($B5="Entrada",$H5,-$H5),"")) | L5: =IF(OR($A5="",$B5="",$H5="",$I5=""),"",IFERROR('Premissas'!$B$5+SUM($J$5:J5),"")) | M5: =IF(COUNTA($A5:$I5)=0,"",IF(OR($A5="",$B5="",$C5="",$D5="",$F5="",$G5="",$H5="",$I5=""),"Completar dados",IF($I5="Cancelado","Cancelado — sem impacto",IF(AND($B5="Saída",$H5>'Premissas'!$B$6),"Conferir limite de saída","OK")))) | P5: ='Premissas'!E5 | Q5: =IFERROR(IF('Premissas'!F5="","",'Premissas'!F5),"") | R5: =IFERROR(IF('Premissas'!G5="","",'Premissas'!G5),"") | S5: =IFERROR(IF('Premissas'!H5="","",'Premissas'!H5),"") | T5: ='Premissas'!$B$7
A6: 46050 | B6: Saída | C6: Estudo preliminar de exemplo | D6: Projeto preliminar | E6: Projeto Fictício Aurora | F6: Comissão Modelo Cedro | G6: Construção Fictícia | H6: 8000 | I6: Realizado | J6: =IF(OR($A6="",$B6="",$H6="",$I6<>"Realizado"),"",IFERROR(IF($B6="Entrada",$H6,-$H6),"")) | K6: =IF(OR($A6="",$B6="",$H6="",$I6="",$I6="Cancelado"),"",IFERROR(IF($B6="Entrada",$H6,-$H6),"")) | L6: =IF(OR($A6="",$B6="",$H6="",$I6=""),"",IFERROR('Premissas'!$B$5+SUM($J$5:J6),"")) | M6: =IF(COUNTA($A6:$I6)=0,"",IF(OR($A6="",$B6="",$C6="",$D6="",$F6="",$G6="",$H6="",$I6=""),"Completar dados",IF($I6="Cancelado","Cancelado — sem impacto",IF(AND($B6="Saída",$H6>'Premissas'!$B$6),"Conferir limite de saída","OK")))) | P6: ='Premissas'!E6 | Q6: =IFERROR(IF('Premissas'!F6="","",'Premissas'!F6),"") | R6: =IFERROR(IF('Premissas'!G6="","",'Premissas'!G6),"") | S6: =IFERROR(IF('Premissas'!H6="","",'Premissas'!H6),"") | T6: ='Premissas'!$B$8
A7: 46071 | B7: Entrada | C7: Resultado fictício da campanha Pedra Clara | D7: Campanha fictícia | E7: Campanha Fictícia Pedra Clara | F7: Núcleo Exemplo Âmbar | G7: Comunicação Exemplo | H7: 30000 | I7: Realizado | J7: =IF(OR($A7="",$B7="",$H7="",$I7<>"Realizado"),"",IFERROR(IF($B7="Entrada",$H7,-$H7),"")) | K7: =IF(OR($A7="",$B7="",$H7="",$I7="",$I7="Cancelado"),"",IFERROR(IF($B7="Entrada",$H7,-$H7),"")) | L7: =IF(OR($A7="",$B7="",$H7="",$I7=""),"",IFERROR('Premissas'!$B$5+SUM($J$5:J7),"")) | M7: =IF(COUNTA($A7:$I7)=0,"",IF(OR($A7="",$B7="",$C7="",$D7="",$F7="",$G7="",$H7="",$I7=""),"Completar dados",IF($I7="Cancelado","Cancelado — sem impacto",IF(AND($B7="Saída",$H7>'Premissas'!$B$6),"Conferir limite de saída","OK")))) | Q7: =IFERROR(IF('Premissas'!F7="","",'Premissas'!F7),"") | R7: =IFERROR(IF('Premissas'!G7="","",'Premissas'!G7),"") | S7: =IFERROR(IF('Premissas'!H7="","",'Premissas'!H7),"")
A8: 46091 | B8: Saída | C8: Materiais demonstrativos da fundação | D8: Material de obra | E8: Patrimônio Modelo Cedro | F8: Equipe Fictícia Beta | G8: Construção Fictícia | H8: 18000 | I8: Realizado | J8: =IF(OR($A8="",$B8="",$H8="",$I8<>"Realizado"),"",IFERROR(IF($B8="Entrada",$H8,-$H8),"")) | K8: =IF(OR($A8="",$B8="",$H8="",$I8="",$I8="Cancelado"),"",IFERROR(IF($B8="Entrada",$H8,-$H8),"")) | L8: =IF(OR($A8="",$B8="",$H8="",$I8=""),"",IFERROR('Premissas'!$B$5+SUM($J$5:J8),"")) | M8: =IF(COUNTA($A8:$I8)=0,"",IF(OR($A8="",$B8="",$C8="",$D8="",$F8="",$G8="",$H8="",$I8=""),"Completar dados",IF($I8="Cancelado","Cancelado — sem impacto",IF(AND($B8="Saída",$H8>'Premissas'!$B$6),"Conferir limite de saída","OK")))) | Q8: =IFERROR(IF('Premissas'!F8="","",'Premissas'!F8),"") | R8: =IFERROR(IF('Premissas'!G8="","",'Premissas'!G8),"") | S8: =IFERROR(IF('Premissas'!H8="","",'Premissas'!H8),"")
A9: 46124 | B9: Entrada | C9: Oferta fictícia vinculada ao projeto | D9: Oferta destinada | E9: Projeto Fictício Aurora | F9: Equipe Modelo Safira | G9: Recepção Simulada | H9: 20000 | I9: Realizado | J9: =IF(OR($A9="",$B9="",$H9="",$I9<>"Realizado"),"",IFERROR(IF($B9="Entrada",$H9,-$H9),"")) | K9: =IF(OR($A9="",$B9="",$H9="",$I9="",$I9="Cancelado"),"",IFERROR(IF($B9="Entrada",$H9,-$H9),"")) | L9: =IF(OR($A9="",$B9="",$H9="",$I9=""),"",IFERROR('Premissas'!$B$5+SUM($J$5:J9),"")) | M9: =IF(COUNTA($A9:$I9)=0,"",IF(OR($A9="",$B9="",$C9="",$D9="",$F9="",$G9="",$H9="",$I9=""),"Completar dados",IF($I9="Cancelado","Cancelado — sem impacto",IF(AND($B9="Saída",$H9>'Premissas'!$B$6),"Conferir limite de saída","OK")))) | Q9: =IFERROR(IF('Premissas'!F9="","",'Premissas'!F9),"") | R9: =IFERROR(IF('Premissas'!G9="","",'Premissas'!G9),"") | S9: =IFERROR(IF('Premissas'!H9="","",'Premissas'!H9),"")
A10: 46148 | B10: Saída | C10: Serviço técnico de demonstração | D10: Serviço técnico | E10: Obra Modelo Jardim Claro | F10: Comissão Fictícia Ipê | G10: Construção Fictícia | H10: 9500 | I10: Realizado | J10: =IF(OR($A10="",$B10="",$H10="",$I10<>"Realizado"),"",IFERROR(IF($B10="Entrada",$H10,-$H10),"")) | K10: =IF(OR($A10="",$B10="",$H10="",$I10="",$I10="Cancelado"),"",IFERROR(IF($B10="Entrada",$H10,-$H10),"")) | L10: =IF(OR($A10="",$B10="",$H10="",$I10=""),"",IFERROR('Premissas'!$B$5+SUM($J$5:J10),"")) | M10: =IF(COUNTA($A10:$I10)=0,"",IF(OR($A10="",$B10="",$C10="",$D10="",$F10="",$G10="",$H10="",$I10=""),"Completar dados",IF($I10="Cancelado","Cancelado — sem impacto",IF(AND($B10="Saída",$H10>'Premissas'!$B$6),"Conferir limite de saída","OK")))) | Q10: =IFERROR(IF('Premissas'!F10="","",'Premissas'!F10),"") | R10: =IFERROR(IF('Premissas'!G10="","",'Premissas'!G10),"") | S10: =IFERROR(IF('Premissas'!H10="","",'Premissas'!H10),"")
A11: 46223 | B11: Saída | C11: Equipamento fictício posteriormente cancelado | D11: Equipamento | E11: Patrimônio Exemplo Brisa | F11: Equipe Simulada Coral | G11: Artes Demonstrativas | H11: 12500 | I11: Cancelado | J11: =IF(OR($A11="",$B11="",$H11="",$I11<>"Realizado"),"",IFERROR(IF($B11="Entrada",$H11,-$H11),"")) | K11: =IF(OR($A11="",$B11="",$H11="",$I11="",$I11="Cancelado"),"",IFERROR(IF($B11="Entrada",$H11,-$H11),"")) | L11: =IF(OR($A11="",$B11="",$H11="",$I11=""),"",IFERROR('Premissas'!$B$5+SUM($J$5:J11),"")) | M11: =IF(COUNTA($A11:$I11)=0,"",IF(OR($A11="",$B11="",$C11="",$D11="",$F11="",$G11="",$H11="",$I11=""),"Completar dados",IF($I11="Cancelado","Cancelado — sem impacto",IF(AND($B11="Saída",$H11>'Premissas'!$B$6),"Conferir limite de saída","OK")))) | Q11: =IFERROR(IF('Premissas'!F11="","",'Premissas'!F11),"") | R11: =IFERROR(IF('Premissas'!G11="","",'Premissas'!G11),"") | S11: =IFERROR(IF('Premissas'!H11="","",'Premissas'!H11),"")
A12: 46268 | B12: Entrada | C12: Previsão fictícia da campanha Horizonte | D12: Campanha fictícia | E12: Campanha Fictícia Horizonte | F12: Núcleo Exemplo Âmbar | G12: Comunicação Exemplo | H12: 27000 | I12: Previsto | J12: =IF(OR($A12="",$B12="",$H12="",$I12<>"Realizado"),"",IFERROR(IF($B12="Entrada",$H12,-$H12),"")) | K12: =IF(OR($A12="",$B12="",$H12="",$I12="",$I12="Cancelado"),"",IFERROR(IF($B12="Entrada",$H12,-$H12),"")) | L12: =IF(OR($A12="",$B12="",$H12="",$I12=""),"",IFERROR('Premissas'!$B$5+SUM($J$5:J12),"")) | M12: =IF(COUNTA($A12:$I12)=0,"",IF(OR($A12="",$B12="",$C12="",$D12="",$F12="",$G12="",$H12="",$I12=""),"Completar dados",IF($I12="Cancelado","Cancelado — sem impacto",IF(AND($B12="Saída",$H12>'Premissas'!$B$6),"Conferir limite de saída","OK")))) | Q12: =IFERROR(IF('Premissas'!F12="","",'Premissas'!F12),"") | R12: =IFERROR(IF('Premissas'!G12="","",'Premissas'!G12),"") | S12: =IFERROR(IF('Premissas'!H12="","",'Premissas'!H12),"")
A13: 46300 | B13: Saída | C13: Previsão de serviço estrutural fictício | D13: Serviço técnico | E13: Projeto Modelo Vale Sereno | F13: Comissão Modelo Cedro | G13: Construção Fictícia | H13: 22000 | I13: Previsto | J13: =IF(OR($A13="",$B13="",$H13="",$I13<>"Realizado"),"",IFERROR(IF($B13="Entrada",$H13,-$H13),"")) | K13: =IF(OR($A13="",$B13="",$H13="",$I13="",$I13="Cancelado"),"",IFERROR(IF($B13="Entrada",$H13,-$H13),"")) | L13: =IF(OR($A13="",$B13="",$H13="",$I13=""),"",IFERROR('Premissas'!$B$5+SUM($J$5:J13),"")) | M13: =IF(COUNTA($A13:$I13)=0,"",IF(OR($A13="",$B13="",$C13="",$D13="",$F13="",$G13="",$H13="",$I13=""),"Completar dados",IF($I13="Cancelado","Cancelado — sem impacto",IF(AND($B13="Saída",$H13>'Premissas'!$B$6),"Conferir limite de saída","OK")))) | Q13: =IFERROR(IF('Premissas'!F13="","",'Premissas'!F13),"") | R13: =IFERROR(IF('Premissas'!G13="","",'Premissas'!G13),"") | S13: =IFERROR(IF('Premissas'!H13="","",'Premissas'!H13),"")
A14: 46340 | B14: Saída | C14: Previsão fictícia de materiais de acabamento | D14: Material de obra | E14: Patrimônio Modelo Cedro | F14: Equipe Fictícia Beta | G14: Construção Fictícia | H14: 16000 | I14: Previsto | J14: =IF(OR($A14="",$B14="",$H14="",$I14<>"Realizado"),"",IFERROR(IF($B14="Entrada",$H14,-$H14),"")) | K14: =IF(OR($A14="",$B14="",$H14="",$I14="",$I14="Cancelado"),"",IFERROR(IF($B14="Entrada",$H14,-$H14),"")) | L14: =IF(OR($A14="",$B14="",$H14="",$I14=""),"",IFERROR('Premissas'!$B$5+SUM($J$5:J14),"")) | M14: =IF(COUNTA($A14:$I14)=0,"",IF(OR($A14="",$B14="",$C14="",$D14="",$F14="",$G14="",$H14="",$I14=""),"Completar dados",IF($I14="Cancelado","Cancelado — sem impacto",IF(AND($B14="Saída",$H14>'Premissas'!$B$6),"Conferir limite de saída","OK")))) | Q14: =IFERROR(IF('Premissas'!F14="","",'Premissas'!F14),"") | R14: =IFERROR(IF('Premissas'!G14="","",'Premissas'!G14),"") | S14: =IFERROR(IF('Premissas'!H14="","",'Premissas'!H14),"")
J15: =IF(OR($A15="",$B15="",$H15="",$I15<>"Realizado"),"",IFERROR(IF($B15="Entrada",$H15,-$H15),"")) | K15: =IF(OR($A15="",$B15="",$H15="",$I15="",$I15="Cancelado"),"",IFERROR(IF($B15="Entrada",$H15,-$H15),"")) | L15: =IF(OR($A15="",$B15="",$H15="",$I15=""),"",IFERROR('Premissas'!$B$5+SUM($J$5:J15),"")) | M15: =IF(COUNTA($A15:$I15)=0,"",IF(OR($A15="",$B15="",$C15="",$D15="",$F15="",$G15="",$H15="",$I15=""),"Completar dados",IF($I15="Cancelado","Cancelado — sem impacto",IF(AND($B15="Saída",$H15>'Premissas'!$B$6),"Conferir limite de saída","OK")))) | Q15: =IFERROR(IF('Premissas'!F15="","",'Premissas'!F15),"") | R15: =IFERROR(IF('Premissas'!G15="","",'Premissas'!G15),"") | S15: =IFERROR(IF('Premissas'!H15="","",'Premissas'!H15),"")
J16: =IF(OR($A16="",$B16="",$H16="",$I16<>"Realizado"),"",IFERROR(IF($B16="Entrada",$H16,-$H16),"")) | K16: =IF(OR($A16="",$B16="",$H16="",$I16="",$I16="Cancelado"),"",IFERROR(IF($B16="Entrada",$H16,-$H16),"")) | L16: =IF(OR($A16="",$B16="",$H16="",$I16=""),"",IFERROR('Premissas'!$B$5+SUM($J$5:J16),"")) | M16: =IF(COUNTA($A16:$I16)=0,"",IF(OR($A16="",$B16="",$C16="",$D16="",$F16="",$G16="",$H16="",$I16=""),"Completar dados",IF($I16="Cancelado","Cancelado — sem impacto",IF(AND($B16="Saída",$H16>'Premissas'!$B$6),"Conferir limite de saída","OK")))) | Q16: =IFERROR(IF('Premissas'!F16="","",'Premissas'!F16),"") | R16: =IFERROR(IF('Premissas'!G16="","",'Premissas'!G16),"") | S16: =IFERROR(IF('Premissas'!H16="","",'Premissas'!H16),"")
J17: =IF(OR($A17="",$B17="",$H17="",$I17<>"Realizado"),"",IFERROR(IF($B17="Entrada",$H17,-$H17),"")) | K17: =IF(OR($A17="",$B17="",$H17="",$I17="",$I17="Cancelado"),"",IFERROR(IF($B17="Entrada",$H17,-$H17),"")) | L17: =IF(OR($A17="",$B17="",$H17="",$I17=""),"",IFERROR('Premissas'!$B$5+SUM($J$5:J17),"")) | M17: =IF(COUNTA($A17:$I17)=0,"",IF(OR($A17="",$B17="",$C17="",$D17="",$F17="",$G17="",$H17="",$I17=""),"Completar dados",IF($I17="Cancelado","Cancelado — sem impacto",IF(AND($B17="Saída",$H17>'Premissas'!$B$6),"Conferir limite de saída","OK")))) | Q17: =IFERROR(IF('Premissas'!F17="","",'Premissas'!F17),"") | R17: =IFERROR(IF('Premissas'!G17="","",'Premissas'!G17),"") | S17: =IFERROR(IF('Premissas'!H17="","",'Premissas'!H17),"")
J18: =IF(OR($A18="",$B18="",$H18="",$I18<>"Realizado"),"",IFERROR(IF($B18="Entrada",$H18,-$H18),"")) | K18: =IF(OR($A18="",$B18="",$H18="",$I18="",$I18="Cancelado"),"",IFERROR(IF($B18="Entrada",$H18,-$H18),"")) | L18: =IF(OR($A18="",$B18="",$H18="",$I18=""),"",IFERROR('Premissas'!$B$5+SUM($J$5:J18),"")) | M18: =IF(COUNTA($A18:$I18)=0,"",IF(OR($A18="",$B18="",$C18="",$D18="",$F18="",$G18="",$H18="",$I18=""),"Completar dados",IF($I18="Cancelado","Cancelado — sem impacto",IF(AND($B18="Saída",$H18>'Premissas'!$B$6),"Conferir limite de saída","OK")))) | Q18: =IFERROR(IF('Premissas'!F18="","",'Premissas'!F18),"") | R18: =IFERROR(IF('Premissas'!G18="","",'Premissas'!G18),"") | S18: =IFERROR(IF('Premissas'!H18="","",'Premissas'!H18),"")
J19: =IF(OR($A19="",$B19="",$H19="",$I19<>"Realizado"),"",IFERROR(IF($B19="Entrada",$H19,-$H19),"")) | K19: =IF(OR($A19="",$B19="",$H19="",$I19="",$I19="Cancelado"),"",IFERROR(IF($B19="Entrada",$H19,-$H19),"")) | L19: =IF(OR($A19="",$B19="",$H19="",$I19=""),"",IFERROR('Premissas'!$B$5+SUM($J$5:J19),"")) | M19: =IF(COUNTA($A19:$I19)=0,"",IF(OR($A19="",$B19="",$C19="",$D19="",$F19="",$G19="",$H19="",$I19=""),"Completar dados",IF($I19="Cancelado","Cancelado — sem impacto",IF(AND($B19="Saída",$H19>'Premissas'!$B$6),"Conferir limite de saída","OK")))) | Q19: =IFERROR(IF('Premissas'!F19="","",'Premissas'!F19),"") | R19: =IFERROR(IF('Premissas'!G19="","",'Premissas'!G19),"") | S19: =IFERROR(IF('Premissas'!H19="","",'Premissas'!H19),"")
J20: =IF(OR($A20="",$B20="",$H20="",$I20<>"Realizado"),"",IFERROR(IF($B20="Entrada",$H20,-$H20),"")) | K20: =IF(OR($A20="",$B20="",$H20="",$I20="",$I20="Cancelado"),"",IFERROR(IF($B20="Entrada",$H20,-$H20),"")) | L20: =IF(OR($A20="",$B20="",$H20="",$I20=""),"",IFERROR('Premissas'!$B$5+SUM($J$5:J20),"")) | M20: =IF(COUNTA($A20:$I20)=0,"",IF(OR($A20="",$B20="",$C20="",$D20="",$F20="",$G20="",$H20="",$I20=""),"Completar dados",IF($I20="Cancelado","Cancelado — sem impacto",IF(AND($B20="Saída",$H20>'Premissas'!$B$6),"Conferir limite de saída","OK")))) | Q20: =IFERROR(IF('Premissas'!F20="","",'Premissas'!F20),"") | R20: =IFERROR(IF('Premissas'!G20="","",'Premissas'!G20),"") | S20: =IFERROR(IF('Premissas'!H20="","",'Premissas'!H20),"")
J21: =IF(OR($A21="",$B21="",$H21="",$I21<>"Realizado"),"",IFERROR(IF($B21="Entrada",$H21,-$H21),"")) | K21: =IF(OR($A21="",$B21="",$H21="",$I21="",$I21="Cancelado"),"",IFERROR(IF($B21="Entrada",$H21,-$H21),"")) | L21: =IF(OR($A21="",$B21="",$H21="",$I21=""),"",IFERROR('Premissas'!$B$5+SUM($J$5:J21),"")) | M21: =IF(COUNTA($A21:$I21)=0,"",IF(OR($A21="",$B21="",$C21="",$D21="",$F21="",$G21="",$H21="",$I21=""),"Completar dados",IF($I21="Cancelado","Cancelado — sem impacto",IF(AND($B21="Saída",$H21>'Premissas'!$B$6),"Conferir limite de saída","OK")))) | Q21: =IFERROR(IF('Premissas'!F21="","",'Premissas'!F21),"") | R21: =IFERROR(IF('Premissas'!G21="","",'Premissas'!G21),"") | S21: =IFERROR(IF('Premissas'!H21="","",'Premissas'!H21),"")
J22: =IF(OR($A22="",$B22="",$H22="",$I22<>"Realizado"),"",IFERROR(IF($B22="Entrada",$H22,-$H22),"")) | K22: =IF(OR($A22="",$B22="",$H22="",$I22="",$I22="Cancelado"),"",IFERROR(IF($B22="Entrada",$H22,-$H22),"")) | L22: =IF(OR($A22="",$B22="",$H22="",$I22=""),"",IFERROR('Premissas'!$B$5+SUM($J$5:J22),"")) | M22: =IF(COUNTA($A22:$I22)=0,"",IF(OR($A22="",$B22="",$C22="",$D22="",$F22="",$G22="",$H22="",$I22=""),"Completar dados",IF($I22="Cancelado","Cancelado — sem impacto",IF(AND($B22="Saída",$H22>'Premissas'!$B$6),"Conferir limite de saída","OK")))) | Q22: =IFERROR(IF('Premissas'!F22="","",'Premissas'!F22),"") | R22: =IFERROR(IF('Premissas'!G22="","",'Premissas'!G22),"") | S22: =IFERROR(IF('Premissas'!H22="","",'Premissas'!H22),"")
J23: =IF(OR($A23="",$B23="",$H23="",$I23<>"Realizado"),"",IFERROR(IF($B23="Entrada",$H23,-$H23),"")) | K23: =IF(OR($A23="",$B23="",$H23="",$I23="",$I23="Cancelado"),"",IFERROR(IF($B23="Entrada",$H23,-$H23),"")) | L23: =IF(OR($A23="",$B23="",$H23="",$I23=""),"",IFERROR('Premissas'!$B$5+SUM($J$5:J23),"")) | M23: =IF(COUNTA($A23:$I23)=0,"",IF(OR($A23="",$B23="",$C23="",$D23="",$F23="",$G23="",$H23="",$I23=""),"Completar dados",IF($I23="Cancelado","Cancelado — sem impacto",IF(AND($B23="Saída",$H23>'Premissas'!$B$6),"Conferir limite de saída","OK")))) | Q23: =IFERROR(IF('Premissas'!F23="","",'Premissas'!F23),"") | R23: =IFERROR(IF('Premissas'!G23="","",'Premissas'!G23),"") | S23: =IFERROR(IF('Premissas'!H23="","",'Premissas'!H23),"")
J24: =IF(OR($A24="",$B24="",$H24="",$I24<>"Realizado"),"",IFERROR(IF($B24="Entrada",$H24,-$H24),"")) | K24: =IF(OR($A24="",$B24="",$H24="",$I24="",$I24="Cancelado"),"",IFERROR(IF($B24="Entrada",$H24,-$H24),"")) | L24: =IF(OR($A24="",$B24="",$H24="",$I24=""),"",IFERROR('Premissas'!$B$5+SUM($J$5:J24),"")) | M24: =IF(COUNTA($A24:$I24)=0,"",IF(OR($A24="",$B24="",$C24="",$D24="",$F24="",$G24="",$H24="",$I24=""),"Completar dados",IF($I24="Cancelado","Cancelado — sem impacto",IF(AND($B24="Saída",$H24>'Premissas'!$B$6),"Conferir limite de saída","OK")))) | Q24: =IFERROR(IF('Premissas'!F24="","",'Premissas'!F24),"") | R24: =IFERROR(IF('Premissas'!G24="","",'Premissas'!G24),"") | S24: =IFERROR(IF('Premissas'!H24="","",'Premissas'!H24),"")
J25: =IF(OR($A25="",$B25="",$H25="",$I25<>"Realizado"),"",IFERROR(IF($B25="Entrada",$H25,-$H25),"")) | K25: =IF(OR($A25="",$B25="",$H25="",$I25="",$I25="Cancelado"),"",IFERROR(IF($B25="Entrada",$H25,-$H25),"")) | L25: =IF(OR($A25="",$B25="",$H25="",$I25=""),"",IFERROR('Premissas'!$B$5+SUM($J$5:J25),"")) | M25: =IF(COUNTA($A25:$I25)=0,"",IF(OR($A25="",$B25="",$C25="",$D25="",$F25="",$G25="",$H25="",$I25=""),"Completar dados",IF($I25="Cancelado","Cancelado — sem impacto",IF(AND($B25="Saída",$H25>'Premissas'!$B$6),"Conferir limite de saída","OK")))) | Q25: =IFERROR(IF('Premissas'!F25="","",'Premissas'!F25),"") | R25: =IFERROR(IF('Premissas'!G25="","",'Premissas'!G25),"") | S25: =IFERROR(IF('Premissas'!H25="","",'Premissas'!H25),"")
J26: =IF(OR($A26="",$B26="",$H26="",$I26<>"Realizado"),"",IFERROR(IF($B26="Entrada",$H26,-$H26),"")) | K26: =IF(OR($A26="",$B26="",$H26="",$I26="",$I26="Cancelado"),"",IFERROR(IF($B26="Entrada",$H26,-$H26),"")) | L26: =IF(OR($A26="",$B26="",$H26="",$I26=""),"",IFERROR('Premissas'!$B$5+SUM($J$5:J26),"")) | M26: =IF(COUNTA($A26:$I26)=0,"",IF(OR($A26="",$B26="",$C26="",$D26="",$F26="",$G26="",$H26="",$I26=""),"Completar dados",IF($I26="Cancelado","Cancelado — sem impacto",IF(AND($B26="Saída",$H26>'Premissas'!$B$6),"Conferir limite de saída","OK")))) | Q26: =IFERROR(IF('Premissas'!F26="","",'Premissas'!F26),"") | R26: =IFERROR(IF('Premissas'!G26="","",'Premissas'!G26),"") | S26: =IFERROR(IF('Premissas'!H26="","",'Premissas'!H26),"")
... J104: =IF(OR($A104="",$B104="",$H104="",$I104<>"Realizado"),"",IFERROR(IF($B104="Entrada",$H104,-$H104),"")) | K104: =IF(OR($A104="",$B104="",$H104="",$I104="",$I104="Cancelado"),"",IFERROR(IF($B104="Entrada",$H104,-$H104),"")) | L104: =IF(OR($A104="",$B104="",$H104="",$I104=""),"",IFERROR('Premissas'!$B$5+SUM($J$5:J104),"")) | M104: =IF(COUNTA($A104:$I104)=0,"",IF(OR($A104="",$B104="",$C104="",$D104="",$F104="",$G104="",$H104="",$I104=""),"Completar dados",IF($I104="Cancelado","Cancelado — sem impacto",IF(AND($B104="Saída",$H104>'Premissas'!$B$6),"Conferir limite de saída","OK")))) | Q104: =IFERROR(IF('Premissas'!F104="","",'Premissas'!F104),"") | R104: =IFERROR(IF('Premissas'!G104="","",'Premissas'!G104),"") | S104: =IFERROR(IF('Premissas'!H104="","",'Premissas'!H104),"")

Sheet Premissas
A1: Premissas editáveis do fundo de construção
A2: Revise os valores, o período e as listas antes de usar. As opções abaixo servem somente ao controle administrativo desta pasta.
A4: Premissa | B4: Valor editável | C4: Uso no controle | E4: Tipos | F4: Status | G4: Categorias | H4: Ministérios
A5: Saldo inicial do fundo | B5: 15000 | C5: Base para o saldo realizado e projetado | E5: Entrada | F5: Realizado | G5: Oferta destinada | H5: Administração Modelo
A6: Limite de alerta por saída | B6: 20000 | C6: Destaca saídas que pedem conferência | E6: Saída | F6: Previsto | G6: Campanha fictícia | H6: Construção Fictícia
A7: Início do período | B7: 46023 | C7: Primeira data aceita nos lançamentos | F7: Cancelado | G7: Material de obra | H7: Comunicação Exemplo
A8: Fim do período | B8: 46387 | C8: Última data aceita nos lançamentos | G8: Serviço técnico | H8: Recepção Simulada
A9: Meta de arrecadação | B9: 180000 | C9: Referência editável para acompanhamento | G9: Projeto preliminar | H9: Artes Demonstrativas
G10: Equipamento
G11: Outros custos
