Workbook

Sheet Resumo
A1: Controle de presença nos cultos
A2: Data inicial do resumo | B2: =IF('Configurações'!B2="","",'Configurações'!B2)
A3: Data final do resumo | B3: =IF('Configurações'!B3="","",'Configurações'!B3)
A4: Período do dia | B4: =IF('Configurações'!B4="","",'Configurações'!B4)
A5: Indicadores do período | B5: Resultado
A6: Cultos incluídos | B6: =IF(OR('Configurações'!$B$2="",'Configurações'!$B$3="",'Configurações'!$B$3<'Configurações'!$B$2,'Configurações'!$B$4=""),"",IF('Configurações'!$B$4="Todos",COUNTIFS(Registros!$B$2:$B$201,">="&'Configurações'!$B$2,Registros!$B$2:$B$201,"<="&'Configurações'!$B$3,Registros!$P$2:$P$201,"Sim"),COUNTIFS(Registros!$B$2:$B$201,">="&'Configurações'!$B$2,Registros!$B$2:$B$201,"<="&'Configurações'!$B$3,Registros!$D$2:$D$201,'Configurações'!$B$4,Registros!$P$2:$P$201,"Sim")))
A7: Presença total | B7: =IF(OR(B6="",B6=0),"",SUM(B13:B16))
A8: Média de presença por culto | B8: =IFERROR(B7/B6,"")
A9: Cultos com ocupação em atenção | B9: =IF(B6="","",IF('Configurações'!$B$4="Todos",COUNTIFS(Registros!$B$2:$B$201,">="&'Configurações'!$B$2,Registros!$B$2:$B$201,"<="&'Configurações'!$B$3,Registros!$P$2:$P$201,"Sim",Registros!$N$2:$N$201,"ATENÇÃO"),COUNTIFS(Registros!$B$2:$B$201,">="&'Configurações'!$B$2,Registros!$B$2:$B$201,"<="&'Configurações'!$B$3,Registros!$D$2:$D$201,'Configurações'!$B$4,Registros!$P$2:$P$201,"Sim",Registros!$N$2:$N$201,"ATENÇÃO")))
A10: Registros pendentes na base | B10: =COUNTIF(Registros!$P$2:$P$201,"Não")
A12: Totais por faixa etária | B12: Pessoas | L12: Faixa | M12: Total para gráfico
A13: Crianças — 0 a 11 anos | B13: =IF(OR($B$6="",$B$6=0),"",IF('Configurações'!$B$4="Todos",SUMIFS(Registros!$G$2:$G$201,Registros!$B$2:$B$201,">="&'Configurações'!$B$2,Registros!$B$2:$B$201,"<="&'Configurações'!$B$3,Registros!$P$2:$P$201,"Sim"),SUMIFS(Registros!$G$2:$G$201,Registros!$B$2:$B$201,">="&'Configurações'!$B$2,Registros!$B$2:$B$201,"<="&'Configurações'!$B$3,Registros!$D$2:$D$201,'Configurações'!$B$4,Registros!$P$2:$P$201,"Sim"))) | L13: Crianças | M13: =IF($B$6>0,$B$13,"")
A14: Adolescentes — 12 a 17 anos | B14: =IF(OR($B$6="",$B$6=0),"",IF('Configurações'!$B$4="Todos",SUMIFS(Registros!$H$2:$H$201,Registros!$B$2:$B$201,">="&'Configurações'!$B$2,Registros!$B$2:$B$201,"<="&'Configurações'!$B$3,Registros!$P$2:$P$201,"Sim"),SUMIFS(Registros!$H$2:$H$201,Registros!$B$2:$B$201,">="&'Configurações'!$B$2,Registros!$B$2:$B$201,"<="&'Configurações'!$B$3,Registros!$D$2:$D$201,'Configurações'!$B$4,Registros!$P$2:$P$201,"Sim"))) | L14: Adolescentes | M14: =IF($B$6>0,$B$14,"")
A15: Adultos — 18 a 59 anos | B15: =IF(OR($B$6="",$B$6=0),"",IF('Configurações'!$B$4="Todos",SUMIFS(Registros!$I$2:$I$201,Registros!$B$2:$B$201,">="&'Configurações'!$B$2,Registros!$B$2:$B$201,"<="&'Configurações'!$B$3,Registros!$P$2:$P$201,"Sim"),SUMIFS(Registros!$I$2:$I$201,Registros!$B$2:$B$201,">="&'Configurações'!$B$2,Registros!$B$2:$B$201,"<="&'Configurações'!$B$3,Registros!$D$2:$D$201,'Configurações'!$B$4,Registros!$P$2:$P$201,"Sim"))) | L15: Adultos | M15: =IF($B$6>0,$B$15,"")
A16: Idosos — 60 anos ou mais | B16: =IF(OR($B$6="",$B$6=0),"",IF('Configurações'!$B$4="Todos",SUMIFS(Registros!$J$2:$J$201,Registros!$B$2:$B$201,">="&'Configurações'!$B$2,Registros!$B$2:$B$201,"<="&'Configurações'!$B$3,Registros!$P$2:$P$201,"Sim"),SUMIFS(Registros!$J$2:$J$201,Registros!$B$2:$B$201,">="&'Configurações'!$B$2,Registros!$B$2:$B$201,"<="&'Configurações'!$B$3,Registros!$D$2:$D$201,'Configurações'!$B$4,Registros!$P$2:$P$201,"Sim"))) | L16: Idosos | M16: =IF($B$6>0,$B$16,"")
A18: O resumo considera somente registros completos marcados como “Conferido”.

Sheet Registros
A1: ID do culto | B1: Data | C1: Horário | D1: Período do dia | E1: Tipo de culto | F1: Espaço | G1: Crianças — 0 a 11 anos | H1: Adolescentes — 12 a 17 anos | I1: Adultos — 18 a 59 anos | J1: Idosos — 60 anos ou mais | K1: Total de presença | L1: Capacidade | M1: Ocupação | N1: Situação do registro | O1: Conferência | P1: Incluir no resumo | Q1: Observações administrativas | S1: Auxiliar de tipos | T1: Auxiliar de espaços | U1: Auxiliar de conferência | V1: Auxiliar de datas
A2: CT-FIC-001 | B2: 46236 | C2: 0.375 | D2: =IF(C2="","",IF(C2<'Configurações'!$B$8,"Manhã",IF(C2<'Configurações'!$B$9,"Tarde","Noite"))) | E2: Culto dominical | F2: Salão principal | G2: 18 | H2: 14 | I2: 92 | J2: 16 | K2: =IF(COUNTA(G2:J2)=0,"",IF(COUNT(G2:J2)<4,"",SUM(G2:J2))) | L2: =IF(F2="","",IFERROR(VLOOKUP(F2,'Configurações'!$D$2:$E$11,2,FALSE),"")) | M2: =IF(OR(K2="",L2="",L2=0),"",K2/L2) | N2: =IF(COUNTA(A2:C2,E2:J2,O2)=0,"",IF(AND(A2<>"",COUNTIF($A$2:$A$201,A2)>1),"ID DUPLICADO",IF(OR(A2="",B2="",C2="",E2="",F2="",COUNT(G2:J2)<4,O2=""),"INCOMPLETO",IF(L2="","SEM CAPACIDADE",IF(M2>='Configurações'!$B$5,"ATENÇÃO","OK"))))) | O2: Conferido | P2: =IF(A2="","",IF(AND(O2="Conferido",OR(N2="OK",N2="ATENÇÃO",N2="SEM CAPACIDADE")),"Sim","Não")) | Q2: Exemplo fictício | S2: =IF('Configurações'!G2="","",'Configurações'!G2) | T2: =IF('Configurações'!D2="","",'Configurações'!D2) | U2: =IF('Configurações'!I2="","",'Configurações'!I2) | V2: ='Configurações'!$B$7
A3: CT-FIC-002 | B3: 46236 | C3: 0.77083333 | D3: =IF(C3="","",IF(C3<'Configurações'!$B$8,"Manhã",IF(C3<'Configurações'!$B$9,"Tarde","Noite"))) | E3: Culto dominical | F3: Salão principal | G3: 22 | H3: 16 | I3: 128 | J3: 21 | K3: =IF(COUNTA(G3:J3)=0,"",IF(COUNT(G3:J3)<4,"",SUM(G3:J3))) | L3: =IF(F3="","",IFERROR(VLOOKUP(F3,'Configurações'!$D$2:$E$11,2,FALSE),"")) | M3: =IF(OR(K3="",L3="",L3=0),"",K3/L3) | N3: =IF(COUNTA(A3:C3,E3:J3,O3)=0,"",IF(AND(A3<>"",COUNTIF($A$2:$A$201,A3)>1),"ID DUPLICADO",IF(OR(A3="",B3="",C3="",E3="",F3="",COUNT(G3:J3)<4,O3=""),"INCOMPLETO",IF(L3="","SEM CAPACIDADE",IF(M3>='Configurações'!$B$5,"ATENÇÃO","OK"))))) | O3: Conferido | P3: =IF(A3="","",IF(AND(O3="Conferido",OR(N3="OK",N3="ATENÇÃO",N3="SEM CAPACIDADE")),"Sim","Não")) | Q3: Exemplo fictício | S3: =IF('Configurações'!G3="","",'Configurações'!G3) | T3: =IF('Configurações'!D3="","",'Configurações'!D3) | U3: =IF('Configurações'!I3="","",'Configurações'!I3) | V3: ='Configurações'!$B$6
A4: CT-FIC-003 | B4: 46239 | C4: 0.8125 | D4: =IF(C4="","",IF(C4<'Configurações'!$B$8,"Manhã",IF(C4<'Configurações'!$B$9,"Tarde","Noite"))) | E4: Culto de oração | F4: Sala multiuso | G4: 4 | H4: 7 | I4: 54 | J4: 11 | K4: =IF(COUNTA(G4:J4)=0,"",IF(COUNT(G4:J4)<4,"",SUM(G4:J4))) | L4: =IF(F4="","",IFERROR(VLOOKUP(F4,'Configurações'!$D$2:$E$11,2,FALSE),"")) | M4: =IF(OR(K4="",L4="",L4=0),"",K4/L4) | N4: =IF(COUNTA(A4:C4,E4:J4,O4)=0,"",IF(AND(A4<>"",COUNTIF($A$2:$A$201,A4)>1),"ID DUPLICADO",IF(OR(A4="",B4="",C4="",E4="",F4="",COUNT(G4:J4)<4,O4=""),"INCOMPLETO",IF(L4="","SEM CAPACIDADE",IF(M4>='Configurações'!$B$5,"ATENÇÃO","OK"))))) | O4: Conferido | P4: =IF(A4="","",IF(AND(O4="Conferido",OR(N4="OK",N4="ATENÇÃO",N4="SEM CAPACIDADE")),"Sim","Não")) | Q4: Exemplo fictício | S4: =IF('Configurações'!G4="","",'Configurações'!G4) | T4: =IF('Configurações'!D4="","",'Configurações'!D4)
A5: CT-FIC-004 | B5: 46243 | C5: 0.375 | D5: =IF(C5="","",IF(C5<'Configurações'!$B$8,"Manhã",IF(C5<'Configurações'!$B$9,"Tarde","Noite"))) | E5: Culto dominical | F5: Salão principal | G5: 20 | H5: 15 | I5: 96 | J5: 18 | K5: =IF(COUNTA(G5:J5)=0,"",IF(COUNT(G5:J5)<4,"",SUM(G5:J5))) | L5: =IF(F5="","",IFERROR(VLOOKUP(F5,'Configurações'!$D$2:$E$11,2,FALSE),"")) | M5: =IF(OR(K5="",L5="",L5=0),"",K5/L5) | N5: =IF(COUNTA(A5:C5,E5:J5,O5)=0,"",IF(AND(A5<>"",COUNTIF($A$2:$A$201,A5)>1),"ID DUPLICADO",IF(OR(A5="",B5="",C5="",E5="",F5="",COUNT(G5:J5)<4,O5=""),"INCOMPLETO",IF(L5="","SEM CAPACIDADE",IF(M5>='Configurações'!$B$5,"ATENÇÃO","OK"))))) | O5: Conferido | P5: =IF(A5="","",IF(AND(O5="Conferido",OR(N5="OK",N5="ATENÇÃO",N5="SEM CAPACIDADE")),"Sim","Não")) | Q5: Exemplo fictício | S5: =IF('Configurações'!G5="","",'Configurações'!G5) | T5: =IF('Configurações'!D5="","",'Configurações'!D5)
A6: CT-FIC-005 | B6: 46243 | C6: 0.77083333 | D6: =IF(C6="","",IF(C6<'Configurações'!$B$8,"Manhã",IF(C6<'Configurações'!$B$9,"Tarde","Noite"))) | E6: Culto dominical | F6: Salão principal | G6: 24 | H6: 17 | I6: 130 | J6: 23 | K6: =IF(COUNTA(G6:J6)=0,"",IF(COUNT(G6:J6)<4,"",SUM(G6:J6))) | L6: =IF(F6="","",IFERROR(VLOOKUP(F6,'Configurações'!$D$2:$E$11,2,FALSE),"")) | M6: =IF(OR(K6="",L6="",L6=0),"",K6/L6) | N6: =IF(COUNTA(A6:C6,E6:J6,O6)=0,"",IF(AND(A6<>"",COUNTIF($A$2:$A$201,A6)>1),"ID DUPLICADO",IF(OR(A6="",B6="",C6="",E6="",F6="",COUNT(G6:J6)<4,O6=""),"INCOMPLETO",IF(L6="","SEM CAPACIDADE",IF(M6>='Configurações'!$B$5,"ATENÇÃO","OK"))))) | O6: Conferido | P6: =IF(A6="","",IF(AND(O6="Conferido",OR(N6="OK",N6="ATENÇÃO",N6="SEM CAPACIDADE")),"Sim","Não")) | Q6: Exemplo fictício | S6: =IF('Configurações'!G6="","",'Configurações'!G6) | T6: =IF('Configurações'!D6="","",'Configurações'!D6)
A7: CT-FIC-006 | B7: 46246 | C7: 0.8125 | D7: =IF(C7="","",IF(C7<'Configurações'!$B$8,"Manhã",IF(C7<'Configurações'!$B$9,"Tarde","Noite"))) | E7: Culto de ensino | F7: Auditório anexo | G7: 5 | H7: 9 | I7: 66 | J7: 12 | K7: =IF(COUNTA(G7:J7)=0,"",IF(COUNT(G7:J7)<4,"",SUM(G7:J7))) | L7: =IF(F7="","",IFERROR(VLOOKUP(F7,'Configurações'!$D$2:$E$11,2,FALSE),"")) | M7: =IF(OR(K7="",L7="",L7=0),"",K7/L7) | N7: =IF(COUNTA(A7:C7,E7:J7,O7)=0,"",IF(AND(A7<>"",COUNTIF($A$2:$A$201,A7)>1),"ID DUPLICADO",IF(OR(A7="",B7="",C7="",E7="",F7="",COUNT(G7:J7)<4,O7=""),"INCOMPLETO",IF(L7="","SEM CAPACIDADE",IF(M7>='Configurações'!$B$5,"ATENÇÃO","OK"))))) | O7: Conferido | P7: =IF(A7="","",IF(AND(O7="Conferido",OR(N7="OK",N7="ATENÇÃO",N7="SEM CAPACIDADE")),"Sim","Não")) | Q7: Exemplo fictício | S7: =IF('Configurações'!G7="","",'Configurações'!G7) | T7: =IF('Configurações'!D7="","",'Configurações'!D7)
A8: CT-FIC-007 | B8: 46250 | C8: 0.375 | D8: =IF(C8="","",IF(C8<'Configurações'!$B$8,"Manhã",IF(C8<'Configurações'!$B$9,"Tarde","Noite"))) | E8: Culto dominical | F8: Salão principal | G8: 19 | H8: 13 | I8: 90 | J8: 17 | K8: =IF(COUNTA(G8:J8)=0,"",IF(COUNT(G8:J8)<4,"",SUM(G8:J8))) | L8: =IF(F8="","",IFERROR(VLOOKUP(F8,'Configurações'!$D$2:$E$11,2,FALSE),"")) | M8: =IF(OR(K8="",L8="",L8=0),"",K8/L8) | N8: =IF(COUNTA(A8:C8,E8:J8,O8)=0,"",IF(AND(A8<>"",COUNTIF($A$2:$A$201,A8)>1),"ID DUPLICADO",IF(OR(A8="",B8="",C8="",E8="",F8="",COUNT(G8:J8)<4,O8=""),"INCOMPLETO",IF(L8="","SEM CAPACIDADE",IF(M8>='Configurações'!$B$5,"ATENÇÃO","OK"))))) | O8: Conferido | P8: =IF(A8="","",IF(AND(O8="Conferido",OR(N8="OK",N8="ATENÇÃO",N8="SEM CAPACIDADE")),"Sim","Não")) | Q8: Exemplo fictício | S8: =IF('Configurações'!G8="","",'Configurações'!G8) | T8: =IF('Configurações'!D8="","",'Configurações'!D8)
A9: CT-FIC-008 | B9: 46250 | C9: 0.77083333 | D9: =IF(C9="","",IF(C9<'Configurações'!$B$8,"Manhã",IF(C9<'Configurações'!$B$9,"Tarde","Noite"))) | E9: Culto dominical | F9: Salão principal | G9: 23 | H9: 18 | I9: 124 | J9: 20 | K9: =IF(COUNTA(G9:J9)=0,"",IF(COUNT(G9:J9)<4,"",SUM(G9:J9))) | L9: =IF(F9="","",IFERROR(VLOOKUP(F9,'Configurações'!$D$2:$E$11,2,FALSE),"")) | M9: =IF(OR(K9="",L9="",L9=0),"",K9/L9) | N9: =IF(COUNTA(A9:C9,E9:J9,O9)=0,"",IF(AND(A9<>"",COUNTIF($A$2:$A$201,A9)>1),"ID DUPLICADO",IF(OR(A9="",B9="",C9="",E9="",F9="",COUNT(G9:J9)<4,O9=""),"INCOMPLETO",IF(L9="","SEM CAPACIDADE",IF(M9>='Configurações'!$B$5,"ATENÇÃO","OK"))))) | O9: Conferido | P9: =IF(A9="","",IF(AND(O9="Conferido",OR(N9="OK",N9="ATENÇÃO",N9="SEM CAPACIDADE")),"Sim","Não")) | Q9: Exemplo fictício | S9: =IF('Configurações'!G9="","",'Configurações'!G9) | T9: =IF('Configurações'!D9="","",'Configurações'!D9)
A10: CT-FIC-009 | B10: 46253 | C10: 0.8125 | D10: =IF(C10="","",IF(C10<'Configurações'!$B$8,"Manhã",IF(C10<'Configurações'!$B$9,"Tarde","Noite"))) | E10: Culto de oração | F10: Sala multiuso | G10: 3 | H10: 6 | I10: 51 | J10: 10 | K10: =IF(COUNTA(G10:J10)=0,"",IF(COUNT(G10:J10)<4,"",SUM(G10:J10))) | L10: =IF(F10="","",IFERROR(VLOOKUP(F10,'Configurações'!$D$2:$E$11,2,FALSE),"")) | M10: =IF(OR(K10="",L10="",L10=0),"",K10/L10) | N10: =IF(COUNTA(A10:C10,E10:J10,O10)=0,"",IF(AND(A10<>"",COUNTIF($A$2:$A$201,A10)>1),"ID DUPLICADO",IF(OR(A10="",B10="",C10="",E10="",F10="",COUNT(G10:J10)<4,O10=""),"INCOMPLETO",IF(L10="","SEM CAPACIDADE",IF(M10>='Configurações'!$B$5,"ATENÇÃO","OK"))))) | O10: Provisório | P10: =IF(A10="","",IF(AND(O10="Conferido",OR(N10="OK",N10="ATENÇÃO",N10="SEM CAPACIDADE")),"Sim","Não")) | Q10: Exemplo fictício | S10: =IF('Configurações'!G10="","",'Configurações'!G10) | T10: =IF('Configurações'!D10="","",'Configurações'!D10)
A11: CT-FIC-010 | B11: 46257 | C11: 0.375 | D11: =IF(C11="","",IF(C11<'Configurações'!$B$8,"Manhã",IF(C11<'Configurações'!$B$9,"Tarde","Noite"))) | E11: Culto dominical | F11: Salão principal | G11: 21 | H11: 14 | I11: 101 | K11: =IF(COUNTA(G11:J11)=0,"",IF(COUNT(G11:J11)<4,"",SUM(G11:J11))) | L11: =IF(F11="","",IFERROR(VLOOKUP(F11,'Configurações'!$D$2:$E$11,2,FALSE),"")) | M11: =IF(OR(K11="",L11="",L11=0),"",K11/L11) | N11: =IF(COUNTA(A11:C11,E11:J11,O11)=0,"",IF(AND(A11<>"",COUNTIF($A$2:$A$201,A11)>1),"ID DUPLICADO",IF(OR(A11="",B11="",C11="",E11="",F11="",COUNT(G11:J11)<4,O11=""),"INCOMPLETO",IF(L11="","SEM CAPACIDADE",IF(M11>='Configurações'!$B$5,"ATENÇÃO","OK"))))) | O11: Conferido | P11: =IF(A11="","",IF(AND(O11="Conferido",OR(N11="OK",N11="ATENÇÃO",N11="SEM CAPACIDADE")),"Sim","Não")) | Q11: Exemplo fictício | S11: =IF('Configurações'!G11="","",'Configurações'!G11) | T11: =IF('Configurações'!D11="","",'Configurações'!D11)
D12: =IF(C12="","",IF(C12<'Configurações'!$B$8,"Manhã",IF(C12<'Configurações'!$B$9,"Tarde","Noite"))) | K12: =IF(COUNTA(G12:J12)=0,"",IF(COUNT(G12:J12)<4,"",SUM(G12:J12))) | L12: =IF(F12="","",IFERROR(VLOOKUP(F12,'Configurações'!$D$2:$E$11,2,FALSE),"")) | M12: =IF(OR(K12="",L12="",L12=0),"",K12/L12) | N12: =IF(COUNTA(A12:C12,E12:J12,O12)=0,"",IF(AND(A12<>"",COUNTIF($A$2:$A$201,A12)>1),"ID DUPLICADO",IF(OR(A12="",B12="",C12="",E12="",F12="",COUNT(G12:J12)<4,O12=""),"INCOMPLETO",IF(L12="","SEM CAPACIDADE",IF(M12>='Configurações'!$B$5,"ATENÇÃO","OK"))))) | P12: =IF(A12="","",IF(AND(O12="Conferido",OR(N12="OK",N12="ATENÇÃO",N12="SEM CAPACIDADE")),"Sim","Não")) | S12: =IF('Configurações'!G12="","",'Configurações'!G12) | T12: =IF('Configurações'!D12="","",'Configurações'!D12)
D13: =IF(C13="","",IF(C13<'Configurações'!$B$8,"Manhã",IF(C13<'Configurações'!$B$9,"Tarde","Noite"))) | K13: =IF(COUNTA(G13:J13)=0,"",IF(COUNT(G13:J13)<4,"",SUM(G13:J13))) | L13: =IF(F13="","",IFERROR(VLOOKUP(F13,'Configurações'!$D$2:$E$11,2,FALSE),"")) | M13: =IF(OR(K13="",L13="",L13=0),"",K13/L13) | N13: =IF(COUNTA(A13:C13,E13:J13,O13)=0,"",IF(AND(A13<>"",COUNTIF($A$2:$A$201,A13)>1),"ID DUPLICADO",IF(OR(A13="",B13="",C13="",E13="",F13="",COUNT(G13:J13)<4,O13=""),"INCOMPLETO",IF(L13="","SEM CAPACIDADE",IF(M13>='Configurações'!$B$5,"ATENÇÃO","OK"))))) | P13: =IF(A13="","",IF(AND(O13="Conferido",OR(N13="OK",N13="ATENÇÃO",N13="SEM CAPACIDADE")),"Sim","Não")) | S13: =IF('Configurações'!G13="","",'Configurações'!G13) | T13: =IF('Configurações'!D13="","",'Configurações'!D13)
D14: =IF(C14="","",IF(C14<'Configurações'!$B$8,"Manhã",IF(C14<'Configurações'!$B$9,"Tarde","Noite"))) | K14: =IF(COUNTA(G14:J14)=0,"",IF(COUNT(G14:J14)<4,"",SUM(G14:J14))) | L14: =IF(F14="","",IFERROR(VLOOKUP(F14,'Configurações'!$D$2:$E$11,2,FALSE),"")) | M14: =IF(OR(K14="",L14="",L14=0),"",K14/L14) | N14: =IF(COUNTA(A14:C14,E14:J14,O14)=0,"",IF(AND(A14<>"",COUNTIF($A$2:$A$201,A14)>1),"ID DUPLICADO",IF(OR(A14="",B14="",C14="",E14="",F14="",COUNT(G14:J14)<4,O14=""),"INCOMPLETO",IF(L14="","SEM CAPACIDADE",IF(M14>='Configurações'!$B$5,"ATENÇÃO","OK"))))) | P14: =IF(A14="","",IF(AND(O14="Conferido",OR(N14="OK",N14="ATENÇÃO",N14="SEM CAPACIDADE")),"Sim","Não")) | S14: =IF('Configurações'!G14="","",'Configurações'!G14) | T14: =IF('Configurações'!D14="","",'Configurações'!D14)
D15: =IF(C15="","",IF(C15<'Configurações'!$B$8,"Manhã",IF(C15<'Configurações'!$B$9,"Tarde","Noite"))) | K15: =IF(COUNTA(G15:J15)=0,"",IF(COUNT(G15:J15)<4,"",SUM(G15:J15))) | L15: =IF(F15="","",IFERROR(VLOOKUP(F15,'Configurações'!$D$2:$E$11,2,FALSE),"")) | M15: =IF(OR(K15="",L15="",L15=0),"",K15/L15) | N15: =IF(COUNTA(A15:C15,E15:J15,O15)=0,"",IF(AND(A15<>"",COUNTIF($A$2:$A$201,A15)>1),"ID DUPLICADO",IF(OR(A15="",B15="",C15="",E15="",F15="",COUNT(G15:J15)<4,O15=""),"INCOMPLETO",IF(L15="","SEM CAPACIDADE",IF(M15>='Configurações'!$B$5,"ATENÇÃO","OK"))))) | P15: =IF(A15="","",IF(AND(O15="Conferido",OR(N15="OK",N15="ATENÇÃO",N15="SEM CAPACIDADE")),"Sim","Não")) | S15: =IF('Configurações'!G15="","",'Configurações'!G15) | T15: =IF('Configurações'!D15="","",'Configurações'!D15)
D16: =IF(C16="","",IF(C16<'Configurações'!$B$8,"Manhã",IF(C16<'Configurações'!$B$9,"Tarde","Noite"))) | K16: =IF(COUNTA(G16:J16)=0,"",IF(COUNT(G16:J16)<4,"",SUM(G16:J16))) | L16: =IF(F16="","",IFERROR(VLOOKUP(F16,'Configurações'!$D$2:$E$11,2,FALSE),"")) | M16: =IF(OR(K16="",L16="",L16=0),"",K16/L16) | N16: =IF(COUNTA(A16:C16,E16:J16,O16)=0,"",IF(AND(A16<>"",COUNTIF($A$2:$A$201,A16)>1),"ID DUPLICADO",IF(OR(A16="",B16="",C16="",E16="",F16="",COUNT(G16:J16)<4,O16=""),"INCOMPLETO",IF(L16="","SEM CAPACIDADE",IF(M16>='Configurações'!$B$5,"ATENÇÃO","OK"))))) | P16: =IF(A16="","",IF(AND(O16="Conferido",OR(N16="OK",N16="ATENÇÃO",N16="SEM CAPACIDADE")),"Sim","Não")) | S16: =IF('Configurações'!G16="","",'Configurações'!G16) | T16: =IF('Configurações'!D16="","",'Configurações'!D16)
D17: =IF(C17="","",IF(C17<'Configurações'!$B$8,"Manhã",IF(C17<'Configurações'!$B$9,"Tarde","Noite"))) | K17: =IF(COUNTA(G17:J17)=0,"",IF(COUNT(G17:J17)<4,"",SUM(G17:J17))) | L17: =IF(F17="","",IFERROR(VLOOKUP(F17,'Configurações'!$D$2:$E$11,2,FALSE),"")) | M17: =IF(OR(K17="",L17="",L17=0),"",K17/L17) | N17: =IF(COUNTA(A17:C17,E17:J17,O17)=0,"",IF(AND(A17<>"",COUNTIF($A$2:$A$201,A17)>1),"ID DUPLICADO",IF(OR(A17="",B17="",C17="",E17="",F17="",COUNT(G17:J17)<4,O17=""),"INCOMPLETO",IF(L17="","SEM CAPACIDADE",IF(M17>='Configurações'!$B$5,"ATENÇÃO","OK"))))) | P17: =IF(A17="","",IF(AND(O17="Conferido",OR(N17="OK",N17="ATENÇÃO",N17="SEM CAPACIDADE")),"Sim","Não")) | S17: =IF('Configurações'!G17="","",'Configurações'!G17) | T17: =IF('Configurações'!D17="","",'Configurações'!D17)
D18: =IF(C18="","",IF(C18<'Configurações'!$B$8,"Manhã",IF(C18<'Configurações'!$B$9,"Tarde","Noite"))) | K18: =IF(COUNTA(G18:J18)=0,"",IF(COUNT(G18:J18)<4,"",SUM(G18:J18))) | L18: =IF(F18="","",IFERROR(VLOOKUP(F18,'Configurações'!$D$2:$E$11,2,FALSE),"")) | M18: =IF(OR(K18="",L18="",L18=0),"",K18/L18) | N18: =IF(COUNTA(A18:C18,E18:J18,O18)=0,"",IF(AND(A18<>"",COUNTIF($A$2:$A$201,A18)>1),"ID DUPLICADO",IF(OR(A18="",B18="",C18="",E18="",F18="",COUNT(G18:J18)<4,O18=""),"INCOMPLETO",IF(L18="","SEM CAPACIDADE",IF(M18>='Configurações'!$B$5,"ATENÇÃO","OK"))))) | P18: =IF(A18="","",IF(AND(O18="Conferido",OR(N18="OK",N18="ATENÇÃO",N18="SEM CAPACIDADE")),"Sim","Não")) | S18: =IF('Configurações'!G18="","",'Configurações'!G18) | T18: =IF('Configurações'!D18="","",'Configurações'!D18)
D19: =IF(C19="","",IF(C19<'Configurações'!$B$8,"Manhã",IF(C19<'Configurações'!$B$9,"Tarde","Noite"))) | K19: =IF(COUNTA(G19:J19)=0,"",IF(COUNT(G19:J19)<4,"",SUM(G19:J19))) | L19: =IF(F19="","",IFERROR(VLOOKUP(F19,'Configurações'!$D$2:$E$11,2,FALSE),"")) | M19: =IF(OR(K19="",L19="",L19=0),"",K19/L19) | N19: =IF(COUNTA(A19:C19,E19:J19,O19)=0,"",IF(AND(A19<>"",COUNTIF($A$2:$A$201,A19)>1),"ID DUPLICADO",IF(OR(A19="",B19="",C19="",E19="",F19="",COUNT(G19:J19)<4,O19=""),"INCOMPLETO",IF(L19="","SEM CAPACIDADE",IF(M19>='Configurações'!$B$5,"ATENÇÃO","OK"))))) | P19: =IF(A19="","",IF(AND(O19="Conferido",OR(N19="OK",N19="ATENÇÃO",N19="SEM CAPACIDADE")),"Sim","Não")) | S19: =IF('Configurações'!G19="","",'Configurações'!G19) | T19: =IF('Configurações'!D19="","",'Configurações'!D19)
D20: =IF(C20="","",IF(C20<'Configurações'!$B$8,"Manhã",IF(C20<'Configurações'!$B$9,"Tarde","Noite"))) | K20: =IF(COUNTA(G20:J20)=0,"",IF(COUNT(G20:J20)<4,"",SUM(G20:J20))) | L20: =IF(F20="","",IFERROR(VLOOKUP(F20,'Configurações'!$D$2:$E$11,2,FALSE),"")) | M20: =IF(OR(K20="",L20="",L20=0),"",K20/L20) | N20: =IF(COUNTA(A20:C20,E20:J20,O20)=0,"",IF(AND(A20<>"",COUNTIF($A$2:$A$201,A20)>1),"ID DUPLICADO",IF(OR(A20="",B20="",C20="",E20="",F20="",COUNT(G20:J20)<4,O20=""),"INCOMPLETO",IF(L20="","SEM CAPACIDADE",IF(M20>='Configurações'!$B$5,"ATENÇÃO","OK"))))) | P20: =IF(A20="","",IF(AND(O20="Conferido",OR(N20="OK",N20="ATENÇÃO",N20="SEM CAPACIDADE")),"Sim","Não")) | S20: =IF('Configurações'!G20="","",'Configurações'!G20) | T20: =IF('Configurações'!D20="","",'Configurações'!D20)
D21: =IF(C21="","",IF(C21<'Configurações'!$B$8,"Manhã",IF(C21<'Configurações'!$B$9,"Tarde","Noite"))) | K21: =IF(COUNTA(G21:J21)=0,"",IF(COUNT(G21:J21)<4,"",SUM(G21:J21))) | L21: =IF(F21="","",IFERROR(VLOOKUP(F21,'Configurações'!$D$2:$E$11,2,FALSE),"")) | M21: =IF(OR(K21="",L21="",L21=0),"",K21/L21) | N21: =IF(COUNTA(A21:C21,E21:J21,O21)=0,"",IF(AND(A21<>"",COUNTIF($A$2:$A$201,A21)>1),"ID DUPLICADO",IF(OR(A21="",B21="",C21="",E21="",F21="",COUNT(G21:J21)<4,O21=""),"INCOMPLETO",IF(L21="","SEM CAPACIDADE",IF(M21>='Configurações'!$B$5,"ATENÇÃO","OK"))))) | P21: =IF(A21="","",IF(AND(O21="Conferido",OR(N21="OK",N21="ATENÇÃO",N21="SEM CAPACIDADE")),"Sim","Não")) | S21: =IF('Configurações'!G21="","",'Configurações'!G21) | T21: =IF('Configurações'!D21="","",'Configurações'!D21)
D22: =IF(C22="","",IF(C22<'Configurações'!$B$8,"Manhã",IF(C22<'Configurações'!$B$9,"Tarde","Noite"))) | K22: =IF(COUNTA(G22:J22)=0,"",IF(COUNT(G22:J22)<4,"",SUM(G22:J22))) | L22: =IF(F22="","",IFERROR(VLOOKUP(F22,'Configurações'!$D$2:$E$11,2,FALSE),"")) | M22: =IF(OR(K22="",L22="",L22=0),"",K22/L22) | N22: =IF(COUNTA(A22:C22,E22:J22,O22)=0,"",IF(AND(A22<>"",COUNTIF($A$2:$A$201,A22)>1),"ID DUPLICADO",IF(OR(A22="",B22="",C22="",E22="",F22="",COUNT(G22:J22)<4,O22=""),"INCOMPLETO",IF(L22="","SEM CAPACIDADE",IF(M22>='Configurações'!$B$5,"ATENÇÃO","OK"))))) | P22: =IF(A22="","",IF(AND(O22="Conferido",OR(N22="OK",N22="ATENÇÃO",N22="SEM CAPACIDADE")),"Sim","Não")) | S22: =IF('Configurações'!G22="","",'Configurações'!G22) | T22: =IF('Configurações'!D22="","",'Configurações'!D22)
D23: =IF(C23="","",IF(C23<'Configurações'!$B$8,"Manhã",IF(C23<'Configurações'!$B$9,"Tarde","Noite"))) | K23: =IF(COUNTA(G23:J23)=0,"",IF(COUNT(G23:J23)<4,"",SUM(G23:J23))) | L23: =IF(F23="","",IFERROR(VLOOKUP(F23,'Configurações'!$D$2:$E$11,2,FALSE),"")) | M23: =IF(OR(K23="",L23="",L23=0),"",K23/L23) | N23: =IF(COUNTA(A23:C23,E23:J23,O23)=0,"",IF(AND(A23<>"",COUNTIF($A$2:$A$201,A23)>1),"ID DUPLICADO",IF(OR(A23="",B23="",C23="",E23="",F23="",COUNT(G23:J23)<4,O23=""),"INCOMPLETO",IF(L23="","SEM CAPACIDADE",IF(M23>='Configurações'!$B$5,"ATENÇÃO","OK"))))) | P23: =IF(A23="","",IF(AND(O23="Conferido",OR(N23="OK",N23="ATENÇÃO",N23="SEM CAPACIDADE")),"Sim","Não")) | S23: =IF('Configurações'!G23="","",'Configurações'!G23) | T23: =IF('Configurações'!D23="","",'Configurações'!D23)
... D201: =IF(C201="","",IF(C201<'Configurações'!$B$8,"Manhã",IF(C201<'Configurações'!$B$9,"Tarde","Noite"))) | K201: =IF(COUNTA(G201:J201)=0,"",IF(COUNT(G201:J201)<4,"",SUM(G201:J201))) | L201: =IF(F201="","",IFERROR(VLOOKUP(F201,'Configurações'!$D$2:$E$11,2,FALSE),"")) | M201: =IF(OR(K201="",L201="",L201=0),"",K201/L201) | N201: =IF(COUNTA(A201:C201,E201:J201,O201)=0,"",IF(AND(A201<>"",COUNTIF($A$2:$A$201,A201)>1),"ID DUPLICADO",IF(OR(A201="",B201="",C201="",E201="",F201="",COUNT(G201:J201)<4,O201=""),"INCOMPLETO",IF(L201="","SEM CAPACIDADE",IF(M201>='Configurações'!$B$5,"ATENÇÃO","OK"))))) | P201: =IF(A201="","",IF(AND(O201="Conferido",OR(N201="OK",N201="ATENÇÃO",N201="SEM CAPACIDADE")),"Sim","Não")) | S201: =IF('Configurações'!G201="","",'Configurações'!G201) | T201: =IF('Configurações'!D201="","",'Configurações'!D201)

Sheet Configurações
A1: Parâmetro | B1: Valor | D1: Espaço | E1: Capacidade | G1: Tipo de culto | H1: Período | I1: Conferência
A2: Data inicial do resumo | B2: 46235 | D2: Salão principal | E2: 180 | G2: Culto dominical | H2: Todos | I2: Provisório
A3: Data final do resumo | B3: 46265 | D3: Sala multiuso | E3: 80 | G3: Culto de oração | H3: Manhã | I3: Conferido
A4: Período do dia | B4: Todos | D4: Auditório anexo | E4: 120 | G4: Culto de ensino | H4: Tarde
A5: Limite de atenção da ocupação | B5: 0.85 | G5: Celebração especial | H5: Noite
A6: Data máxima de lançamento | B6: 46276
A7: Data mínima de lançamento | B7: 43831
A8: Início da tarde | B8: 0.5
A9: Início da noite | B9: 0.75
