Workbook

Sheet Resumo
A1: Controle de dízimos e ofertas
A2: Início do período | B2: ='Premissas'!B2
A3: Fim do período | B3: ='Premissas'!B3
A4: Indicador | B4: Resultado
A5: Total registrado no período | B5: =IFERROR(IF(OR(B2="",B3="",B2>B3,B2<'Premissas'!$B$5,B3>'Premissas'!$B$6),"",SUMIFS('Lançamentos'!$E$2:$E$121,'Lançamentos'!$A$2:$A$121,">="&B2,'Lançamentos'!$A$2:$A$121,"<="&B3)),"")
A6: Total registrado em linhas conferidas | B6: =IFERROR(IF(OR(B2="",B3="",B2>B3,B2<'Premissas'!$B$5,B3>'Premissas'!$B$6),"",SUMIFS('Lançamentos'!$E$2:$E$121,'Lançamentos'!$A$2:$A$121,">="&B2,'Lançamentos'!$A$2:$A$121,"<="&B3,'Lançamentos'!$H$2:$H$121,"Conferido")),"")
A7: Total conferido | B7: =IFERROR(IF(OR(B2="",B3="",B2>B3,B2<'Premissas'!$B$5,B3>'Premissas'!$B$6),"",SUMIFS('Lançamentos'!$F$2:$F$121,'Lançamentos'!$A$2:$A$121,">="&B2,'Lançamentos'!$A$2:$A$121,"<="&B3,'Lançamentos'!$H$2:$H$121,"Conferido")),"")
A8: Diferença líquida das linhas conferidas | B8: =IF(OR(B6="",B7=""),"",B7-B6)
A9: Quantidade de lançamentos no período | B9: =IFERROR(IF(OR(B2="",B3="",B2>B3,B2<'Premissas'!$B$5,B3>'Premissas'!$B$6),"",COUNTIFS('Lançamentos'!$A$2:$A$121,">="&B2,'Lançamentos'!$A$2:$A$121,"<="&B3)),"")
A10: Lançamentos a revisar no período | B10: =IFERROR(IF(OR(B2="",B3="",B2>B3,B2<'Premissas'!$B$5,B3>'Premissas'!$B$6),"",COUNTIFS('Lançamentos'!$A$2:$A$121,">="&B2,'Lançamentos'!$A$2:$A$121,"<="&B3,'Lançamentos'!$J$2:$J$121,"<>OK",'Lançamentos'!$J$2:$J$121,"<>")),"")
A11: Linhas incompletas sem data | B11: =COUNTIFS('Lançamentos'!$A$2:$A$121,"",'Lançamentos'!$J$2:$J$121,"INCOMPLETO")
A12: Situação do fechamento | B12: =IFERROR(IF(OR(B2="",B3="",B2>B3,B2<'Premissas'!$B$5,B3>'Premissas'!$B$6),"PERÍODO INVÁLIDO",IF(B10+B11>0,"REVISAR",IF(B9=0,"SEM DADOS","PRONTO PARA FECHAMENTO INTERNO"))),"CONFIGURAR PREMISSAS")
A15: Natureza | B15: Valor registrado | C15: Valor conferido | E15: Forma de recebimento | F15: Valor registrado | G15: Valor conferido
A16: ='Premissas'!E2 | B16: =IFERROR(IF(OR($B$2="",$B$3="",$B$2>$B$3),"",SUMIFS('Lançamentos'!$E$2:$E$121,'Lançamentos'!$A$2:$A$121,">="&$B$2,'Lançamentos'!$A$2:$A$121,"<="&$B$3,'Lançamentos'!$C$2:$C$121,$A16)),"") | C16: =IFERROR(IF(OR($B$2="",$B$3="",$B$2>$B$3),"",SUMIFS('Lançamentos'!$F$2:$F$121,'Lançamentos'!$A$2:$A$121,">="&$B$2,'Lançamentos'!$A$2:$A$121,"<="&$B$3,'Lançamentos'!$C$2:$C$121,$A16,'Lançamentos'!$H$2:$H$121,"Conferido")),"") | E16: ='Premissas'!F2 | F16: =IFERROR(IF(OR($B$2="",$B$3="",$B$2>$B$3),"",SUMIFS('Lançamentos'!$E$2:$E$121,'Lançamentos'!$A$2:$A$121,">="&$B$2,'Lançamentos'!$A$2:$A$121,"<="&$B$3,'Lançamentos'!$D$2:$D$121,$E16)),"") | G16: =IFERROR(IF(OR($B$2="",$B$3="",$B$2>$B$3),"",SUMIFS('Lançamentos'!$F$2:$F$121,'Lançamentos'!$A$2:$A$121,">="&$B$2,'Lançamentos'!$A$2:$A$121,"<="&$B$3,'Lançamentos'!$D$2:$D$121,$E16,'Lançamentos'!$H$2:$H$121,"Conferido")),"")
A17: ='Premissas'!E3 | B17: =IFERROR(IF(OR($B$2="",$B$3="",$B$2>$B$3),"",SUMIFS('Lançamentos'!$E$2:$E$121,'Lançamentos'!$A$2:$A$121,">="&$B$2,'Lançamentos'!$A$2:$A$121,"<="&$B$3,'Lançamentos'!$C$2:$C$121,$A17)),"") | C17: =IFERROR(IF(OR($B$2="",$B$3="",$B$2>$B$3),"",SUMIFS('Lançamentos'!$F$2:$F$121,'Lançamentos'!$A$2:$A$121,">="&$B$2,'Lançamentos'!$A$2:$A$121,"<="&$B$3,'Lançamentos'!$C$2:$C$121,$A17,'Lançamentos'!$H$2:$H$121,"Conferido")),"") | E17: ='Premissas'!F3 | F17: =IFERROR(IF(OR($B$2="",$B$3="",$B$2>$B$3),"",SUMIFS('Lançamentos'!$E$2:$E$121,'Lançamentos'!$A$2:$A$121,">="&$B$2,'Lançamentos'!$A$2:$A$121,"<="&$B$3,'Lançamentos'!$D$2:$D$121,$E17)),"") | G17: =IFERROR(IF(OR($B$2="",$B$3="",$B$2>$B$3),"",SUMIFS('Lançamentos'!$F$2:$F$121,'Lançamentos'!$A$2:$A$121,">="&$B$2,'Lançamentos'!$A$2:$A$121,"<="&$B$3,'Lançamentos'!$D$2:$D$121,$E17,'Lançamentos'!$H$2:$H$121,"Conferido")),"")
A18: ='Premissas'!E4 | B18: =IFERROR(IF(OR($B$2="",$B$3="",$B$2>$B$3),"",SUMIFS('Lançamentos'!$E$2:$E$121,'Lançamentos'!$A$2:$A$121,">="&$B$2,'Lançamentos'!$A$2:$A$121,"<="&$B$3,'Lançamentos'!$C$2:$C$121,$A18)),"") | C18: =IFERROR(IF(OR($B$2="",$B$3="",$B$2>$B$3),"",SUMIFS('Lançamentos'!$F$2:$F$121,'Lançamentos'!$A$2:$A$121,">="&$B$2,'Lançamentos'!$A$2:$A$121,"<="&$B$3,'Lançamentos'!$C$2:$C$121,$A18,'Lançamentos'!$H$2:$H$121,"Conferido")),"") | E18: ='Premissas'!F4 | F18: =IFERROR(IF(OR($B$2="",$B$3="",$B$2>$B$3),"",SUMIFS('Lançamentos'!$E$2:$E$121,'Lançamentos'!$A$2:$A$121,">="&$B$2,'Lançamentos'!$A$2:$A$121,"<="&$B$3,'Lançamentos'!$D$2:$D$121,$E18)),"") | G18: =IFERROR(IF(OR($B$2="",$B$3="",$B$2>$B$3),"",SUMIFS('Lançamentos'!$F$2:$F$121,'Lançamentos'!$A$2:$A$121,">="&$B$2,'Lançamentos'!$A$2:$A$121,"<="&$B$3,'Lançamentos'!$D$2:$D$121,$E18,'Lançamentos'!$H$2:$H$121,"Conferido")),"")
A19: ='Premissas'!E5 | B19: =IFERROR(IF(OR($B$2="",$B$3="",$B$2>$B$3),"",SUMIFS('Lançamentos'!$E$2:$E$121,'Lançamentos'!$A$2:$A$121,">="&$B$2,'Lançamentos'!$A$2:$A$121,"<="&$B$3,'Lançamentos'!$C$2:$C$121,$A19)),"") | C19: =IFERROR(IF(OR($B$2="",$B$3="",$B$2>$B$3),"",SUMIFS('Lançamentos'!$F$2:$F$121,'Lançamentos'!$A$2:$A$121,">="&$B$2,'Lançamentos'!$A$2:$A$121,"<="&$B$3,'Lançamentos'!$C$2:$C$121,$A19,'Lançamentos'!$H$2:$H$121,"Conferido")),"") | E19: ='Premissas'!F5 | F19: =IFERROR(IF(OR($B$2="",$B$3="",$B$2>$B$3),"",SUMIFS('Lançamentos'!$E$2:$E$121,'Lançamentos'!$A$2:$A$121,">="&$B$2,'Lançamentos'!$A$2:$A$121,"<="&$B$3,'Lançamentos'!$D$2:$D$121,$E19)),"") | G19: =IFERROR(IF(OR($B$2="",$B$3="",$B$2>$B$3),"",SUMIFS('Lançamentos'!$F$2:$F$121,'Lançamentos'!$A$2:$A$121,">="&$B$2,'Lançamentos'!$A$2:$A$121,"<="&$B$3,'Lançamentos'!$D$2:$D$121,$E19,'Lançamentos'!$H$2:$H$121,"Conferido")),"")
A20: ='Premissas'!E6 | B20: =IFERROR(IF(OR($B$2="",$B$3="",$B$2>$B$3),"",SUMIFS('Lançamentos'!$E$2:$E$121,'Lançamentos'!$A$2:$A$121,">="&$B$2,'Lançamentos'!$A$2:$A$121,"<="&$B$3,'Lançamentos'!$C$2:$C$121,$A20)),"") | C20: =IFERROR(IF(OR($B$2="",$B$3="",$B$2>$B$3),"",SUMIFS('Lançamentos'!$F$2:$F$121,'Lançamentos'!$A$2:$A$121,">="&$B$2,'Lançamentos'!$A$2:$A$121,"<="&$B$3,'Lançamentos'!$C$2:$C$121,$A20,'Lançamentos'!$H$2:$H$121,"Conferido")),"") | E20: ='Premissas'!F6 | F20: =IFERROR(IF(OR($B$2="",$B$3="",$B$2>$B$3),"",SUMIFS('Lançamentos'!$E$2:$E$121,'Lançamentos'!$A$2:$A$121,">="&$B$2,'Lançamentos'!$A$2:$A$121,"<="&$B$3,'Lançamentos'!$D$2:$D$121,$E20)),"") | G20: =IFERROR(IF(OR($B$2="",$B$3="",$B$2>$B$3),"",SUMIFS('Lançamentos'!$F$2:$F$121,'Lançamentos'!$A$2:$A$121,">="&$B$2,'Lançamentos'!$A$2:$A$121,"<="&$B$3,'Lançamentos'!$D$2:$D$121,$E20,'Lançamentos'!$H$2:$H$121,"Conferido")),"")
A22: Valores registrados podem incluir itens a revisar; consulte o indicador de fechamento.

Sheet Premissas
A1: Premissa | B1: Valor | D1: Cultos/reuniões | E1: Naturezas | F1: Formas | G1: Situações
A2: Início do período do resumo | B2: 46266 | D2: Domingo - manhã | E2: Dízimo | F2: Dinheiro | G2: Pendente
A3: Fim do período do resumo | B3: 46275 | D3: Domingo - noite | E3: Oferta geral | F3: Pix | G3: Conferido
A4: Tolerância de diferença | B4: 0.01 | D4: Reunião de meio de semana | E4: Missões | F4: Cartão
A5: Data mínima permitida | B5: 46023 | D5: Evento especial | E5: Ação social | F5: Transferência
A6: Data máxima permitida | B6: 46275 | E6: Outra oferta | F6: Outro
A8: Use somente valores consolidados. Não informe nomes, documentos, contatos ou outros dados de doadores.

Sheet Lançamentos
A1: Data do culto | B1: Culto/reunião | C1: Natureza | D1: Forma de recebimento | E1: Valor registrado | F1: Valor conferido | G1: Diferença | H1: Situação | I1: Observação administrativa | J1: Alerta | K1: Apoio: cultos | L1: Apoio: naturezas | M1: Apoio: formas | N1: Apoio: situações | O1: Apoio: premissas
A2: 46271 | B2: Domingo - manhã | C2: Dízimo | D2: Dinheiro | E2: 1250 | F2: 1250 | G2: =IF(OR(E2="",F2=""),"",IFERROR(F2-E2,"")) | H2: Conferido | I2: Exemplo fictício 01 | J2: =IFERROR(IF(COUNTA(A2:F2,H2:I2)=0,"",IF(OR('Premissas'!$B$4="",'Premissas'!$B$4<0),"CONFIGURAR PREMISSAS",IF(OR(A2="",B2="",C2="",D2="",E2="",H2=""),"INCOMPLETO",IF(COUNTIFS($A$2:$A$121,A2,$B$2:$B$121,B2,$C$2:$C$121,C2,$D$2:$D$121,D2)>1,"POSSÍVEL DUPLICIDADE",IF(H2="Pendente","PENDENTE",IF(F2="","INCOMPLETO",IF(ABS(G2)>'Premissas'!$B$4,"DIVERGÊNCIA","OK"))))))),"DADO INVÁLIDO") | K2: ='Premissas'!D2 | L2: ='Premissas'!E2 | M2: ='Premissas'!F2 | N2: ='Premissas'!G2 | O2: ='Premissas'!B5
A3: 46271 | B3: Domingo - manhã | C3: Dízimo | D3: Pix | E3: 2380 | F3: 2380 | G3: =IF(OR(E3="",F3=""),"",IFERROR(F3-E3,"")) | H3: Conferido | I3: Exemplo fictício 02 | J3: =IFERROR(IF(COUNTA(A3:F3,H3:I3)=0,"",IF(OR('Premissas'!$B$4="",'Premissas'!$B$4<0),"CONFIGURAR PREMISSAS",IF(OR(A3="",B3="",C3="",D3="",E3="",H3=""),"INCOMPLETO",IF(COUNTIFS($A$2:$A$121,A3,$B$2:$B$121,B3,$C$2:$C$121,C3,$D$2:$D$121,D3)>1,"POSSÍVEL DUPLICIDADE",IF(H3="Pendente","PENDENTE",IF(F3="","INCOMPLETO",IF(ABS(G3)>'Premissas'!$B$4,"DIVERGÊNCIA","OK"))))))),"DADO INVÁLIDO") | K3: ='Premissas'!D3 | L3: ='Premissas'!E3 | M3: ='Premissas'!F3 | N3: ='Premissas'!G3 | O3: ='Premissas'!B6
A4: 46271 | B4: Domingo - manhã | C4: Oferta geral | D4: Dinheiro | E4: 735.5 | F4: 735.5 | G4: =IF(OR(E4="",F4=""),"",IFERROR(F4-E4,"")) | H4: Conferido | I4: Exemplo fictício 03 | J4: =IFERROR(IF(COUNTA(A4:F4,H4:I4)=0,"",IF(OR('Premissas'!$B$4="",'Premissas'!$B$4<0),"CONFIGURAR PREMISSAS",IF(OR(A4="",B4="",C4="",D4="",E4="",H4=""),"INCOMPLETO",IF(COUNTIFS($A$2:$A$121,A4,$B$2:$B$121,B4,$C$2:$C$121,C4,$D$2:$D$121,D4)>1,"POSSÍVEL DUPLICIDADE",IF(H4="Pendente","PENDENTE",IF(F4="","INCOMPLETO",IF(ABS(G4)>'Premissas'!$B$4,"DIVERGÊNCIA","OK"))))))),"DADO INVÁLIDO") | K4: ='Premissas'!D4 | L4: ='Premissas'!E4 | M4: ='Premissas'!F4 | O4: ='Premissas'!B4
A5: 46271 | B5: Domingo - manhã | C5: Oferta geral | D5: Cartão | E5: 420 | F5: 418.5 | G5: =IF(OR(E5="",F5=""),"",IFERROR(F5-E5,"")) | H5: Conferido | I5: Exemplo fictício 04 | J5: =IFERROR(IF(COUNTA(A5:F5,H5:I5)=0,"",IF(OR('Premissas'!$B$4="",'Premissas'!$B$4<0),"CONFIGURAR PREMISSAS",IF(OR(A5="",B5="",C5="",D5="",E5="",H5=""),"INCOMPLETO",IF(COUNTIFS($A$2:$A$121,A5,$B$2:$B$121,B5,$C$2:$C$121,C5,$D$2:$D$121,D5)>1,"POSSÍVEL DUPLICIDADE",IF(H5="Pendente","PENDENTE",IF(F5="","INCOMPLETO",IF(ABS(G5)>'Premissas'!$B$4,"DIVERGÊNCIA","OK"))))))),"DADO INVÁLIDO") | K5: ='Premissas'!D5 | L5: ='Premissas'!E5 | M5: ='Premissas'!F5
A6: 46271 | B6: Domingo - noite | C6: Dízimo | D6: Pix | E6: 1875 | F6: 1875 | G6: =IF(OR(E6="",F6=""),"",IFERROR(F6-E6,"")) | H6: Conferido | I6: Exemplo fictício 05 | J6: =IFERROR(IF(COUNTA(A6:F6,H6:I6)=0,"",IF(OR('Premissas'!$B$4="",'Premissas'!$B$4<0),"CONFIGURAR PREMISSAS",IF(OR(A6="",B6="",C6="",D6="",E6="",H6=""),"INCOMPLETO",IF(COUNTIFS($A$2:$A$121,A6,$B$2:$B$121,B6,$C$2:$C$121,C6,$D$2:$D$121,D6)>1,"POSSÍVEL DUPLICIDADE",IF(H6="Pendente","PENDENTE",IF(F6="","INCOMPLETO",IF(ABS(G6)>'Premissas'!$B$4,"DIVERGÊNCIA","OK"))))))),"DADO INVÁLIDO") | K6: ='Premissas'!D6 | L6: ='Premissas'!E6 | M6: ='Premissas'!F6
A7: 46271 | B7: Domingo - noite | C7: Missões | D7: Dinheiro | E7: 640 | F7: 640 | G7: =IF(OR(E7="",F7=""),"",IFERROR(F7-E7,"")) | H7: Conferido | I7: Exemplo fictício 06 | J7: =IFERROR(IF(COUNTA(A7:F7,H7:I7)=0,"",IF(OR('Premissas'!$B$4="",'Premissas'!$B$4<0),"CONFIGURAR PREMISSAS",IF(OR(A7="",B7="",C7="",D7="",E7="",H7=""),"INCOMPLETO",IF(COUNTIFS($A$2:$A$121,A7,$B$2:$B$121,B7,$C$2:$C$121,C7,$D$2:$D$121,D7)>1,"POSSÍVEL DUPLICIDADE",IF(H7="Pendente","PENDENTE",IF(F7="","INCOMPLETO",IF(ABS(G7)>'Premissas'!$B$4,"DIVERGÊNCIA","OK"))))))),"DADO INVÁLIDO") | K7: ='Premissas'!D7 | L7: ='Premissas'!E7 | M7: ='Premissas'!F7
A8: 46274 | B8: Reunião de meio de semana | C8: Dízimo | D8: Pix | E8: 920 | G8: =IF(OR(E8="",F8=""),"",IFERROR(F8-E8,"")) | H8: Pendente | I8: Exemplo fictício 07 | J8: =IFERROR(IF(COUNTA(A8:F8,H8:I8)=0,"",IF(OR('Premissas'!$B$4="",'Premissas'!$B$4<0),"CONFIGURAR PREMISSAS",IF(OR(A8="",B8="",C8="",D8="",E8="",H8=""),"INCOMPLETO",IF(COUNTIFS($A$2:$A$121,A8,$B$2:$B$121,B8,$C$2:$C$121,C8,$D$2:$D$121,D8)>1,"POSSÍVEL DUPLICIDADE",IF(H8="Pendente","PENDENTE",IF(F8="","INCOMPLETO",IF(ABS(G8)>'Premissas'!$B$4,"DIVERGÊNCIA","OK"))))))),"DADO INVÁLIDO") | K8: ='Premissas'!D8 | L8: ='Premissas'!E8 | M8: ='Premissas'!F8
A9: 46274 | B9: Reunião de meio de semana | C9: Oferta geral | D9: Dinheiro | E9: 310 | F9: 310 | G9: =IF(OR(E9="",F9=""),"",IFERROR(F9-E9,"")) | H9: Conferido | I9: Exemplo fictício 08 | J9: =IFERROR(IF(COUNTA(A9:F9,H9:I9)=0,"",IF(OR('Premissas'!$B$4="",'Premissas'!$B$4<0),"CONFIGURAR PREMISSAS",IF(OR(A9="",B9="",C9="",D9="",E9="",H9=""),"INCOMPLETO",IF(COUNTIFS($A$2:$A$121,A9,$B$2:$B$121,B9,$C$2:$C$121,C9,$D$2:$D$121,D9)>1,"POSSÍVEL DUPLICIDADE",IF(H9="Pendente","PENDENTE",IF(F9="","INCOMPLETO",IF(ABS(G9)>'Premissas'!$B$4,"DIVERGÊNCIA","OK"))))))),"DADO INVÁLIDO") | K9: ='Premissas'!D9 | L9: ='Premissas'!E9 | M9: ='Premissas'!F9
A10: 46274 | B10: Reunião de meio de semana | C10: Ação social | D10: Transferência | E10: 500 | F10: 500 | G10: =IF(OR(E10="",F10=""),"",IFERROR(F10-E10,"")) | H10: Conferido | I10: Exemplo fictício 09 | J10: =IFERROR(IF(COUNTA(A10:F10,H10:I10)=0,"",IF(OR('Premissas'!$B$4="",'Premissas'!$B$4<0),"CONFIGURAR PREMISSAS",IF(OR(A10="",B10="",C10="",D10="",E10="",H10=""),"INCOMPLETO",IF(COUNTIFS($A$2:$A$121,A10,$B$2:$B$121,B10,$C$2:$C$121,C10,$D$2:$D$121,D10)>1,"POSSÍVEL DUPLICIDADE",IF(H10="Pendente","PENDENTE",IF(F10="","INCOMPLETO",IF(ABS(G10)>'Premissas'!$B$4,"DIVERGÊNCIA","OK"))))))),"DADO INVÁLIDO") | K10: ='Premissas'!D10 | L10: ='Premissas'!E10 | M10: ='Premissas'!F10
A11: 46274 | B11: Reunião de meio de semana | C11: Oferta geral | D11: Cartão | E11: 275 | F11: 275 | G11: =IF(OR(E11="",F11=""),"",IFERROR(F11-E11,"")) | H11: Conferido | I11: Exemplo fictício 10 | J11: =IFERROR(IF(COUNTA(A11:F11,H11:I11)=0,"",IF(OR('Premissas'!$B$4="",'Premissas'!$B$4<0),"CONFIGURAR PREMISSAS",IF(OR(A11="",B11="",C11="",D11="",E11="",H11=""),"INCOMPLETO",IF(COUNTIFS($A$2:$A$121,A11,$B$2:$B$121,B11,$C$2:$C$121,C11,$D$2:$D$121,D11)>1,"POSSÍVEL DUPLICIDADE",IF(H11="Pendente","PENDENTE",IF(F11="","INCOMPLETO",IF(ABS(G11)>'Premissas'!$B$4,"DIVERGÊNCIA","OK"))))))),"DADO INVÁLIDO") | K11: ='Premissas'!D11 | L11: ='Premissas'!E11 | M11: ='Premissas'!F11
G12: =IF(OR(E12="",F12=""),"",IFERROR(F12-E12,"")) | J12: =IFERROR(IF(COUNTA(A12:F12,H12:I12)=0,"",IF(OR('Premissas'!$B$4="",'Premissas'!$B$4<0),"CONFIGURAR PREMISSAS",IF(OR(A12="",B12="",C12="",D12="",E12="",H12=""),"INCOMPLETO",IF(COUNTIFS($A$2:$A$121,A12,$B$2:$B$121,B12,$C$2:$C$121,C12,$D$2:$D$121,D12)>1,"POSSÍVEL DUPLICIDADE",IF(H12="Pendente","PENDENTE",IF(F12="","INCOMPLETO",IF(ABS(G12)>'Premissas'!$B$4,"DIVERGÊNCIA","OK"))))))),"DADO INVÁLIDO") | K12: ='Premissas'!D12 | L12: ='Premissas'!E12 | M12: ='Premissas'!F12
G13: =IF(OR(E13="",F13=""),"",IFERROR(F13-E13,"")) | J13: =IFERROR(IF(COUNTA(A13:F13,H13:I13)=0,"",IF(OR('Premissas'!$B$4="",'Premissas'!$B$4<0),"CONFIGURAR PREMISSAS",IF(OR(A13="",B13="",C13="",D13="",E13="",H13=""),"INCOMPLETO",IF(COUNTIFS($A$2:$A$121,A13,$B$2:$B$121,B13,$C$2:$C$121,C13,$D$2:$D$121,D13)>1,"POSSÍVEL DUPLICIDADE",IF(H13="Pendente","PENDENTE",IF(F13="","INCOMPLETO",IF(ABS(G13)>'Premissas'!$B$4,"DIVERGÊNCIA","OK"))))))),"DADO INVÁLIDO") | K13: ='Premissas'!D13 | L13: ='Premissas'!E13 | M13: ='Premissas'!F13
G14: =IF(OR(E14="",F14=""),"",IFERROR(F14-E14,"")) | J14: =IFERROR(IF(COUNTA(A14:F14,H14:I14)=0,"",IF(OR('Premissas'!$B$4="",'Premissas'!$B$4<0),"CONFIGURAR PREMISSAS",IF(OR(A14="",B14="",C14="",D14="",E14="",H14=""),"INCOMPLETO",IF(COUNTIFS($A$2:$A$121,A14,$B$2:$B$121,B14,$C$2:$C$121,C14,$D$2:$D$121,D14)>1,"POSSÍVEL DUPLICIDADE",IF(H14="Pendente","PENDENTE",IF(F14="","INCOMPLETO",IF(ABS(G14)>'Premissas'!$B$4,"DIVERGÊNCIA","OK"))))))),"DADO INVÁLIDO") | K14: ='Premissas'!D14 | L14: ='Premissas'!E14 | M14: ='Premissas'!F14
G15: =IF(OR(E15="",F15=""),"",IFERROR(F15-E15,"")) | J15: =IFERROR(IF(COUNTA(A15:F15,H15:I15)=0,"",IF(OR('Premissas'!$B$4="",'Premissas'!$B$4<0),"CONFIGURAR PREMISSAS",IF(OR(A15="",B15="",C15="",D15="",E15="",H15=""),"INCOMPLETO",IF(COUNTIFS($A$2:$A$121,A15,$B$2:$B$121,B15,$C$2:$C$121,C15,$D$2:$D$121,D15)>1,"POSSÍVEL DUPLICIDADE",IF(H15="Pendente","PENDENTE",IF(F15="","INCOMPLETO",IF(ABS(G15)>'Premissas'!$B$4,"DIVERGÊNCIA","OK"))))))),"DADO INVÁLIDO") | K15: ='Premissas'!D15 | L15: ='Premissas'!E15 | M15: ='Premissas'!F15
G16: =IF(OR(E16="",F16=""),"",IFERROR(F16-E16,"")) | J16: =IFERROR(IF(COUNTA(A16:F16,H16:I16)=0,"",IF(OR('Premissas'!$B$4="",'Premissas'!$B$4<0),"CONFIGURAR PREMISSAS",IF(OR(A16="",B16="",C16="",D16="",E16="",H16=""),"INCOMPLETO",IF(COUNTIFS($A$2:$A$121,A16,$B$2:$B$121,B16,$C$2:$C$121,C16,$D$2:$D$121,D16)>1,"POSSÍVEL DUPLICIDADE",IF(H16="Pendente","PENDENTE",IF(F16="","INCOMPLETO",IF(ABS(G16)>'Premissas'!$B$4,"DIVERGÊNCIA","OK"))))))),"DADO INVÁLIDO") | K16: ='Premissas'!D16 | L16: ='Premissas'!E16 | M16: ='Premissas'!F16
G17: =IF(OR(E17="",F17=""),"",IFERROR(F17-E17,"")) | J17: =IFERROR(IF(COUNTA(A17:F17,H17:I17)=0,"",IF(OR('Premissas'!$B$4="",'Premissas'!$B$4<0),"CONFIGURAR PREMISSAS",IF(OR(A17="",B17="",C17="",D17="",E17="",H17=""),"INCOMPLETO",IF(COUNTIFS($A$2:$A$121,A17,$B$2:$B$121,B17,$C$2:$C$121,C17,$D$2:$D$121,D17)>1,"POSSÍVEL DUPLICIDADE",IF(H17="Pendente","PENDENTE",IF(F17="","INCOMPLETO",IF(ABS(G17)>'Premissas'!$B$4,"DIVERGÊNCIA","OK"))))))),"DADO INVÁLIDO") | K17: ='Premissas'!D17 | L17: ='Premissas'!E17 | M17: ='Premissas'!F17
G18: =IF(OR(E18="",F18=""),"",IFERROR(F18-E18,"")) | J18: =IFERROR(IF(COUNTA(A18:F18,H18:I18)=0,"",IF(OR('Premissas'!$B$4="",'Premissas'!$B$4<0),"CONFIGURAR PREMISSAS",IF(OR(A18="",B18="",C18="",D18="",E18="",H18=""),"INCOMPLETO",IF(COUNTIFS($A$2:$A$121,A18,$B$2:$B$121,B18,$C$2:$C$121,C18,$D$2:$D$121,D18)>1,"POSSÍVEL DUPLICIDADE",IF(H18="Pendente","PENDENTE",IF(F18="","INCOMPLETO",IF(ABS(G18)>'Premissas'!$B$4,"DIVERGÊNCIA","OK"))))))),"DADO INVÁLIDO") | K18: ='Premissas'!D18 | L18: ='Premissas'!E18 | M18: ='Premissas'!F18
G19: =IF(OR(E19="",F19=""),"",IFERROR(F19-E19,"")) | J19: =IFERROR(IF(COUNTA(A19:F19,H19:I19)=0,"",IF(OR('Premissas'!$B$4="",'Premissas'!$B$4<0),"CONFIGURAR PREMISSAS",IF(OR(A19="",B19="",C19="",D19="",E19="",H19=""),"INCOMPLETO",IF(COUNTIFS($A$2:$A$121,A19,$B$2:$B$121,B19,$C$2:$C$121,C19,$D$2:$D$121,D19)>1,"POSSÍVEL DUPLICIDADE",IF(H19="Pendente","PENDENTE",IF(F19="","INCOMPLETO",IF(ABS(G19)>'Premissas'!$B$4,"DIVERGÊNCIA","OK"))))))),"DADO INVÁLIDO") | K19: ='Premissas'!D19 | L19: ='Premissas'!E19 | M19: ='Premissas'!F19
G20: =IF(OR(E20="",F20=""),"",IFERROR(F20-E20,"")) | J20: =IFERROR(IF(COUNTA(A20:F20,H20:I20)=0,"",IF(OR('Premissas'!$B$4="",'Premissas'!$B$4<0),"CONFIGURAR PREMISSAS",IF(OR(A20="",B20="",C20="",D20="",E20="",H20=""),"INCOMPLETO",IF(COUNTIFS($A$2:$A$121,A20,$B$2:$B$121,B20,$C$2:$C$121,C20,$D$2:$D$121,D20)>1,"POSSÍVEL DUPLICIDADE",IF(H20="Pendente","PENDENTE",IF(F20="","INCOMPLETO",IF(ABS(G20)>'Premissas'!$B$4,"DIVERGÊNCIA","OK"))))))),"DADO INVÁLIDO") | K20: ='Premissas'!D20 | L20: ='Premissas'!E20 | M20: ='Premissas'!F20
G21: =IF(OR(E21="",F21=""),"",IFERROR(F21-E21,"")) | J21: =IFERROR(IF(COUNTA(A21:F21,H21:I21)=0,"",IF(OR('Premissas'!$B$4="",'Premissas'!$B$4<0),"CONFIGURAR PREMISSAS",IF(OR(A21="",B21="",C21="",D21="",E21="",H21=""),"INCOMPLETO",IF(COUNTIFS($A$2:$A$121,A21,$B$2:$B$121,B21,$C$2:$C$121,C21,$D$2:$D$121,D21)>1,"POSSÍVEL DUPLICIDADE",IF(H21="Pendente","PENDENTE",IF(F21="","INCOMPLETO",IF(ABS(G21)>'Premissas'!$B$4,"DIVERGÊNCIA","OK"))))))),"DADO INVÁLIDO") | K21: ='Premissas'!D21 | L21: ='Premissas'!E21 | M21: ='Premissas'!F21
G22: =IF(OR(E22="",F22=""),"",IFERROR(F22-E22,"")) | J22: =IFERROR(IF(COUNTA(A22:F22,H22:I22)=0,"",IF(OR('Premissas'!$B$4="",'Premissas'!$B$4<0),"CONFIGURAR PREMISSAS",IF(OR(A22="",B22="",C22="",D22="",E22="",H22=""),"INCOMPLETO",IF(COUNTIFS($A$2:$A$121,A22,$B$2:$B$121,B22,$C$2:$C$121,C22,$D$2:$D$121,D22)>1,"POSSÍVEL DUPLICIDADE",IF(H22="Pendente","PENDENTE",IF(F22="","INCOMPLETO",IF(ABS(G22)>'Premissas'!$B$4,"DIVERGÊNCIA","OK"))))))),"DADO INVÁLIDO") | K22: ='Premissas'!D22 | L22: ='Premissas'!E22 | M22: ='Premissas'!F22
G23: =IF(OR(E23="",F23=""),"",IFERROR(F23-E23,"")) | J23: =IFERROR(IF(COUNTA(A23:F23,H23:I23)=0,"",IF(OR('Premissas'!$B$4="",'Premissas'!$B$4<0),"CONFIGURAR PREMISSAS",IF(OR(A23="",B23="",C23="",D23="",E23="",H23=""),"INCOMPLETO",IF(COUNTIFS($A$2:$A$121,A23,$B$2:$B$121,B23,$C$2:$C$121,C23,$D$2:$D$121,D23)>1,"POSSÍVEL DUPLICIDADE",IF(H23="Pendente","PENDENTE",IF(F23="","INCOMPLETO",IF(ABS(G23)>'Premissas'!$B$4,"DIVERGÊNCIA","OK"))))))),"DADO INVÁLIDO") | K23: ='Premissas'!D23 | L23: ='Premissas'!E23 | M23: ='Premissas'!F23
... G121: =IF(OR(E121="",F121=""),"",IFERROR(F121-E121,"")) | J121: =IFERROR(IF(COUNTA(A121:F121,H121:I121)=0,"",IF(OR('Premissas'!$B$4="",'Premissas'!$B$4<0),"CONFIGURAR PREMISSAS",IF(OR(A121="",B121="",C121="",D121="",E121="",H121=""),"INCOMPLETO",IF(COUNTIFS($A$2:$A$121,A121,$B$2:$B$121,B121,$C$2:$C$121,C121,$D$2:$D$121,D121)>1,"POSSÍVEL DUPLICIDADE",IF(H121="Pendente","PENDENTE",IF(F121="","INCOMPLETO",IF(ABS(G121)>'Premissas'!$B$4,"DIVERGÊNCIA","OK"))))))),"DADO INVÁLIDO") | K121: ='Premissas'!D121 | L121: ='Premissas'!E121 | M121: ='Premissas'!F121
A123: Células amarelas: entrada autorizada. Células cinza: cálculo automático — não editar.
