Workbook

Sheet Resumo
A1: Resumo da conciliação bancária — exemplo fictício
A3: Indicador | B3: Valor
A4: Início do período | B4: =IFERROR(Premissas!$B$6,"")
A5: Fim do período | B5: =IFERROR(Premissas!$B$7,"")
A6: Saldo inicial do extrato | B6: =IFERROR(Premissas!$B$5,"")
A7: Entradas no extrato | B7: =IF(OR(Premissas!$B$6="",Premissas!$B$7="",Premissas!$B$7<Premissas!$B$6),"",IFERROR(SUMIFS('Extrato bancário'!$D$4:$D$103,'Extrato bancário'!$C$4:$C$103,Premissas!$D$4,'Extrato bancário'!$A$4:$A$103,">="&Premissas!$B$6,'Extrato bancário'!$A$4:$A$103,"<="&Premissas!$B$7),0))
A8: Saídas no extrato | B8: =IF(OR(Premissas!$B$6="",Premissas!$B$7="",Premissas!$B$7<Premissas!$B$6),"",IFERROR(SUMIFS('Extrato bancário'!$D$4:$D$103,'Extrato bancário'!$C$4:$C$103,Premissas!$D$5,'Extrato bancário'!$A$4:$A$103,">="&Premissas!$B$6,'Extrato bancário'!$A$4:$A$103,"<="&Premissas!$B$7),0))
A9: Movimento líquido no extrato | B9: =IF(OR(Premissas!$B$6="",Premissas!$B$7="",Premissas!$B$7<Premissas!$B$6),"",IFERROR(SUMIFS('Extrato bancário'!$F$4:$F$103,'Extrato bancário'!$A$4:$A$103,">="&Premissas!$B$6,'Extrato bancário'!$A$4:$A$103,"<="&Premissas!$B$7),0))
A10: Saldo final calculado | B10: =IF(OR(B6="",B9=""),"",B6+B9)
A11: Lançamentos no extrato | B11: =IF(OR(Premissas!$B$6="",Premissas!$B$7="",Premissas!$B$7<Premissas!$B$6),"",IFERROR(COUNTIFS('Extrato bancário'!$A$4:$A$103,">="&Premissas!$B$6,'Extrato bancário'!$A$4:$A$103,"<="&Premissas!$B$7),0))
A12: Lançamentos conciliados no extrato | B12: =IF(OR(Premissas!$B$6="",Premissas!$B$7="",Premissas!$B$7<Premissas!$B$6),"",IFERROR(COUNTIFS('Extrato bancário'!$A$4:$A$103,">="&Premissas!$B$6,'Extrato bancário'!$A$4:$A$103,"<="&Premissas!$B$7,'Extrato bancário'!$I$4:$I$103,"Conciliado"),0))
A13: Lançamentos pendentes no extrato | B13: =IF(OR(Premissas!$B$6="",Premissas!$B$7="",Premissas!$B$7<Premissas!$B$6),"",IFERROR(COUNTIFS('Extrato bancário'!$A$4:$A$103,">="&Premissas!$B$6,'Extrato bancário'!$A$4:$A$103,"<="&Premissas!$B$7,'Extrato bancário'!$I$4:$I$103,"Pendente*"),0))
A14: Diferenças pendentes | B14: =IF(OR(Premissas!$B$6="",Premissas!$B$7="",Premissas!$B$7<Premissas!$B$6),"",IFERROR(SUMIFS('Extrato bancário'!$J$4:$J$103,'Extrato bancário'!$A$4:$A$103,">="&Premissas!$B$6,'Extrato bancário'!$A$4:$A$103,"<="&Premissas!$B$7),0))
A15: Entradas no registro interno | B15: =IF(OR(Premissas!$B$6="",Premissas!$B$7="",Premissas!$B$7<Premissas!$B$6),"",IFERROR(SUMIFS('Registro interno'!$G$4:$G$103,'Registro interno'!$F$4:$F$103,Premissas!$D$4,'Registro interno'!$A$4:$A$103,">="&Premissas!$B$6,'Registro interno'!$A$4:$A$103,"<="&Premissas!$B$7),0))
A16: Saídas no registro interno | B16: =IF(OR(Premissas!$B$6="",Premissas!$B$7="",Premissas!$B$7<Premissas!$B$6),"",IFERROR(SUMIFS('Registro interno'!$G$4:$G$103,'Registro interno'!$F$4:$F$103,Premissas!$D$5,'Registro interno'!$A$4:$A$103,">="&Premissas!$B$6,'Registro interno'!$A$4:$A$103,"<="&Premissas!$B$7),0))
A17: Movimento líquido no registro interno | B17: =IF(OR(Premissas!$B$6="",Premissas!$B$7="",Premissas!$B$7<Premissas!$B$6),"",IFERROR(SUMIFS('Registro interno'!$H$4:$H$103,'Registro interno'!$A$4:$A$103,">="&Premissas!$B$6,'Registro interno'!$A$4:$A$103,"<="&Premissas!$B$7),0))
A18: Lançamentos no registro interno | B18: =IF(OR(Premissas!$B$6="",Premissas!$B$7="",Premissas!$B$7<Premissas!$B$6),"",IFERROR(COUNTIFS('Registro interno'!$A$4:$A$103,">="&Premissas!$B$6,'Registro interno'!$A$4:$A$103,"<="&Premissas!$B$7),0))
A19: Registros internos conciliados | B19: =IF(OR(Premissas!$B$6="",Premissas!$B$7="",Premissas!$B$7<Premissas!$B$6),"",IFERROR(COUNTIFS('Registro interno'!$A$4:$A$103,">="&Premissas!$B$6,'Registro interno'!$A$4:$A$103,"<="&Premissas!$B$7,'Registro interno'!$K$4:$K$103,"Conciliado"),0))
A20: Registros internos pendentes | B20: =IF(OR(Premissas!$B$6="",Premissas!$B$7="",Premissas!$B$7<Premissas!$B$6),"",IFERROR(COUNTIFS('Registro interno'!$A$4:$A$103,">="&Premissas!$B$6,'Registro interno'!$A$4:$A$103,"<="&Premissas!$B$7,'Registro interno'!$K$4:$K$103,"Pendente*"),0))
A21: Divergência líquida do período | B21: =IF(OR(B9="",B17=""),"",B9-B17)

Sheet Extrato bancário
A1: Extrato bancário para conciliação — exemplos fictícios
K2: =Premissas!$B$6
A3: Data | B3: Descrição | C3: Tipo | D3: Valor | E3: Referência | F3: Valor líquido | G3: Total interno vinculado | H3: Diferença | I3: Situação | J3: Diferença pendente | K3: =Premissas!$B$7
A4: 46266 | B4: Exemplo fictício: contribuição simulada Alfa | C4: Entrada | D4: 1500 | E4: FIC-2026-001 | F4: =IF(OR(A4="",C4="",D4=""),"",IF(C4=Premissas!$D$4,D4,IF(C4=Premissas!$D$5,-D4,""))) | G4: =IF(OR(A4="",E4=""),"",IFERROR(SUMIF('Registro interno'!$E$4:$E$103,E4,'Registro interno'!$H$4:$H$103),0)) | H4: =IF(OR(F4="",G4=""),"",F4-G4) | I4: =IF(A4="","",IF(OR(B4="",C4="",D4=""),"Pendente: completar dados",IF(E4="","Pendente: informar referência",IF(COUNTIF('Registro interno'!$E$4:$E$103,E4)=0,"Pendente: sem registro interno",IF(H4="","Pendente: completar dados",IF(ABS(H4)<=Premissas!$B$4,"Conciliado","Pendente: conferir diferença")))))) | J4: =IF(OR(A4="",H4="",I4=""),"",IF(LEFT(I4,8)="Pendente",ABS(H4),"")) | K4: =Premissas!$D$4
A5: 46267 | B5: Exemplo fictício: material administrativo simulado | C5: Saída | D5: 320 | E5: FIC-2026-002 | F5: =IF(OR(A5="",C5="",D5=""),"",IF(C5=Premissas!$D$4,D5,IF(C5=Premissas!$D$5,-D5,""))) | G5: =IF(OR(A5="",E5=""),"",IFERROR(SUMIF('Registro interno'!$E$4:$E$103,E5,'Registro interno'!$H$4:$H$103),0)) | H5: =IF(OR(F5="",G5=""),"",F5-G5) | I5: =IF(A5="","",IF(OR(B5="",C5="",D5=""),"Pendente: completar dados",IF(E5="","Pendente: informar referência",IF(COUNTIF('Registro interno'!$E$4:$E$103,E5)=0,"Pendente: sem registro interno",IF(H5="","Pendente: completar dados",IF(ABS(H5)<=Premissas!$B$4,"Conciliado","Pendente: conferir diferença")))))) | J5: =IF(OR(A5="",H5="",I5=""),"",IF(LEFT(I5,8)="Pendente",ABS(H5),"")) | K5: =Premissas!$D$5
A6: 46268 | B6: Exemplo fictício: recebimento de evento simulado | C6: Entrada | D6: 780 | E6: FIC-2026-003 | F6: =IF(OR(A6="",C6="",D6=""),"",IF(C6=Premissas!$D$4,D6,IF(C6=Premissas!$D$5,-D6,""))) | G6: =IF(OR(A6="",E6=""),"",IFERROR(SUMIF('Registro interno'!$E$4:$E$103,E6,'Registro interno'!$H$4:$H$103),0)) | H6: =IF(OR(F6="",G6=""),"",F6-G6) | I6: =IF(A6="","",IF(OR(B6="",C6="",D6=""),"Pendente: completar dados",IF(E6="","Pendente: informar referência",IF(COUNTIF('Registro interno'!$E$4:$E$103,E6)=0,"Pendente: sem registro interno",IF(H6="","Pendente: completar dados",IF(ABS(H6)<=Premissas!$B$4,"Conciliado","Pendente: conferir diferença")))))) | J6: =IF(OR(A6="",H6="",I6=""),"",IF(LEFT(I6,8)="Pendente",ABS(H6),""))
A7: 46269 | B7: Exemplo fictício: manutenção predial simulada | C7: Saída | D7: 450 | E7: FIC-2026-004 | F7: =IF(OR(A7="",C7="",D7=""),"",IF(C7=Premissas!$D$4,D7,IF(C7=Premissas!$D$5,-D7,""))) | G7: =IF(OR(A7="",E7=""),"",IFERROR(SUMIF('Registro interno'!$E$4:$E$103,E7,'Registro interno'!$H$4:$H$103),0)) | H7: =IF(OR(F7="",G7=""),"",F7-G7) | I7: =IF(A7="","",IF(OR(B7="",C7="",D7=""),"Pendente: completar dados",IF(E7="","Pendente: informar referência",IF(COUNTIF('Registro interno'!$E$4:$E$103,E7)=0,"Pendente: sem registro interno",IF(H7="","Pendente: completar dados",IF(ABS(H7)<=Premissas!$B$4,"Conciliado","Pendente: conferir diferença")))))) | J7: =IF(OR(A7="",H7="",I7=""),"",IF(LEFT(I7,8)="Pendente",ABS(H7),""))
A8: 46270 | B8: Exemplo fictício: reembolso recebido em simulação | C8: Entrada | D8: 200 | E8: FIC-2026-005 | F8: =IF(OR(A8="",C8="",D8=""),"",IF(C8=Premissas!$D$4,D8,IF(C8=Premissas!$D$5,-D8,""))) | G8: =IF(OR(A8="",E8=""),"",IFERROR(SUMIF('Registro interno'!$E$4:$E$103,E8,'Registro interno'!$H$4:$H$103),0)) | H8: =IF(OR(F8="",G8=""),"",F8-G8) | I8: =IF(A8="","",IF(OR(B8="",C8="",D8=""),"Pendente: completar dados",IF(E8="","Pendente: informar referência",IF(COUNTIF('Registro interno'!$E$4:$E$103,E8)=0,"Pendente: sem registro interno",IF(H8="","Pendente: completar dados",IF(ABS(H8)<=Premissas!$B$4,"Conciliado","Pendente: conferir diferença")))))) | J8: =IF(OR(A8="",H8="",I8=""),"",IF(LEFT(I8,8)="Pendente",ABS(H8),""))
A9: 46271 | B9: Exemplo fictício: consumo administrativo simulado | C9: Saída | D9: 125 | E9: FIC-2026-006 | F9: =IF(OR(A9="",C9="",D9=""),"",IF(C9=Premissas!$D$4,D9,IF(C9=Premissas!$D$5,-D9,""))) | G9: =IF(OR(A9="",E9=""),"",IFERROR(SUMIF('Registro interno'!$E$4:$E$103,E9,'Registro interno'!$H$4:$H$103),0)) | H9: =IF(OR(F9="",G9=""),"",F9-G9) | I9: =IF(A9="","",IF(OR(B9="",C9="",D9=""),"Pendente: completar dados",IF(E9="","Pendente: informar referência",IF(COUNTIF('Registro interno'!$E$4:$E$103,E9)=0,"Pendente: sem registro interno",IF(H9="","Pendente: completar dados",IF(ABS(H9)<=Premissas!$B$4,"Conciliado","Pendente: conferir diferença")))))) | J9: =IF(OR(A9="",H9="",I9=""),"",IF(LEFT(I9,8)="Pendente",ABS(H9),""))
A10: 46272 | B10: Exemplo fictício: atividade comunitária simulada | C10: Entrada | D10: 940 | E10: FIC-2026-007 | F10: =IF(OR(A10="",C10="",D10=""),"",IF(C10=Premissas!$D$4,D10,IF(C10=Premissas!$D$5,-D10,""))) | G10: =IF(OR(A10="",E10=""),"",IFERROR(SUMIF('Registro interno'!$E$4:$E$103,E10,'Registro interno'!$H$4:$H$103),0)) | H10: =IF(OR(F10="",G10=""),"",F10-G10) | I10: =IF(A10="","",IF(OR(B10="",C10="",D10=""),"Pendente: completar dados",IF(E10="","Pendente: informar referência",IF(COUNTIF('Registro interno'!$E$4:$E$103,E10)=0,"Pendente: sem registro interno",IF(H10="","Pendente: completar dados",IF(ABS(H10)<=Premissas!$B$4,"Conciliado","Pendente: conferir diferença")))))) | J10: =IF(OR(A10="",H10="",I10=""),"",IF(LEFT(I10,8)="Pendente",ABS(H10),""))
A11: 46273 | B11: Exemplo fictício: impressão de materiais simulada | C11: Saída | D11: 210.5 | E11: FIC-2026-008 | F11: =IF(OR(A11="",C11="",D11=""),"",IF(C11=Premissas!$D$4,D11,IF(C11=Premissas!$D$5,-D11,""))) | G11: =IF(OR(A11="",E11=""),"",IFERROR(SUMIF('Registro interno'!$E$4:$E$103,E11,'Registro interno'!$H$4:$H$103),0)) | H11: =IF(OR(F11="",G11=""),"",F11-G11) | I11: =IF(A11="","",IF(OR(B11="",C11="",D11=""),"Pendente: completar dados",IF(E11="","Pendente: informar referência",IF(COUNTIF('Registro interno'!$E$4:$E$103,E11)=0,"Pendente: sem registro interno",IF(H11="","Pendente: completar dados",IF(ABS(H11)<=Premissas!$B$4,"Conciliado","Pendente: conferir diferença")))))) | J11: =IF(OR(A11="",H11="",I11=""),"",IF(LEFT(I11,8)="Pendente",ABS(H11),""))
A12: 46274 | B12: Exemplo fictício: oferta simulada Beta | C12: Entrada | D12: 350 | E12: FIC-2026-009 | F12: =IF(OR(A12="",C12="",D12=""),"",IF(C12=Premissas!$D$4,D12,IF(C12=Premissas!$D$5,-D12,""))) | G12: =IF(OR(A12="",E12=""),"",IFERROR(SUMIF('Registro interno'!$E$4:$E$103,E12,'Registro interno'!$H$4:$H$103),0)) | H12: =IF(OR(F12="",G12=""),"",F12-G12) | I12: =IF(A12="","",IF(OR(B12="",C12="",D12=""),"Pendente: completar dados",IF(E12="","Pendente: informar referência",IF(COUNTIF('Registro interno'!$E$4:$E$103,E12)=0,"Pendente: sem registro interno",IF(H12="","Pendente: completar dados",IF(ABS(H12)<=Premissas!$B$4,"Conciliado","Pendente: conferir diferença")))))) | J12: =IF(OR(A12="",H12="",I12=""),"",IF(LEFT(I12,8)="Pendente",ABS(H12),""))
A13: 46274 | B13: Exemplo fictício: materiais de limpeza simulados | C13: Saída | D13: 89.9 | E13: FIC-2026-010 | F13: =IF(OR(A13="",C13="",D13=""),"",IF(C13=Premissas!$D$4,D13,IF(C13=Premissas!$D$5,-D13,""))) | G13: =IF(OR(A13="",E13=""),"",IFERROR(SUMIF('Registro interno'!$E$4:$E$103,E13,'Registro interno'!$H$4:$H$103),0)) | H13: =IF(OR(F13="",G13=""),"",F13-G13) | I13: =IF(A13="","",IF(OR(B13="",C13="",D13=""),"Pendente: completar dados",IF(E13="","Pendente: informar referência",IF(COUNTIF('Registro interno'!$E$4:$E$103,E13)=0,"Pendente: sem registro interno",IF(H13="","Pendente: completar dados",IF(ABS(H13)<=Premissas!$B$4,"Conciliado","Pendente: conferir diferença")))))) | J13: =IF(OR(A13="",H13="",I13=""),"",IF(LEFT(I13,8)="Pendente",ABS(H13),""))
F14: =IF(OR(A14="",C14="",D14=""),"",IF(C14=Premissas!$D$4,D14,IF(C14=Premissas!$D$5,-D14,""))) | G14: =IF(OR(A14="",E14=""),"",IFERROR(SUMIF('Registro interno'!$E$4:$E$103,E14,'Registro interno'!$H$4:$H$103),0)) | H14: =IF(OR(F14="",G14=""),"",F14-G14) | I14: =IF(A14="","",IF(OR(B14="",C14="",D14=""),"Pendente: completar dados",IF(E14="","Pendente: informar referência",IF(COUNTIF('Registro interno'!$E$4:$E$103,E14)=0,"Pendente: sem registro interno",IF(H14="","Pendente: completar dados",IF(ABS(H14)<=Premissas!$B$4,"Conciliado","Pendente: conferir diferença")))))) | J14: =IF(OR(A14="",H14="",I14=""),"",IF(LEFT(I14,8)="Pendente",ABS(H14),""))
F15: =IF(OR(A15="",C15="",D15=""),"",IF(C15=Premissas!$D$4,D15,IF(C15=Premissas!$D$5,-D15,""))) | G15: =IF(OR(A15="",E15=""),"",IFERROR(SUMIF('Registro interno'!$E$4:$E$103,E15,'Registro interno'!$H$4:$H$103),0)) | H15: =IF(OR(F15="",G15=""),"",F15-G15) | I15: =IF(A15="","",IF(OR(B15="",C15="",D15=""),"Pendente: completar dados",IF(E15="","Pendente: informar referência",IF(COUNTIF('Registro interno'!$E$4:$E$103,E15)=0,"Pendente: sem registro interno",IF(H15="","Pendente: completar dados",IF(ABS(H15)<=Premissas!$B$4,"Conciliado","Pendente: conferir diferença")))))) | J15: =IF(OR(A15="",H15="",I15=""),"",IF(LEFT(I15,8)="Pendente",ABS(H15),""))
F16: =IF(OR(A16="",C16="",D16=""),"",IF(C16=Premissas!$D$4,D16,IF(C16=Premissas!$D$5,-D16,""))) | G16: =IF(OR(A16="",E16=""),"",IFERROR(SUMIF('Registro interno'!$E$4:$E$103,E16,'Registro interno'!$H$4:$H$103),0)) | H16: =IF(OR(F16="",G16=""),"",F16-G16) | I16: =IF(A16="","",IF(OR(B16="",C16="",D16=""),"Pendente: completar dados",IF(E16="","Pendente: informar referência",IF(COUNTIF('Registro interno'!$E$4:$E$103,E16)=0,"Pendente: sem registro interno",IF(H16="","Pendente: completar dados",IF(ABS(H16)<=Premissas!$B$4,"Conciliado","Pendente: conferir diferença")))))) | J16: =IF(OR(A16="",H16="",I16=""),"",IF(LEFT(I16,8)="Pendente",ABS(H16),""))
F17: =IF(OR(A17="",C17="",D17=""),"",IF(C17=Premissas!$D$4,D17,IF(C17=Premissas!$D$5,-D17,""))) | G17: =IF(OR(A17="",E17=""),"",IFERROR(SUMIF('Registro interno'!$E$4:$E$103,E17,'Registro interno'!$H$4:$H$103),0)) | H17: =IF(OR(F17="",G17=""),"",F17-G17) | I17: =IF(A17="","",IF(OR(B17="",C17="",D17=""),"Pendente: completar dados",IF(E17="","Pendente: informar referência",IF(COUNTIF('Registro interno'!$E$4:$E$103,E17)=0,"Pendente: sem registro interno",IF(H17="","Pendente: completar dados",IF(ABS(H17)<=Premissas!$B$4,"Conciliado","Pendente: conferir diferença")))))) | J17: =IF(OR(A17="",H17="",I17=""),"",IF(LEFT(I17,8)="Pendente",ABS(H17),""))
F18: =IF(OR(A18="",C18="",D18=""),"",IF(C18=Premissas!$D$4,D18,IF(C18=Premissas!$D$5,-D18,""))) | G18: =IF(OR(A18="",E18=""),"",IFERROR(SUMIF('Registro interno'!$E$4:$E$103,E18,'Registro interno'!$H$4:$H$103),0)) | H18: =IF(OR(F18="",G18=""),"",F18-G18) | I18: =IF(A18="","",IF(OR(B18="",C18="",D18=""),"Pendente: completar dados",IF(E18="","Pendente: informar referência",IF(COUNTIF('Registro interno'!$E$4:$E$103,E18)=0,"Pendente: sem registro interno",IF(H18="","Pendente: completar dados",IF(ABS(H18)<=Premissas!$B$4,"Conciliado","Pendente: conferir diferença")))))) | J18: =IF(OR(A18="",H18="",I18=""),"",IF(LEFT(I18,8)="Pendente",ABS(H18),""))
F19: =IF(OR(A19="",C19="",D19=""),"",IF(C19=Premissas!$D$4,D19,IF(C19=Premissas!$D$5,-D19,""))) | G19: =IF(OR(A19="",E19=""),"",IFERROR(SUMIF('Registro interno'!$E$4:$E$103,E19,'Registro interno'!$H$4:$H$103),0)) | H19: =IF(OR(F19="",G19=""),"",F19-G19) | I19: =IF(A19="","",IF(OR(B19="",C19="",D19=""),"Pendente: completar dados",IF(E19="","Pendente: informar referência",IF(COUNTIF('Registro interno'!$E$4:$E$103,E19)=0,"Pendente: sem registro interno",IF(H19="","Pendente: completar dados",IF(ABS(H19)<=Premissas!$B$4,"Conciliado","Pendente: conferir diferença")))))) | J19: =IF(OR(A19="",H19="",I19=""),"",IF(LEFT(I19,8)="Pendente",ABS(H19),""))
F20: =IF(OR(A20="",C20="",D20=""),"",IF(C20=Premissas!$D$4,D20,IF(C20=Premissas!$D$5,-D20,""))) | G20: =IF(OR(A20="",E20=""),"",IFERROR(SUMIF('Registro interno'!$E$4:$E$103,E20,'Registro interno'!$H$4:$H$103),0)) | H20: =IF(OR(F20="",G20=""),"",F20-G20) | I20: =IF(A20="","",IF(OR(B20="",C20="",D20=""),"Pendente: completar dados",IF(E20="","Pendente: informar referência",IF(COUNTIF('Registro interno'!$E$4:$E$103,E20)=0,"Pendente: sem registro interno",IF(H20="","Pendente: completar dados",IF(ABS(H20)<=Premissas!$B$4,"Conciliado","Pendente: conferir diferença")))))) | J20: =IF(OR(A20="",H20="",I20=""),"",IF(LEFT(I20,8)="Pendente",ABS(H20),""))
F21: =IF(OR(A21="",C21="",D21=""),"",IF(C21=Premissas!$D$4,D21,IF(C21=Premissas!$D$5,-D21,""))) | G21: =IF(OR(A21="",E21=""),"",IFERROR(SUMIF('Registro interno'!$E$4:$E$103,E21,'Registro interno'!$H$4:$H$103),0)) | H21: =IF(OR(F21="",G21=""),"",F21-G21) | I21: =IF(A21="","",IF(OR(B21="",C21="",D21=""),"Pendente: completar dados",IF(E21="","Pendente: informar referência",IF(COUNTIF('Registro interno'!$E$4:$E$103,E21)=0,"Pendente: sem registro interno",IF(H21="","Pendente: completar dados",IF(ABS(H21)<=Premissas!$B$4,"Conciliado","Pendente: conferir diferença")))))) | J21: =IF(OR(A21="",H21="",I21=""),"",IF(LEFT(I21,8)="Pendente",ABS(H21),""))
F22: =IF(OR(A22="",C22="",D22=""),"",IF(C22=Premissas!$D$4,D22,IF(C22=Premissas!$D$5,-D22,""))) | G22: =IF(OR(A22="",E22=""),"",IFERROR(SUMIF('Registro interno'!$E$4:$E$103,E22,'Registro interno'!$H$4:$H$103),0)) | H22: =IF(OR(F22="",G22=""),"",F22-G22) | I22: =IF(A22="","",IF(OR(B22="",C22="",D22=""),"Pendente: completar dados",IF(E22="","Pendente: informar referência",IF(COUNTIF('Registro interno'!$E$4:$E$103,E22)=0,"Pendente: sem registro interno",IF(H22="","Pendente: completar dados",IF(ABS(H22)<=Premissas!$B$4,"Conciliado","Pendente: conferir diferença")))))) | J22: =IF(OR(A22="",H22="",I22=""),"",IF(LEFT(I22,8)="Pendente",ABS(H22),""))
F23: =IF(OR(A23="",C23="",D23=""),"",IF(C23=Premissas!$D$4,D23,IF(C23=Premissas!$D$5,-D23,""))) | G23: =IF(OR(A23="",E23=""),"",IFERROR(SUMIF('Registro interno'!$E$4:$E$103,E23,'Registro interno'!$H$4:$H$103),0)) | H23: =IF(OR(F23="",G23=""),"",F23-G23) | I23: =IF(A23="","",IF(OR(B23="",C23="",D23=""),"Pendente: completar dados",IF(E23="","Pendente: informar referência",IF(COUNTIF('Registro interno'!$E$4:$E$103,E23)=0,"Pendente: sem registro interno",IF(H23="","Pendente: completar dados",IF(ABS(H23)<=Premissas!$B$4,"Conciliado","Pendente: conferir diferença")))))) | J23: =IF(OR(A23="",H23="",I23=""),"",IF(LEFT(I23,8)="Pendente",ABS(H23),""))
F24: =IF(OR(A24="",C24="",D24=""),"",IF(C24=Premissas!$D$4,D24,IF(C24=Premissas!$D$5,-D24,""))) | G24: =IF(OR(A24="",E24=""),"",IFERROR(SUMIF('Registro interno'!$E$4:$E$103,E24,'Registro interno'!$H$4:$H$103),0)) | H24: =IF(OR(F24="",G24=""),"",F24-G24) | I24: =IF(A24="","",IF(OR(B24="",C24="",D24=""),"Pendente: completar dados",IF(E24="","Pendente: informar referência",IF(COUNTIF('Registro interno'!$E$4:$E$103,E24)=0,"Pendente: sem registro interno",IF(H24="","Pendente: completar dados",IF(ABS(H24)<=Premissas!$B$4,"Conciliado","Pendente: conferir diferença")))))) | J24: =IF(OR(A24="",H24="",I24=""),"",IF(LEFT(I24,8)="Pendente",ABS(H24),""))
F25: =IF(OR(A25="",C25="",D25=""),"",IF(C25=Premissas!$D$4,D25,IF(C25=Premissas!$D$5,-D25,""))) | G25: =IF(OR(A25="",E25=""),"",IFERROR(SUMIF('Registro interno'!$E$4:$E$103,E25,'Registro interno'!$H$4:$H$103),0)) | H25: =IF(OR(F25="",G25=""),"",F25-G25) | I25: =IF(A25="","",IF(OR(B25="",C25="",D25=""),"Pendente: completar dados",IF(E25="","Pendente: informar referência",IF(COUNTIF('Registro interno'!$E$4:$E$103,E25)=0,"Pendente: sem registro interno",IF(H25="","Pendente: completar dados",IF(ABS(H25)<=Premissas!$B$4,"Conciliado","Pendente: conferir diferença")))))) | J25: =IF(OR(A25="",H25="",I25=""),"",IF(LEFT(I25,8)="Pendente",ABS(H25),""))
... F103: =IF(OR(A103="",C103="",D103=""),"",IF(C103=Premissas!$D$4,D103,IF(C103=Premissas!$D$5,-D103,""))) | G103: =IF(OR(A103="",E103=""),"",IFERROR(SUMIF('Registro interno'!$E$4:$E$103,E103,'Registro interno'!$H$4:$H$103),0)) | H103: =IF(OR(F103="",G103=""),"",F103-G103) | I103: =IF(A103="","",IF(OR(B103="",C103="",D103=""),"Pendente: completar dados",IF(E103="","Pendente: informar referência",IF(COUNTIF('Registro interno'!$E$4:$E$103,E103)=0,"Pendente: sem registro interno",IF(H103="","Pendente: completar dados",IF(ABS(H103)<=Premissas!$B$4,"Conciliado","Pendente: conferir diferença")))))) | J103: =IF(OR(A103="",H103="",I103=""),"",IF(LEFT(I103,8)="Pendente",ABS(H103),""))

Sheet Registro interno
A1: Registro interno para conciliação — exemplos fictícios
L2: =Premissas!$B$6
A3: Data | B3: Descrição | C3: Ministério | D3: Responsável | E3: Referência do extrato | F3: Tipo | G3: Valor | H3: Valor líquido | I3: Valor do extrato | J3: Diferença agrupada | K3: Situação | L3: =Premissas!$B$7
A4: 46266 | B4: Exemplo fictício: registro da contribuição Alfa | C4: Ministério fictício Acolher | D4: Responsável fictício 01 | E4: FIC-2026-001 | F4: Entrada | G4: 1500 | H4: =IF(OR(A4="",F4="",G4=""),"",IF(F4=Premissas!$D$4,G4,IF(F4=Premissas!$D$5,-G4,""))) | I4: =IF(OR(A4="",E4=""),"",IFERROR(VLOOKUP(E4,'Extrato bancário'!$E$4:$F$103,2,FALSE),"")) | J4: =IF(OR(A4="",E4="",I4=""),"",IFERROR(SUMIF($E$4:$E$103,E4,$H$4:$H$103)-I4,"")) | K4: =IF(A4="","",IF(OR(B4="",C4="",D4="",F4="",G4=""),"Pendente: completar dados",IF(E4="","Pendente: informar referência",IF(COUNTIF('Extrato bancário'!$E$4:$E$103,E4)=0,"Pendente: referência não localizada",IF(J4="","Pendente: completar dados",IF(ABS(J4)<=Premissas!$B$4,"Conciliado","Pendente: conferir diferença")))))) | L4: =Premissas!$D$4
A5: 46267 | B5: Exemplo fictício: material administrativo | C5: Ministério fictício Apoio | D5: Responsável fictício 02 | E5: FIC-2026-002 | F5: Saída | G5: 320 | H5: =IF(OR(A5="",F5="",G5=""),"",IF(F5=Premissas!$D$4,G5,IF(F5=Premissas!$D$5,-G5,""))) | I5: =IF(OR(A5="",E5=""),"",IFERROR(VLOOKUP(E5,'Extrato bancário'!$E$4:$F$103,2,FALSE),"")) | J5: =IF(OR(A5="",E5="",I5=""),"",IFERROR(SUMIF($E$4:$E$103,E5,$H$4:$H$103)-I5,"")) | K5: =IF(A5="","",IF(OR(B5="",C5="",D5="",F5="",G5=""),"Pendente: completar dados",IF(E5="","Pendente: informar referência",IF(COUNTIF('Extrato bancário'!$E$4:$E$103,E5)=0,"Pendente: referência não localizada",IF(J5="","Pendente: completar dados",IF(ABS(J5)<=Premissas!$B$4,"Conciliado","Pendente: conferir diferença")))))) | L5: =Premissas!$D$5
A6: 46268 | B6: Exemplo fictício: evento simulado, parte 1 | C6: Ministério fictício Comunhão | D6: Responsável fictício 03 | E6: FIC-2026-003 | F6: Entrada | G6: 500 | H6: =IF(OR(A6="",F6="",G6=""),"",IF(F6=Premissas!$D$4,G6,IF(F6=Premissas!$D$5,-G6,""))) | I6: =IF(OR(A6="",E6=""),"",IFERROR(VLOOKUP(E6,'Extrato bancário'!$E$4:$F$103,2,FALSE),"")) | J6: =IF(OR(A6="",E6="",I6=""),"",IFERROR(SUMIF($E$4:$E$103,E6,$H$4:$H$103)-I6,"")) | K6: =IF(A6="","",IF(OR(B6="",C6="",D6="",F6="",G6=""),"Pendente: completar dados",IF(E6="","Pendente: informar referência",IF(COUNTIF('Extrato bancário'!$E$4:$E$103,E6)=0,"Pendente: referência não localizada",IF(J6="","Pendente: completar dados",IF(ABS(J6)<=Premissas!$B$4,"Conciliado","Pendente: conferir diferença"))))))
A7: 46268 | B7: Exemplo fictício: evento simulado, parte 2 | C7: Ministério fictício Comunhão | D7: Responsável fictício 03 | E7: FIC-2026-003 | F7: Entrada | G7: 280 | H7: =IF(OR(A7="",F7="",G7=""),"",IF(F7=Premissas!$D$4,G7,IF(F7=Premissas!$D$5,-G7,""))) | I7: =IF(OR(A7="",E7=""),"",IFERROR(VLOOKUP(E7,'Extrato bancário'!$E$4:$F$103,2,FALSE),"")) | J7: =IF(OR(A7="",E7="",I7=""),"",IFERROR(SUMIF($E$4:$E$103,E7,$H$4:$H$103)-I7,"")) | K7: =IF(A7="","",IF(OR(B7="",C7="",D7="",F7="",G7=""),"Pendente: completar dados",IF(E7="","Pendente: informar referência",IF(COUNTIF('Extrato bancário'!$E$4:$E$103,E7)=0,"Pendente: referência não localizada",IF(J7="","Pendente: completar dados",IF(ABS(J7)<=Premissas!$B$4,"Conciliado","Pendente: conferir diferença"))))))
A8: 46269 | B8: Exemplo fictício: manutenção registrada | C8: Ministério fictício Patrimônio | D8: Responsável fictício 04 | E8: FIC-2026-004 | F8: Saída | G8: 430 | H8: =IF(OR(A8="",F8="",G8=""),"",IF(F8=Premissas!$D$4,G8,IF(F8=Premissas!$D$5,-G8,""))) | I8: =IF(OR(A8="",E8=""),"",IFERROR(VLOOKUP(E8,'Extrato bancário'!$E$4:$F$103,2,FALSE),"")) | J8: =IF(OR(A8="",E8="",I8=""),"",IFERROR(SUMIF($E$4:$E$103,E8,$H$4:$H$103)-I8,"")) | K8: =IF(A8="","",IF(OR(B8="",C8="",D8="",F8="",G8=""),"Pendente: completar dados",IF(E8="","Pendente: informar referência",IF(COUNTIF('Extrato bancário'!$E$4:$E$103,E8)=0,"Pendente: referência não localizada",IF(J8="","Pendente: completar dados",IF(ABS(J8)<=Premissas!$B$4,"Conciliado","Pendente: conferir diferença"))))))
A9: 46271 | B9: Exemplo fictício: consumo administrativo | C9: Ministério fictício Apoio | D9: Responsável fictício 02 | E9: FIC-2026-006 | F9: Saída | G9: 125 | H9: =IF(OR(A9="",F9="",G9=""),"",IF(F9=Premissas!$D$4,G9,IF(F9=Premissas!$D$5,-G9,""))) | I9: =IF(OR(A9="",E9=""),"",IFERROR(VLOOKUP(E9,'Extrato bancário'!$E$4:$F$103,2,FALSE),"")) | J9: =IF(OR(A9="",E9="",I9=""),"",IFERROR(SUMIF($E$4:$E$103,E9,$H$4:$H$103)-I9,"")) | K9: =IF(A9="","",IF(OR(B9="",C9="",D9="",F9="",G9=""),"Pendente: completar dados",IF(E9="","Pendente: informar referência",IF(COUNTIF('Extrato bancário'!$E$4:$E$103,E9)=0,"Pendente: referência não localizada",IF(J9="","Pendente: completar dados",IF(ABS(J9)<=Premissas!$B$4,"Conciliado","Pendente: conferir diferença"))))))
A10: 46272 | B10: Exemplo fictício: atividade comunitária | C10: Ministério fictício Comunhão | D10: Responsável fictício 05 | E10: FIC-2026-007 | F10: Entrada | G10: 940 | H10: =IF(OR(A10="",F10="",G10=""),"",IF(F10=Premissas!$D$4,G10,IF(F10=Premissas!$D$5,-G10,""))) | I10: =IF(OR(A10="",E10=""),"",IFERROR(VLOOKUP(E10,'Extrato bancário'!$E$4:$F$103,2,FALSE),"")) | J10: =IF(OR(A10="",E10="",I10=""),"",IFERROR(SUMIF($E$4:$E$103,E10,$H$4:$H$103)-I10,"")) | K10: =IF(A10="","",IF(OR(B10="",C10="",D10="",F10="",G10=""),"Pendente: completar dados",IF(E10="","Pendente: informar referência",IF(COUNTIF('Extrato bancário'!$E$4:$E$103,E10)=0,"Pendente: referência não localizada",IF(J10="","Pendente: completar dados",IF(ABS(J10)<=Premissas!$B$4,"Conciliado","Pendente: conferir diferença"))))))
A11: 46273 | B11: Exemplo fictício: impressão de materiais | C11: Ministério fictício Comunicação | D11: Responsável fictício 06 | E11: FIC-2026-008 | F11: Saída | G11: 210.5 | H11: =IF(OR(A11="",F11="",G11=""),"",IF(F11=Premissas!$D$4,G11,IF(F11=Premissas!$D$5,-G11,""))) | I11: =IF(OR(A11="",E11=""),"",IFERROR(VLOOKUP(E11,'Extrato bancário'!$E$4:$F$103,2,FALSE),"")) | J11: =IF(OR(A11="",E11="",I11=""),"",IFERROR(SUMIF($E$4:$E$103,E11,$H$4:$H$103)-I11,"")) | K11: =IF(A11="","",IF(OR(B11="",C11="",D11="",F11="",G11=""),"Pendente: completar dados",IF(E11="","Pendente: informar referência",IF(COUNTIF('Extrato bancário'!$E$4:$E$103,E11)=0,"Pendente: referência não localizada",IF(J11="","Pendente: completar dados",IF(ABS(J11)<=Premissas!$B$4,"Conciliado","Pendente: conferir diferença"))))))
A12: 46274 | B12: Exemplo fictício: oferta simulada Beta | C12: Ministério fictício Acolher | D12: Responsável fictício 01 | E12: FIC-2026-009 | F12: Entrada | G12: 350 | H12: =IF(OR(A12="",F12="",G12=""),"",IF(F12=Premissas!$D$4,G12,IF(F12=Premissas!$D$5,-G12,""))) | I12: =IF(OR(A12="",E12=""),"",IFERROR(VLOOKUP(E12,'Extrato bancário'!$E$4:$F$103,2,FALSE),"")) | J12: =IF(OR(A12="",E12="",I12=""),"",IFERROR(SUMIF($E$4:$E$103,E12,$H$4:$H$103)-I12,"")) | K12: =IF(A12="","",IF(OR(B12="",C12="",D12="",F12="",G12=""),"Pendente: completar dados",IF(E12="","Pendente: informar referência",IF(COUNTIF('Extrato bancário'!$E$4:$E$103,E12)=0,"Pendente: referência não localizada",IF(J12="","Pendente: completar dados",IF(ABS(J12)<=Premissas!$B$4,"Conciliado","Pendente: conferir diferença"))))))
A13: 46274 | B13: Exemplo fictício: referência não localizada | C13: Ministério fictício Apoio | D13: Responsável fictício 07 | E13: FIC-2026-099 | F13: Entrada | G13: 75 | H13: =IF(OR(A13="",F13="",G13=""),"",IF(F13=Premissas!$D$4,G13,IF(F13=Premissas!$D$5,-G13,""))) | I13: =IF(OR(A13="",E13=""),"",IFERROR(VLOOKUP(E13,'Extrato bancário'!$E$4:$F$103,2,FALSE),"")) | J13: =IF(OR(A13="",E13="",I13=""),"",IFERROR(SUMIF($E$4:$E$103,E13,$H$4:$H$103)-I13,"")) | K13: =IF(A13="","",IF(OR(B13="",C13="",D13="",F13="",G13=""),"Pendente: completar dados",IF(E13="","Pendente: informar referência",IF(COUNTIF('Extrato bancário'!$E$4:$E$103,E13)=0,"Pendente: referência não localizada",IF(J13="","Pendente: completar dados",IF(ABS(J13)<=Premissas!$B$4,"Conciliado","Pendente: conferir diferença"))))))
H14: =IF(OR(A14="",F14="",G14=""),"",IF(F14=Premissas!$D$4,G14,IF(F14=Premissas!$D$5,-G14,""))) | I14: =IF(OR(A14="",E14=""),"",IFERROR(VLOOKUP(E14,'Extrato bancário'!$E$4:$F$103,2,FALSE),"")) | J14: =IF(OR(A14="",E14="",I14=""),"",IFERROR(SUMIF($E$4:$E$103,E14,$H$4:$H$103)-I14,"")) | K14: =IF(A14="","",IF(OR(B14="",C14="",D14="",F14="",G14=""),"Pendente: completar dados",IF(E14="","Pendente: informar referência",IF(COUNTIF('Extrato bancário'!$E$4:$E$103,E14)=0,"Pendente: referência não localizada",IF(J14="","Pendente: completar dados",IF(ABS(J14)<=Premissas!$B$4,"Conciliado","Pendente: conferir diferença"))))))
H15: =IF(OR(A15="",F15="",G15=""),"",IF(F15=Premissas!$D$4,G15,IF(F15=Premissas!$D$5,-G15,""))) | I15: =IF(OR(A15="",E15=""),"",IFERROR(VLOOKUP(E15,'Extrato bancário'!$E$4:$F$103,2,FALSE),"")) | J15: =IF(OR(A15="",E15="",I15=""),"",IFERROR(SUMIF($E$4:$E$103,E15,$H$4:$H$103)-I15,"")) | K15: =IF(A15="","",IF(OR(B15="",C15="",D15="",F15="",G15=""),"Pendente: completar dados",IF(E15="","Pendente: informar referência",IF(COUNTIF('Extrato bancário'!$E$4:$E$103,E15)=0,"Pendente: referência não localizada",IF(J15="","Pendente: completar dados",IF(ABS(J15)<=Premissas!$B$4,"Conciliado","Pendente: conferir diferença"))))))
H16: =IF(OR(A16="",F16="",G16=""),"",IF(F16=Premissas!$D$4,G16,IF(F16=Premissas!$D$5,-G16,""))) | I16: =IF(OR(A16="",E16=""),"",IFERROR(VLOOKUP(E16,'Extrato bancário'!$E$4:$F$103,2,FALSE),"")) | J16: =IF(OR(A16="",E16="",I16=""),"",IFERROR(SUMIF($E$4:$E$103,E16,$H$4:$H$103)-I16,"")) | K16: =IF(A16="","",IF(OR(B16="",C16="",D16="",F16="",G16=""),"Pendente: completar dados",IF(E16="","Pendente: informar referência",IF(COUNTIF('Extrato bancário'!$E$4:$E$103,E16)=0,"Pendente: referência não localizada",IF(J16="","Pendente: completar dados",IF(ABS(J16)<=Premissas!$B$4,"Conciliado","Pendente: conferir diferença"))))))
H17: =IF(OR(A17="",F17="",G17=""),"",IF(F17=Premissas!$D$4,G17,IF(F17=Premissas!$D$5,-G17,""))) | I17: =IF(OR(A17="",E17=""),"",IFERROR(VLOOKUP(E17,'Extrato bancário'!$E$4:$F$103,2,FALSE),"")) | J17: =IF(OR(A17="",E17="",I17=""),"",IFERROR(SUMIF($E$4:$E$103,E17,$H$4:$H$103)-I17,"")) | K17: =IF(A17="","",IF(OR(B17="",C17="",D17="",F17="",G17=""),"Pendente: completar dados",IF(E17="","Pendente: informar referência",IF(COUNTIF('Extrato bancário'!$E$4:$E$103,E17)=0,"Pendente: referência não localizada",IF(J17="","Pendente: completar dados",IF(ABS(J17)<=Premissas!$B$4,"Conciliado","Pendente: conferir diferença"))))))
H18: =IF(OR(A18="",F18="",G18=""),"",IF(F18=Premissas!$D$4,G18,IF(F18=Premissas!$D$5,-G18,""))) | I18: =IF(OR(A18="",E18=""),"",IFERROR(VLOOKUP(E18,'Extrato bancário'!$E$4:$F$103,2,FALSE),"")) | J18: =IF(OR(A18="",E18="",I18=""),"",IFERROR(SUMIF($E$4:$E$103,E18,$H$4:$H$103)-I18,"")) | K18: =IF(A18="","",IF(OR(B18="",C18="",D18="",F18="",G18=""),"Pendente: completar dados",IF(E18="","Pendente: informar referência",IF(COUNTIF('Extrato bancário'!$E$4:$E$103,E18)=0,"Pendente: referência não localizada",IF(J18="","Pendente: completar dados",IF(ABS(J18)<=Premissas!$B$4,"Conciliado","Pendente: conferir diferença"))))))
H19: =IF(OR(A19="",F19="",G19=""),"",IF(F19=Premissas!$D$4,G19,IF(F19=Premissas!$D$5,-G19,""))) | I19: =IF(OR(A19="",E19=""),"",IFERROR(VLOOKUP(E19,'Extrato bancário'!$E$4:$F$103,2,FALSE),"")) | J19: =IF(OR(A19="",E19="",I19=""),"",IFERROR(SUMIF($E$4:$E$103,E19,$H$4:$H$103)-I19,"")) | K19: =IF(A19="","",IF(OR(B19="",C19="",D19="",F19="",G19=""),"Pendente: completar dados",IF(E19="","Pendente: informar referência",IF(COUNTIF('Extrato bancário'!$E$4:$E$103,E19)=0,"Pendente: referência não localizada",IF(J19="","Pendente: completar dados",IF(ABS(J19)<=Premissas!$B$4,"Conciliado","Pendente: conferir diferença"))))))
H20: =IF(OR(A20="",F20="",G20=""),"",IF(F20=Premissas!$D$4,G20,IF(F20=Premissas!$D$5,-G20,""))) | I20: =IF(OR(A20="",E20=""),"",IFERROR(VLOOKUP(E20,'Extrato bancário'!$E$4:$F$103,2,FALSE),"")) | J20: =IF(OR(A20="",E20="",I20=""),"",IFERROR(SUMIF($E$4:$E$103,E20,$H$4:$H$103)-I20,"")) | K20: =IF(A20="","",IF(OR(B20="",C20="",D20="",F20="",G20=""),"Pendente: completar dados",IF(E20="","Pendente: informar referência",IF(COUNTIF('Extrato bancário'!$E$4:$E$103,E20)=0,"Pendente: referência não localizada",IF(J20="","Pendente: completar dados",IF(ABS(J20)<=Premissas!$B$4,"Conciliado","Pendente: conferir diferença"))))))
H21: =IF(OR(A21="",F21="",G21=""),"",IF(F21=Premissas!$D$4,G21,IF(F21=Premissas!$D$5,-G21,""))) | I21: =IF(OR(A21="",E21=""),"",IFERROR(VLOOKUP(E21,'Extrato bancário'!$E$4:$F$103,2,FALSE),"")) | J21: =IF(OR(A21="",E21="",I21=""),"",IFERROR(SUMIF($E$4:$E$103,E21,$H$4:$H$103)-I21,"")) | K21: =IF(A21="","",IF(OR(B21="",C21="",D21="",F21="",G21=""),"Pendente: completar dados",IF(E21="","Pendente: informar referência",IF(COUNTIF('Extrato bancário'!$E$4:$E$103,E21)=0,"Pendente: referência não localizada",IF(J21="","Pendente: completar dados",IF(ABS(J21)<=Premissas!$B$4,"Conciliado","Pendente: conferir diferença"))))))
H22: =IF(OR(A22="",F22="",G22=""),"",IF(F22=Premissas!$D$4,G22,IF(F22=Premissas!$D$5,-G22,""))) | I22: =IF(OR(A22="",E22=""),"",IFERROR(VLOOKUP(E22,'Extrato bancário'!$E$4:$F$103,2,FALSE),"")) | J22: =IF(OR(A22="",E22="",I22=""),"",IFERROR(SUMIF($E$4:$E$103,E22,$H$4:$H$103)-I22,"")) | K22: =IF(A22="","",IF(OR(B22="",C22="",D22="",F22="",G22=""),"Pendente: completar dados",IF(E22="","Pendente: informar referência",IF(COUNTIF('Extrato bancário'!$E$4:$E$103,E22)=0,"Pendente: referência não localizada",IF(J22="","Pendente: completar dados",IF(ABS(J22)<=Premissas!$B$4,"Conciliado","Pendente: conferir diferença"))))))
H23: =IF(OR(A23="",F23="",G23=""),"",IF(F23=Premissas!$D$4,G23,IF(F23=Premissas!$D$5,-G23,""))) | I23: =IF(OR(A23="",E23=""),"",IFERROR(VLOOKUP(E23,'Extrato bancário'!$E$4:$F$103,2,FALSE),"")) | J23: =IF(OR(A23="",E23="",I23=""),"",IFERROR(SUMIF($E$4:$E$103,E23,$H$4:$H$103)-I23,"")) | K23: =IF(A23="","",IF(OR(B23="",C23="",D23="",F23="",G23=""),"Pendente: completar dados",IF(E23="","Pendente: informar referência",IF(COUNTIF('Extrato bancário'!$E$4:$E$103,E23)=0,"Pendente: referência não localizada",IF(J23="","Pendente: completar dados",IF(ABS(J23)<=Premissas!$B$4,"Conciliado","Pendente: conferir diferença"))))))
H24: =IF(OR(A24="",F24="",G24=""),"",IF(F24=Premissas!$D$4,G24,IF(F24=Premissas!$D$5,-G24,""))) | I24: =IF(OR(A24="",E24=""),"",IFERROR(VLOOKUP(E24,'Extrato bancário'!$E$4:$F$103,2,FALSE),"")) | J24: =IF(OR(A24="",E24="",I24=""),"",IFERROR(SUMIF($E$4:$E$103,E24,$H$4:$H$103)-I24,"")) | K24: =IF(A24="","",IF(OR(B24="",C24="",D24="",F24="",G24=""),"Pendente: completar dados",IF(E24="","Pendente: informar referência",IF(COUNTIF('Extrato bancário'!$E$4:$E$103,E24)=0,"Pendente: referência não localizada",IF(J24="","Pendente: completar dados",IF(ABS(J24)<=Premissas!$B$4,"Conciliado","Pendente: conferir diferença"))))))
H25: =IF(OR(A25="",F25="",G25=""),"",IF(F25=Premissas!$D$4,G25,IF(F25=Premissas!$D$5,-G25,""))) | I25: =IF(OR(A25="",E25=""),"",IFERROR(VLOOKUP(E25,'Extrato bancário'!$E$4:$F$103,2,FALSE),"")) | J25: =IF(OR(A25="",E25="",I25=""),"",IFERROR(SUMIF($E$4:$E$103,E25,$H$4:$H$103)-I25,"")) | K25: =IF(A25="","",IF(OR(B25="",C25="",D25="",F25="",G25=""),"Pendente: completar dados",IF(E25="","Pendente: informar referência",IF(COUNTIF('Extrato bancário'!$E$4:$E$103,E25)=0,"Pendente: referência não localizada",IF(J25="","Pendente: completar dados",IF(ABS(J25)<=Premissas!$B$4,"Conciliado","Pendente: conferir diferença"))))))
... H103: =IF(OR(A103="",F103="",G103=""),"",IF(F103=Premissas!$D$4,G103,IF(F103=Premissas!$D$5,-G103,""))) | I103: =IF(OR(A103="",E103=""),"",IFERROR(VLOOKUP(E103,'Extrato bancário'!$E$4:$F$103,2,FALSE),"")) | J103: =IF(OR(A103="",E103="",I103=""),"",IFERROR(SUMIF($E$4:$E$103,E103,$H$4:$H$103)-I103,"")) | K103: =IF(A103="","",IF(OR(B103="",C103="",D103="",F103="",G103=""),"Pendente: completar dados",IF(E103="","Pendente: informar referência",IF(COUNTIF('Extrato bancário'!$E$4:$E$103,E103)=0,"Pendente: referência não localizada",IF(J103="","Pendente: completar dados",IF(ABS(J103)<=Premissas!$B$4,"Conciliado","Pendente: conferir diferença"))))))

Sheet Premissas
A1: Premissas da conciliação bancária — exemplo fictício
A3: Premissa | B3: Valor | D3: Tipos permitidos
A4: Tolerância para diferença | B4: 0.01 | D4: Entrada
A5: Saldo inicial do extrato | B5: 5000 | D5: Saída
A6: Início do período | B6: 46266
A7: Fim do período | B7: 46295
