Workbook

Sheet Resumo
A1: Resumo — classe de novos convertidos
A3: Indicador | B3: Valor | D3: Situação | E3: Participantes
A4: Participantes cadastrados | B4: =COUNTIF(Participantes!$A$3:$A$102,"<>") | D4: Concluído | E4: =COUNTIF(Participantes!$K$3:$K$102,$D4)
A5: Em acompanhamento | B5: =COUNTIF(Participantes!$G$3:$G$102,"Em acompanhamento") | D5: Em andamento | E5: =COUNTIF(Participantes!$K$3:$K$102,$D5)
A6: Conclusões apuradas | B6: =COUNTIF(Participantes!$K$3:$K$102,"Concluído") | D6: Conferir frequência | E6: =COUNTIF(Participantes!$K$3:$K$102,$D6)
A7: Frequência média | B7: =IFERROR(AVERAGEIF(Participantes!$J$3:$J$102,">=0",Participantes!$J$3:$J$102),"") | D7: Aguardando encontro | E7: =COUNTIF(Participantes!$K$3:$K$102,$D7)
A8: Encontros realizados | B8: =COUNTIF(Encontros!$G$5:$G$104,"Realizado")
A9: Presenças registradas | B9: =COUNTIF('Presenças'!$G$3:$G$102,"Presente")
A10: Encontros planejados em atraso | B10: =COUNTIFS(Encontros!$G$5:$G$104,"Planejado",Encontros!$B$5:$B$104,"<"&Premissas!$B$7)
A11: Registros a conferir | B11: =COUNTIF('Presenças'!$I$3:$I$102,"Conferir*")

Sheet Participantes
A1: Participantes — classe de novos convertidos
A2: Código | B2: Nome fictício | C2: Data de inscrição | D2: Turma | E2: Responsável fictício | F2: Ministério fictício | G2: Situação | H2: Presenças | I2: Encontros realizados | J2: Frequência | K2: Resultado apurado
A3: CONV-FIC-001 | B3: Pessoa Fictícia Alfa | C3: 46231 | D3: Turma Horizonte | E3: Acompanhante Fictício Sol | F3: Ministério Fictício Ponte | G3: Em acompanhamento | H3: =IF($A3="","",COUNTIFS('Presenças'!$B$3:$B$102,$A3,'Presenças'!$G$3:$G$102,"Presente")) | I3: =IF($A3="","",COUNTIFS(Encontros!$C$5:$C$104,$D3,Encontros!$G$5:$G$104,"Realizado")) | J3: =IF($A3="","",IFERROR($H3/$I3,"")) | K3: =IF($A3="","",IF($G3<>"Em acompanhamento","Não aplicável",IF($I3=0,"Aguardando encontro",IF(AND($H3>=Premissas!$B$4,$J3>=Premissas!$B$3),"Concluído",IF($I3>=Premissas!$B$4,"Conferir frequência","Em andamento")))))
A4: CONV-FIC-002 | B4: Pessoa Fictícia Brisa | C4: 46232 | D4: Turma Horizonte | E4: Acompanhante Fictício Lua | F4: Ministério Fictício Acolher | G4: Em acompanhamento | H4: =IF($A4="","",COUNTIFS('Presenças'!$B$3:$B$102,$A4,'Presenças'!$G$3:$G$102,"Presente")) | I4: =IF($A4="","",COUNTIFS(Encontros!$C$5:$C$104,$D4,Encontros!$G$5:$G$104,"Realizado")) | J4: =IF($A4="","",IFERROR($H4/$I4,"")) | K4: =IF($A4="","",IF($G4<>"Em acompanhamento","Não aplicável",IF($I4=0,"Aguardando encontro",IF(AND($H4>=Premissas!$B$4,$J4>=Premissas!$B$3),"Concluído",IF($I4>=Premissas!$B$4,"Conferir frequência","Em andamento")))))
A5: CONV-FIC-003 | B5: Pessoa Fictícia Cedro | C5: 46233 | D5: Turma Horizonte | E5: Acompanhante Fictício Nuvem | F5: Ministério Fictício Ponte | G5: Em acompanhamento | H5: =IF($A5="","",COUNTIFS('Presenças'!$B$3:$B$102,$A5,'Presenças'!$G$3:$G$102,"Presente")) | I5: =IF($A5="","",COUNTIFS(Encontros!$C$5:$C$104,$D5,Encontros!$G$5:$G$104,"Realizado")) | J5: =IF($A5="","",IFERROR($H5/$I5,"")) | K5: =IF($A5="","",IF($G5<>"Em acompanhamento","Não aplicável",IF($I5=0,"Aguardando encontro",IF(AND($H5>=Premissas!$B$4,$J5>=Premissas!$B$3),"Concluído",IF($I5>=Premissas!$B$4,"Conferir frequência","Em andamento")))))
A6: CONV-FIC-004 | B6: Pessoa Fictícia Duna | C6: 46235 | D6: Turma Horizonte | E6: Acompanhante Fictício Sol | F6: Núcleo Fictício Boas-vindas | G6: Pausado | H6: =IF($A6="","",COUNTIFS('Presenças'!$B$3:$B$102,$A6,'Presenças'!$G$3:$G$102,"Presente")) | I6: =IF($A6="","",COUNTIFS(Encontros!$C$5:$C$104,$D6,Encontros!$G$5:$G$104,"Realizado")) | J6: =IF($A6="","",IFERROR($H6/$I6,"")) | K6: =IF($A6="","",IF($G6<>"Em acompanhamento","Não aplicável",IF($I6=0,"Aguardando encontro",IF(AND($H6>=Premissas!$B$4,$J6>=Premissas!$B$3),"Concluído",IF($I6>=Premissas!$B$4,"Conferir frequência","Em andamento")))))
A7: CONV-FIC-005 | B7: Pessoa Fictícia Estrela | C7: 46259 | D7: Turma Semente | E7: Acompanhante Fictício Lua | F7: Ministério Fictício Acolher | G7: Em acompanhamento | H7: =IF($A7="","",COUNTIFS('Presenças'!$B$3:$B$102,$A7,'Presenças'!$G$3:$G$102,"Presente")) | I7: =IF($A7="","",COUNTIFS(Encontros!$C$5:$C$104,$D7,Encontros!$G$5:$G$104,"Realizado")) | J7: =IF($A7="","",IFERROR($H7/$I7,"")) | K7: =IF($A7="","",IF($G7<>"Em acompanhamento","Não aplicável",IF($I7=0,"Aguardando encontro",IF(AND($H7>=Premissas!$B$4,$J7>=Premissas!$B$3),"Concluído",IF($I7>=Premissas!$B$4,"Conferir frequência","Em andamento")))))
A8: CONV-FIC-006 | B8: Pessoa Fictícia Farol | C8: 46260 | D8: Turma Semente | E8: Acompanhante Fictício Nuvem | F8: Núcleo Fictício Boas-vindas | G8: Desistente | H8: =IF($A8="","",COUNTIFS('Presenças'!$B$3:$B$102,$A8,'Presenças'!$G$3:$G$102,"Presente")) | I8: =IF($A8="","",COUNTIFS(Encontros!$C$5:$C$104,$D8,Encontros!$G$5:$G$104,"Realizado")) | J8: =IF($A8="","",IFERROR($H8/$I8,"")) | K8: =IF($A8="","",IF($G8<>"Em acompanhamento","Não aplicável",IF($I8=0,"Aguardando encontro",IF(AND($H8>=Premissas!$B$4,$J8>=Premissas!$B$3),"Concluído",IF($I8>=Premissas!$B$4,"Conferir frequência","Em andamento")))))
A9: CONV-FIC-007 | B9: Pessoa Fictícia Girassol | C9: 46261 | D9: Turma Semente | E9: Acompanhante Fictício Sol | F9: Ministério Fictício Ponte | G9: Em acompanhamento | H9: =IF($A9="","",COUNTIFS('Presenças'!$B$3:$B$102,$A9,'Presenças'!$G$3:$G$102,"Presente")) | I9: =IF($A9="","",COUNTIFS(Encontros!$C$5:$C$104,$D9,Encontros!$G$5:$G$104,"Realizado")) | J9: =IF($A9="","",IFERROR($H9/$I9,"")) | K9: =IF($A9="","",IF($G9<>"Em acompanhamento","Não aplicável",IF($I9=0,"Aguardando encontro",IF(AND($H9>=Premissas!$B$4,$J9>=Premissas!$B$3),"Concluído",IF($I9>=Premissas!$B$4,"Conferir frequência","Em andamento")))))
A10: CONV-FIC-008 | B10: Pessoa Fictícia Horizonte | C10: 46236 | D10: Turma Horizonte | E10: Acompanhante Fictício Lua | F10: Ministério Fictício Acolher | G10: Em acompanhamento | H10: =IF($A10="","",COUNTIFS('Presenças'!$B$3:$B$102,$A10,'Presenças'!$G$3:$G$102,"Presente")) | I10: =IF($A10="","",COUNTIFS(Encontros!$C$5:$C$104,$D10,Encontros!$G$5:$G$104,"Realizado")) | J10: =IF($A10="","",IFERROR($H10/$I10,"")) | K10: =IF($A10="","",IF($G10<>"Em acompanhamento","Não aplicável",IF($I10=0,"Aguardando encontro",IF(AND($H10>=Premissas!$B$4,$J10>=Premissas!$B$3),"Concluído",IF($I10>=Premissas!$B$4,"Conferir frequência","Em andamento")))))
H11: =IF($A11="","",COUNTIFS('Presenças'!$B$3:$B$102,$A11,'Presenças'!$G$3:$G$102,"Presente")) | I11: =IF($A11="","",COUNTIFS(Encontros!$C$5:$C$104,$D11,Encontros!$G$5:$G$104,"Realizado")) | J11: =IF($A11="","",IFERROR($H11/$I11,"")) | K11: =IF($A11="","",IF($G11<>"Em acompanhamento","Não aplicável",IF($I11=0,"Aguardando encontro",IF(AND($H11>=Premissas!$B$4,$J11>=Premissas!$B$3),"Concluído",IF($I11>=Premissas!$B$4,"Conferir frequência","Em andamento")))))
H12: =IF($A12="","",COUNTIFS('Presenças'!$B$3:$B$102,$A12,'Presenças'!$G$3:$G$102,"Presente")) | I12: =IF($A12="","",COUNTIFS(Encontros!$C$5:$C$104,$D12,Encontros!$G$5:$G$104,"Realizado")) | J12: =IF($A12="","",IFERROR($H12/$I12,"")) | K12: =IF($A12="","",IF($G12<>"Em acompanhamento","Não aplicável",IF($I12=0,"Aguardando encontro",IF(AND($H12>=Premissas!$B$4,$J12>=Premissas!$B$3),"Concluído",IF($I12>=Premissas!$B$4,"Conferir frequência","Em andamento")))))
H13: =IF($A13="","",COUNTIFS('Presenças'!$B$3:$B$102,$A13,'Presenças'!$G$3:$G$102,"Presente")) | I13: =IF($A13="","",COUNTIFS(Encontros!$C$5:$C$104,$D13,Encontros!$G$5:$G$104,"Realizado")) | J13: =IF($A13="","",IFERROR($H13/$I13,"")) | K13: =IF($A13="","",IF($G13<>"Em acompanhamento","Não aplicável",IF($I13=0,"Aguardando encontro",IF(AND($H13>=Premissas!$B$4,$J13>=Premissas!$B$3),"Concluído",IF($I13>=Premissas!$B$4,"Conferir frequência","Em andamento")))))
H14: =IF($A14="","",COUNTIFS('Presenças'!$B$3:$B$102,$A14,'Presenças'!$G$3:$G$102,"Presente")) | I14: =IF($A14="","",COUNTIFS(Encontros!$C$5:$C$104,$D14,Encontros!$G$5:$G$104,"Realizado")) | J14: =IF($A14="","",IFERROR($H14/$I14,"")) | K14: =IF($A14="","",IF($G14<>"Em acompanhamento","Não aplicável",IF($I14=0,"Aguardando encontro",IF(AND($H14>=Premissas!$B$4,$J14>=Premissas!$B$3),"Concluído",IF($I14>=Premissas!$B$4,"Conferir frequência","Em andamento")))))
H15: =IF($A15="","",COUNTIFS('Presenças'!$B$3:$B$102,$A15,'Presenças'!$G$3:$G$102,"Presente")) | I15: =IF($A15="","",COUNTIFS(Encontros!$C$5:$C$104,$D15,Encontros!$G$5:$G$104,"Realizado")) | J15: =IF($A15="","",IFERROR($H15/$I15,"")) | K15: =IF($A15="","",IF($G15<>"Em acompanhamento","Não aplicável",IF($I15=0,"Aguardando encontro",IF(AND($H15>=Premissas!$B$4,$J15>=Premissas!$B$3),"Concluído",IF($I15>=Premissas!$B$4,"Conferir frequência","Em andamento")))))
H16: =IF($A16="","",COUNTIFS('Presenças'!$B$3:$B$102,$A16,'Presenças'!$G$3:$G$102,"Presente")) | I16: =IF($A16="","",COUNTIFS(Encontros!$C$5:$C$104,$D16,Encontros!$G$5:$G$104,"Realizado")) | J16: =IF($A16="","",IFERROR($H16/$I16,"")) | K16: =IF($A16="","",IF($G16<>"Em acompanhamento","Não aplicável",IF($I16=0,"Aguardando encontro",IF(AND($H16>=Premissas!$B$4,$J16>=Premissas!$B$3),"Concluído",IF($I16>=Premissas!$B$4,"Conferir frequência","Em andamento")))))
H17: =IF($A17="","",COUNTIFS('Presenças'!$B$3:$B$102,$A17,'Presenças'!$G$3:$G$102,"Presente")) | I17: =IF($A17="","",COUNTIFS(Encontros!$C$5:$C$104,$D17,Encontros!$G$5:$G$104,"Realizado")) | J17: =IF($A17="","",IFERROR($H17/$I17,"")) | K17: =IF($A17="","",IF($G17<>"Em acompanhamento","Não aplicável",IF($I17=0,"Aguardando encontro",IF(AND($H17>=Premissas!$B$4,$J17>=Premissas!$B$3),"Concluído",IF($I17>=Premissas!$B$4,"Conferir frequência","Em andamento")))))
H18: =IF($A18="","",COUNTIFS('Presenças'!$B$3:$B$102,$A18,'Presenças'!$G$3:$G$102,"Presente")) | I18: =IF($A18="","",COUNTIFS(Encontros!$C$5:$C$104,$D18,Encontros!$G$5:$G$104,"Realizado")) | J18: =IF($A18="","",IFERROR($H18/$I18,"")) | K18: =IF($A18="","",IF($G18<>"Em acompanhamento","Não aplicável",IF($I18=0,"Aguardando encontro",IF(AND($H18>=Premissas!$B$4,$J18>=Premissas!$B$3),"Concluído",IF($I18>=Premissas!$B$4,"Conferir frequência","Em andamento")))))
H19: =IF($A19="","",COUNTIFS('Presenças'!$B$3:$B$102,$A19,'Presenças'!$G$3:$G$102,"Presente")) | I19: =IF($A19="","",COUNTIFS(Encontros!$C$5:$C$104,$D19,Encontros!$G$5:$G$104,"Realizado")) | J19: =IF($A19="","",IFERROR($H19/$I19,"")) | K19: =IF($A19="","",IF($G19<>"Em acompanhamento","Não aplicável",IF($I19=0,"Aguardando encontro",IF(AND($H19>=Premissas!$B$4,$J19>=Premissas!$B$3),"Concluído",IF($I19>=Premissas!$B$4,"Conferir frequência","Em andamento")))))
H20: =IF($A20="","",COUNTIFS('Presenças'!$B$3:$B$102,$A20,'Presenças'!$G$3:$G$102,"Presente")) | I20: =IF($A20="","",COUNTIFS(Encontros!$C$5:$C$104,$D20,Encontros!$G$5:$G$104,"Realizado")) | J20: =IF($A20="","",IFERROR($H20/$I20,"")) | K20: =IF($A20="","",IF($G20<>"Em acompanhamento","Não aplicável",IF($I20=0,"Aguardando encontro",IF(AND($H20>=Premissas!$B$4,$J20>=Premissas!$B$3),"Concluído",IF($I20>=Premissas!$B$4,"Conferir frequência","Em andamento")))))
H21: =IF($A21="","",COUNTIFS('Presenças'!$B$3:$B$102,$A21,'Presenças'!$G$3:$G$102,"Presente")) | I21: =IF($A21="","",COUNTIFS(Encontros!$C$5:$C$104,$D21,Encontros!$G$5:$G$104,"Realizado")) | J21: =IF($A21="","",IFERROR($H21/$I21,"")) | K21: =IF($A21="","",IF($G21<>"Em acompanhamento","Não aplicável",IF($I21=0,"Aguardando encontro",IF(AND($H21>=Premissas!$B$4,$J21>=Premissas!$B$3),"Concluído",IF($I21>=Premissas!$B$4,"Conferir frequência","Em andamento")))))
H22: =IF($A22="","",COUNTIFS('Presenças'!$B$3:$B$102,$A22,'Presenças'!$G$3:$G$102,"Presente")) | I22: =IF($A22="","",COUNTIFS(Encontros!$C$5:$C$104,$D22,Encontros!$G$5:$G$104,"Realizado")) | J22: =IF($A22="","",IFERROR($H22/$I22,"")) | K22: =IF($A22="","",IF($G22<>"Em acompanhamento","Não aplicável",IF($I22=0,"Aguardando encontro",IF(AND($H22>=Premissas!$B$4,$J22>=Premissas!$B$3),"Concluído",IF($I22>=Premissas!$B$4,"Conferir frequência","Em andamento")))))
... H102: =IF($A102="","",COUNTIFS('Presenças'!$B$3:$B$102,$A102,'Presenças'!$G$3:$G$102,"Presente")) | I102: =IF($A102="","",COUNTIFS(Encontros!$C$5:$C$104,$D102,Encontros!$G$5:$G$104,"Realizado")) | J102: =IF($A102="","",IFERROR($H102/$I102,"")) | K102: =IF($A102="","",IF($G102<>"Em acompanhamento","Não aplicável",IF($I102=0,"Aguardando encontro",IF(AND($H102>=Premissas!$B$4,$J102>=Premissas!$B$3),"Concluído",IF($I102>=Premissas!$B$4,"Conferir frequência","Em andamento")))))

Sheet Encontros
A1: Encontros e conteúdos — classe de novos convertidos
A2: Carga mínima | B2: =Premissas!$B$5 | C2: Carga máxima | D2: =Premissas!$B$6 | E2: Data de referência | F2: =Premissas!$B$7 | G2: Data mínima | H2: =Premissas!$B$8
A4: Código | B4: Data | C4: Turma | D4: Tema ou conteúdo | E4: Facilitador fictício | F4: Carga horária | G4: Status | H4: Observação
A5: ENC-FIC-001 | B5: 46239 | C5: Turma Horizonte | D5: Boas-vindas e propósito da classe | E5: Facilitador Fictício Aurora | F5: 1.5 | G5: Realizado | H5: Conteúdo introdutório fictício.
A6: ENC-FIC-002 | B6: 46246 | C6: Turma Horizonte | D6: Fundamentos da fé cristã | E6: Facilitador Fictício Jardim | F6: 1.5 | G6: Realizado
A7: ENC-FIC-003 | B7: 46253 | C7: Turma Horizonte | D7: Leitura bíblica e oração | E7: Facilitador Fictício Aurora | F7: 1.5 | G7: Realizado
A8: ENC-FIC-004 | B8: 46260 | C8: Turma Horizonte | D8: Comunhão e vida em comunidade | E8: Facilitador Fictício Jardim | F8: 1.5 | G8: Realizado
A9: ENC-FIC-005 | B9: 46267 | C9: Turma Horizonte | D9: Serviço cristão e ministérios | E9: Facilitador Fictício Aurora | F9: 1.5 | G9: Realizado
A10: ENC-FIC-006 | B10: 46274 | C10: Turma Horizonte | D10: Revisão e próximos passos | E10: Facilitador Fictício Jardim | F10: 1.5 | G10: Realizado | H10: Revisão fictícia da turma.
A11: ENC-FIC-007 | B11: 46268 | C11: Turma Semente | D11: Boas-vindas e propósito da classe | E11: Facilitador Fictício Horizonte | F11: 1.5 | G11: Realizado
A12: ENC-FIC-008 | B12: 46275 | C12: Turma Semente | D12: Fundamentos da fé cristã | E12: Facilitador Fictício Horizonte | F12: 1.5 | G12: Planejado | H12: Exemplo fictício pendente de conferência.

Sheet Presenças
A1: Registros de presença — classe de novos convertidos
A2: Registro | B2: Código do participante | C2: Nome fictício | D2: Código do encontro | E2: Data | F2: Turma do encontro | G2: Presença | H2: Observação | I2: Conferência
A3: REG-FIC-001 | B3: CONV-FIC-001 | C3: =IF($B3="","",IFERROR(VLOOKUP($B3,Participantes!$A$3:$B$102,2,FALSE),"")) | D3: ENC-FIC-001 | E3: =IF($D3="","",IFERROR(VLOOKUP($D3,Encontros!$A$5:$B$104,2,FALSE),"")) | F3: =IF($D3="","",IFERROR(VLOOKUP($D3,Encontros!$A$5:$C$104,3,FALSE),"")) | G3: Presente | I3: =IF(OR($B3="",$D3=""),"",IF(COUNTIFS($B$3:$B$102,$B3,$D$3:$D$102,$D3)>1,"Conferir duplicidade",IFERROR(IF(VLOOKUP($B3,Participantes!$A$3:$D$102,4,FALSE)=VLOOKUP($D3,Encontros!$A$5:$C$104,3,FALSE),"OK","Conferir turma"),"Conferir códigos")))
A4: REG-FIC-002 | B4: CONV-FIC-001 | C4: =IF($B4="","",IFERROR(VLOOKUP($B4,Participantes!$A$3:$B$102,2,FALSE),"")) | D4: ENC-FIC-002 | E4: =IF($D4="","",IFERROR(VLOOKUP($D4,Encontros!$A$5:$B$104,2,FALSE),"")) | F4: =IF($D4="","",IFERROR(VLOOKUP($D4,Encontros!$A$5:$C$104,3,FALSE),"")) | G4: Presente | I4: =IF(OR($B4="",$D4=""),"",IF(COUNTIFS($B$3:$B$102,$B4,$D$3:$D$102,$D4)>1,"Conferir duplicidade",IFERROR(IF(VLOOKUP($B4,Participantes!$A$3:$D$102,4,FALSE)=VLOOKUP($D4,Encontros!$A$5:$C$104,3,FALSE),"OK","Conferir turma"),"Conferir códigos")))
A5: REG-FIC-003 | B5: CONV-FIC-001 | C5: =IF($B5="","",IFERROR(VLOOKUP($B5,Participantes!$A$3:$B$102,2,FALSE),"")) | D5: ENC-FIC-003 | E5: =IF($D5="","",IFERROR(VLOOKUP($D5,Encontros!$A$5:$B$104,2,FALSE),"")) | F5: =IF($D5="","",IFERROR(VLOOKUP($D5,Encontros!$A$5:$C$104,3,FALSE),"")) | G5: Presente | I5: =IF(OR($B5="",$D5=""),"",IF(COUNTIFS($B$3:$B$102,$B5,$D$3:$D$102,$D5)>1,"Conferir duplicidade",IFERROR(IF(VLOOKUP($B5,Participantes!$A$3:$D$102,4,FALSE)=VLOOKUP($D5,Encontros!$A$5:$C$104,3,FALSE),"OK","Conferir turma"),"Conferir códigos")))
A6: REG-FIC-004 | B6: CONV-FIC-001 | C6: =IF($B6="","",IFERROR(VLOOKUP($B6,Participantes!$A$3:$B$102,2,FALSE),"")) | D6: ENC-FIC-004 | E6: =IF($D6="","",IFERROR(VLOOKUP($D6,Encontros!$A$5:$B$104,2,FALSE),"")) | F6: =IF($D6="","",IFERROR(VLOOKUP($D6,Encontros!$A$5:$C$104,3,FALSE),"")) | G6: Presente | I6: =IF(OR($B6="",$D6=""),"",IF(COUNTIFS($B$3:$B$102,$B6,$D$3:$D$102,$D6)>1,"Conferir duplicidade",IFERROR(IF(VLOOKUP($B6,Participantes!$A$3:$D$102,4,FALSE)=VLOOKUP($D6,Encontros!$A$5:$C$104,3,FALSE),"OK","Conferir turma"),"Conferir códigos")))
A7: REG-FIC-005 | B7: CONV-FIC-001 | C7: =IF($B7="","",IFERROR(VLOOKUP($B7,Participantes!$A$3:$B$102,2,FALSE),"")) | D7: ENC-FIC-005 | E7: =IF($D7="","",IFERROR(VLOOKUP($D7,Encontros!$A$5:$B$104,2,FALSE),"")) | F7: =IF($D7="","",IFERROR(VLOOKUP($D7,Encontros!$A$5:$C$104,3,FALSE),"")) | G7: Presente | I7: =IF(OR($B7="",$D7=""),"",IF(COUNTIFS($B$3:$B$102,$B7,$D$3:$D$102,$D7)>1,"Conferir duplicidade",IFERROR(IF(VLOOKUP($B7,Participantes!$A$3:$D$102,4,FALSE)=VLOOKUP($D7,Encontros!$A$5:$C$104,3,FALSE),"OK","Conferir turma"),"Conferir códigos")))
A8: REG-FIC-006 | B8: CONV-FIC-001 | C8: =IF($B8="","",IFERROR(VLOOKUP($B8,Participantes!$A$3:$B$102,2,FALSE),"")) | D8: ENC-FIC-006 | E8: =IF($D8="","",IFERROR(VLOOKUP($D8,Encontros!$A$5:$B$104,2,FALSE),"")) | F8: =IF($D8="","",IFERROR(VLOOKUP($D8,Encontros!$A$5:$C$104,3,FALSE),"")) | G8: Presente | I8: =IF(OR($B8="",$D8=""),"",IF(COUNTIFS($B$3:$B$102,$B8,$D$3:$D$102,$D8)>1,"Conferir duplicidade",IFERROR(IF(VLOOKUP($B8,Participantes!$A$3:$D$102,4,FALSE)=VLOOKUP($D8,Encontros!$A$5:$C$104,3,FALSE),"OK","Conferir turma"),"Conferir códigos")))
A9: REG-FIC-007 | B9: CONV-FIC-002 | C9: =IF($B9="","",IFERROR(VLOOKUP($B9,Participantes!$A$3:$B$102,2,FALSE),"")) | D9: ENC-FIC-001 | E9: =IF($D9="","",IFERROR(VLOOKUP($D9,Encontros!$A$5:$B$104,2,FALSE),"")) | F9: =IF($D9="","",IFERROR(VLOOKUP($D9,Encontros!$A$5:$C$104,3,FALSE),"")) | G9: Presente | I9: =IF(OR($B9="",$D9=""),"",IF(COUNTIFS($B$3:$B$102,$B9,$D$3:$D$102,$D9)>1,"Conferir duplicidade",IFERROR(IF(VLOOKUP($B9,Participantes!$A$3:$D$102,4,FALSE)=VLOOKUP($D9,Encontros!$A$5:$C$104,3,FALSE),"OK","Conferir turma"),"Conferir códigos")))
A10: REG-FIC-008 | B10: CONV-FIC-002 | C10: =IF($B10="","",IFERROR(VLOOKUP($B10,Participantes!$A$3:$B$102,2,FALSE),"")) | D10: ENC-FIC-002 | E10: =IF($D10="","",IFERROR(VLOOKUP($D10,Encontros!$A$5:$B$104,2,FALSE),"")) | F10: =IF($D10="","",IFERROR(VLOOKUP($D10,Encontros!$A$5:$C$104,3,FALSE),"")) | G10: Presente | I10: =IF(OR($B10="",$D10=""),"",IF(COUNTIFS($B$3:$B$102,$B10,$D$3:$D$102,$D10)>1,"Conferir duplicidade",IFERROR(IF(VLOOKUP($B10,Participantes!$A$3:$D$102,4,FALSE)=VLOOKUP($D10,Encontros!$A$5:$C$104,3,FALSE),"OK","Conferir turma"),"Conferir códigos")))
A11: REG-FIC-009 | B11: CONV-FIC-002 | C11: =IF($B11="","",IFERROR(VLOOKUP($B11,Participantes!$A$3:$B$102,2,FALSE),"")) | D11: ENC-FIC-003 | E11: =IF($D11="","",IFERROR(VLOOKUP($D11,Encontros!$A$5:$B$104,2,FALSE),"")) | F11: =IF($D11="","",IFERROR(VLOOKUP($D11,Encontros!$A$5:$C$104,3,FALSE),"")) | G11: Ausente | H11: Exemplo fictício: ausência informada. | I11: =IF(OR($B11="",$D11=""),"",IF(COUNTIFS($B$3:$B$102,$B11,$D$3:$D$102,$D11)>1,"Conferir duplicidade",IFERROR(IF(VLOOKUP($B11,Participantes!$A$3:$D$102,4,FALSE)=VLOOKUP($D11,Encontros!$A$5:$C$104,3,FALSE),"OK","Conferir turma"),"Conferir códigos")))
A12: REG-FIC-010 | B12: CONV-FIC-002 | C12: =IF($B12="","",IFERROR(VLOOKUP($B12,Participantes!$A$3:$B$102,2,FALSE),"")) | D12: ENC-FIC-004 | E12: =IF($D12="","",IFERROR(VLOOKUP($D12,Encontros!$A$5:$B$104,2,FALSE),"")) | F12: =IF($D12="","",IFERROR(VLOOKUP($D12,Encontros!$A$5:$C$104,3,FALSE),"")) | G12: Presente | I12: =IF(OR($B12="",$D12=""),"",IF(COUNTIFS($B$3:$B$102,$B12,$D$3:$D$102,$D12)>1,"Conferir duplicidade",IFERROR(IF(VLOOKUP($B12,Participantes!$A$3:$D$102,4,FALSE)=VLOOKUP($D12,Encontros!$A$5:$C$104,3,FALSE),"OK","Conferir turma"),"Conferir códigos")))
A13: REG-FIC-011 | B13: CONV-FIC-002 | C13: =IF($B13="","",IFERROR(VLOOKUP($B13,Participantes!$A$3:$B$102,2,FALSE),"")) | D13: ENC-FIC-005 | E13: =IF($D13="","",IFERROR(VLOOKUP($D13,Encontros!$A$5:$B$104,2,FALSE),"")) | F13: =IF($D13="","",IFERROR(VLOOKUP($D13,Encontros!$A$5:$C$104,3,FALSE),"")) | G13: Justificada | H13: Exemplo fictício: justificativa registrada. | I13: =IF(OR($B13="",$D13=""),"",IF(COUNTIFS($B$3:$B$102,$B13,$D$3:$D$102,$D13)>1,"Conferir duplicidade",IFERROR(IF(VLOOKUP($B13,Participantes!$A$3:$D$102,4,FALSE)=VLOOKUP($D13,Encontros!$A$5:$C$104,3,FALSE),"OK","Conferir turma"),"Conferir códigos")))
A14: REG-FIC-012 | B14: CONV-FIC-002 | C14: =IF($B14="","",IFERROR(VLOOKUP($B14,Participantes!$A$3:$B$102,2,FALSE),"")) | D14: ENC-FIC-006 | E14: =IF($D14="","",IFERROR(VLOOKUP($D14,Encontros!$A$5:$B$104,2,FALSE),"")) | F14: =IF($D14="","",IFERROR(VLOOKUP($D14,Encontros!$A$5:$C$104,3,FALSE),"")) | G14: Presente | I14: =IF(OR($B14="",$D14=""),"",IF(COUNTIFS($B$3:$B$102,$B14,$D$3:$D$102,$D14)>1,"Conferir duplicidade",IFERROR(IF(VLOOKUP($B14,Participantes!$A$3:$D$102,4,FALSE)=VLOOKUP($D14,Encontros!$A$5:$C$104,3,FALSE),"OK","Conferir turma"),"Conferir códigos")))
C15: =IF($B15="","",IFERROR(VLOOKUP($B15,Participantes!$A$3:$B$102,2,FALSE),"")) | E15: =IF($D15="","",IFERROR(VLOOKUP($D15,Encontros!$A$5:$B$104,2,FALSE),"")) | F15: =IF($D15="","",IFERROR(VLOOKUP($D15,Encontros!$A$5:$C$104,3,FALSE),"")) | I15: =IF(OR($B15="",$D15=""),"",IF(COUNTIFS($B$3:$B$102,$B15,$D$3:$D$102,$D15)>1,"Conferir duplicidade",IFERROR(IF(VLOOKUP($B15,Participantes!$A$3:$D$102,4,FALSE)=VLOOKUP($D15,Encontros!$A$5:$C$104,3,FALSE),"OK","Conferir turma"),"Conferir códigos")))
C16: =IF($B16="","",IFERROR(VLOOKUP($B16,Participantes!$A$3:$B$102,2,FALSE),"")) | E16: =IF($D16="","",IFERROR(VLOOKUP($D16,Encontros!$A$5:$B$104,2,FALSE),"")) | F16: =IF($D16="","",IFERROR(VLOOKUP($D16,Encontros!$A$5:$C$104,3,FALSE),"")) | I16: =IF(OR($B16="",$D16=""),"",IF(COUNTIFS($B$3:$B$102,$B16,$D$3:$D$102,$D16)>1,"Conferir duplicidade",IFERROR(IF(VLOOKUP($B16,Participantes!$A$3:$D$102,4,FALSE)=VLOOKUP($D16,Encontros!$A$5:$C$104,3,FALSE),"OK","Conferir turma"),"Conferir códigos")))
C17: =IF($B17="","",IFERROR(VLOOKUP($B17,Participantes!$A$3:$B$102,2,FALSE),"")) | E17: =IF($D17="","",IFERROR(VLOOKUP($D17,Encontros!$A$5:$B$104,2,FALSE),"")) | F17: =IF($D17="","",IFERROR(VLOOKUP($D17,Encontros!$A$5:$C$104,3,FALSE),"")) | I17: =IF(OR($B17="",$D17=""),"",IF(COUNTIFS($B$3:$B$102,$B17,$D$3:$D$102,$D17)>1,"Conferir duplicidade",IFERROR(IF(VLOOKUP($B17,Participantes!$A$3:$D$102,4,FALSE)=VLOOKUP($D17,Encontros!$A$5:$C$104,3,FALSE),"OK","Conferir turma"),"Conferir códigos")))
C18: =IF($B18="","",IFERROR(VLOOKUP($B18,Participantes!$A$3:$B$102,2,FALSE),"")) | E18: =IF($D18="","",IFERROR(VLOOKUP($D18,Encontros!$A$5:$B$104,2,FALSE),"")) | F18: =IF($D18="","",IFERROR(VLOOKUP($D18,Encontros!$A$5:$C$104,3,FALSE),"")) | I18: =IF(OR($B18="",$D18=""),"",IF(COUNTIFS($B$3:$B$102,$B18,$D$3:$D$102,$D18)>1,"Conferir duplicidade",IFERROR(IF(VLOOKUP($B18,Participantes!$A$3:$D$102,4,FALSE)=VLOOKUP($D18,Encontros!$A$5:$C$104,3,FALSE),"OK","Conferir turma"),"Conferir códigos")))
C19: =IF($B19="","",IFERROR(VLOOKUP($B19,Participantes!$A$3:$B$102,2,FALSE),"")) | E19: =IF($D19="","",IFERROR(VLOOKUP($D19,Encontros!$A$5:$B$104,2,FALSE),"")) | F19: =IF($D19="","",IFERROR(VLOOKUP($D19,Encontros!$A$5:$C$104,3,FALSE),"")) | I19: =IF(OR($B19="",$D19=""),"",IF(COUNTIFS($B$3:$B$102,$B19,$D$3:$D$102,$D19)>1,"Conferir duplicidade",IFERROR(IF(VLOOKUP($B19,Participantes!$A$3:$D$102,4,FALSE)=VLOOKUP($D19,Encontros!$A$5:$C$104,3,FALSE),"OK","Conferir turma"),"Conferir códigos")))
C20: =IF($B20="","",IFERROR(VLOOKUP($B20,Participantes!$A$3:$B$102,2,FALSE),"")) | E20: =IF($D20="","",IFERROR(VLOOKUP($D20,Encontros!$A$5:$B$104,2,FALSE),"")) | F20: =IF($D20="","",IFERROR(VLOOKUP($D20,Encontros!$A$5:$C$104,3,FALSE),"")) | I20: =IF(OR($B20="",$D20=""),"",IF(COUNTIFS($B$3:$B$102,$B20,$D$3:$D$102,$D20)>1,"Conferir duplicidade",IFERROR(IF(VLOOKUP($B20,Participantes!$A$3:$D$102,4,FALSE)=VLOOKUP($D20,Encontros!$A$5:$C$104,3,FALSE),"OK","Conferir turma"),"Conferir códigos")))
C21: =IF($B21="","",IFERROR(VLOOKUP($B21,Participantes!$A$3:$B$102,2,FALSE),"")) | E21: =IF($D21="","",IFERROR(VLOOKUP($D21,Encontros!$A$5:$B$104,2,FALSE),"")) | F21: =IF($D21="","",IFERROR(VLOOKUP($D21,Encontros!$A$5:$C$104,3,FALSE),"")) | I21: =IF(OR($B21="",$D21=""),"",IF(COUNTIFS($B$3:$B$102,$B21,$D$3:$D$102,$D21)>1,"Conferir duplicidade",IFERROR(IF(VLOOKUP($B21,Participantes!$A$3:$D$102,4,FALSE)=VLOOKUP($D21,Encontros!$A$5:$C$104,3,FALSE),"OK","Conferir turma"),"Conferir códigos")))
C22: =IF($B22="","",IFERROR(VLOOKUP($B22,Participantes!$A$3:$B$102,2,FALSE),"")) | E22: =IF($D22="","",IFERROR(VLOOKUP($D22,Encontros!$A$5:$B$104,2,FALSE),"")) | F22: =IF($D22="","",IFERROR(VLOOKUP($D22,Encontros!$A$5:$C$104,3,FALSE),"")) | I22: =IF(OR($B22="",$D22=""),"",IF(COUNTIFS($B$3:$B$102,$B22,$D$3:$D$102,$D22)>1,"Conferir duplicidade",IFERROR(IF(VLOOKUP($B22,Participantes!$A$3:$D$102,4,FALSE)=VLOOKUP($D22,Encontros!$A$5:$C$104,3,FALSE),"OK","Conferir turma"),"Conferir códigos")))
C23: =IF($B23="","",IFERROR(VLOOKUP($B23,Participantes!$A$3:$B$102,2,FALSE),"")) | E23: =IF($D23="","",IFERROR(VLOOKUP($D23,Encontros!$A$5:$B$104,2,FALSE),"")) | F23: =IF($D23="","",IFERROR(VLOOKUP($D23,Encontros!$A$5:$C$104,3,FALSE),"")) | I23: =IF(OR($B23="",$D23=""),"",IF(COUNTIFS($B$3:$B$102,$B23,$D$3:$D$102,$D23)>1,"Conferir duplicidade",IFERROR(IF(VLOOKUP($B23,Participantes!$A$3:$D$102,4,FALSE)=VLOOKUP($D23,Encontros!$A$5:$C$104,3,FALSE),"OK","Conferir turma"),"Conferir códigos")))
C24: =IF($B24="","",IFERROR(VLOOKUP($B24,Participantes!$A$3:$B$102,2,FALSE),"")) | E24: =IF($D24="","",IFERROR(VLOOKUP($D24,Encontros!$A$5:$B$104,2,FALSE),"")) | F24: =IF($D24="","",IFERROR(VLOOKUP($D24,Encontros!$A$5:$C$104,3,FALSE),"")) | I24: =IF(OR($B24="",$D24=""),"",IF(COUNTIFS($B$3:$B$102,$B24,$D$3:$D$102,$D24)>1,"Conferir duplicidade",IFERROR(IF(VLOOKUP($B24,Participantes!$A$3:$D$102,4,FALSE)=VLOOKUP($D24,Encontros!$A$5:$C$104,3,FALSE),"OK","Conferir turma"),"Conferir códigos")))
C25: =IF($B25="","",IFERROR(VLOOKUP($B25,Participantes!$A$3:$B$102,2,FALSE),"")) | E25: =IF($D25="","",IFERROR(VLOOKUP($D25,Encontros!$A$5:$B$104,2,FALSE),"")) | F25: =IF($D25="","",IFERROR(VLOOKUP($D25,Encontros!$A$5:$C$104,3,FALSE),"")) | I25: =IF(OR($B25="",$D25=""),"",IF(COUNTIFS($B$3:$B$102,$B25,$D$3:$D$102,$D25)>1,"Conferir duplicidade",IFERROR(IF(VLOOKUP($B25,Participantes!$A$3:$D$102,4,FALSE)=VLOOKUP($D25,Encontros!$A$5:$C$104,3,FALSE),"OK","Conferir turma"),"Conferir códigos")))
C26: =IF($B26="","",IFERROR(VLOOKUP($B26,Participantes!$A$3:$B$102,2,FALSE),"")) | E26: =IF($D26="","",IFERROR(VLOOKUP($D26,Encontros!$A$5:$B$104,2,FALSE),"")) | F26: =IF($D26="","",IFERROR(VLOOKUP($D26,Encontros!$A$5:$C$104,3,FALSE),"")) | I26: =IF(OR($B26="",$D26=""),"",IF(COUNTIFS($B$3:$B$102,$B26,$D$3:$D$102,$D26)>1,"Conferir duplicidade",IFERROR(IF(VLOOKUP($B26,Participantes!$A$3:$D$102,4,FALSE)=VLOOKUP($D26,Encontros!$A$5:$C$104,3,FALSE),"OK","Conferir turma"),"Conferir códigos")))
... C102: =IF($B102="","",IFERROR(VLOOKUP($B102,Participantes!$A$3:$B$102,2,FALSE),"")) | E102: =IF($D102="","",IFERROR(VLOOKUP($D102,Encontros!$A$5:$B$104,2,FALSE),"")) | F102: =IF($D102="","",IFERROR(VLOOKUP($D102,Encontros!$A$5:$C$104,3,FALSE),"")) | I102: =IF(OR($B102="",$D102=""),"",IF(COUNTIFS($B$3:$B$102,$B102,$D$3:$D$102,$D102)>1,"Conferir duplicidade",IFERROR(IF(VLOOKUP($B102,Participantes!$A$3:$D$102,4,FALSE)=VLOOKUP($D102,Encontros!$A$5:$C$104,3,FALSE),"OK","Conferir turma"),"Conferir códigos")))

Sheet Premissas
A1: Premissas editáveis — classe de novos convertidos
A2: Premissa | B2: Valor editável | C2: Aplicação
A3: Frequência mínima para conclusão | B3: 0.75 | C3: Compara as presenças com os encontros realizados da turma.
A4: Presenças mínimas para conclusão | B4: 5 | C4: Quantidade mínima usada na apuração da conclusão.
A5: Carga horária mínima por encontro | B5: 0.5 | C5: Limite editável da validação dos encontros.
A6: Carga horária máxima por encontro | B6: 4 | C6: Limite editável da validação dos encontros.
A7: Data de referência para alertas | B7: 46276 | C7: Identifica encontros planejados cuja data já passou.
A8: Data mínima permitida para encontros | B8: 43831 | C8: Evita datas de encontro muito antigas por engano.
A10: Uso | C10: Os alertas solicitam conferência humana; não representam acompanhamento ao vivo.
A11: Exemplos | C11: Todos os nomes, turmas, ministérios e registros desta pasta são fictícios.
