Workbook

Sheet Resumo
A1: Candidatos ao batismo — resumo administrativo
A4: Indicador | B4: Valor | D4: Status | E4: Quantidade
A5: Candidatos cadastrados | B5: =COUNTIF(Candidatos!$B$6:$B$105,"<>") | D5: =Premissas!A4 | E5: =COUNTIF(Candidatos!$I$6:$I$105,D5)
A6: Em acompanhamento | B6: =COUNTIF(Candidatos!$I$6:$I$105,"Em acompanhamento") | D6: =Premissas!A5 | E6: =COUNTIF(Candidatos!$I$6:$I$105,D6)
A7: Aptos para conferência | B7: =COUNTIF(Candidatos!$I$6:$I$105,"Apto para conferência") | D7: =Premissas!A6 | E7: =COUNTIF(Candidatos!$I$6:$I$105,D7)
A8: Alertas que pedem conferência | B8: =COUNTIFS(Candidatos!$B$6:$B$105,"<>",Candidatos!$M$6:$M$105,"<>Sem alerta") | D8: =Premissas!A7 | E8: =COUNTIF(Candidatos!$I$6:$I$105,D8)
A9: Batismos registrados | B9: =COUNTIF(Candidatos!$I$6:$I$105,"Batismo registrado") | D9: =Premissas!A8 | E9: =COUNTIF(Candidatos!$I$6:$I$105,D9)
A10: Datas previstas nos próximos dias | B10: =COUNTIFS(Candidatos!$B$6:$B$105,"<>",Candidatos!$H$6:$H$105,">="&TODAY(),Candidatos!$H$6:$H$105,"<="&TODAY()+Premissas!$H$5,Candidatos!$I$6:$I$105,"<>Batismo registrado")
A11: Documentação marcada como completa | B11: =COUNTIF(Candidatos!$G$6:$G$105,"Completo")
A12: Encontros realizados | B12: =SUM(Candidatos!$J$6:$J$105)
A13: Média de encontros por candidato | B13: =IFERROR(SUM(Candidatos!$J$6:$J$105)/COUNTIF(Candidatos!$B$6:$B$105,"<>"),"")
A14: Percentual apto para conferência | B14: =IFERROR(COUNTIF(Candidatos!$I$6:$I$105,"Apto para conferência")/COUNTIF(Candidatos!$B$6:$B$105,"<>"),"")

Sheet Candidatos
A1: Cadastro de candidatos ao batismo
A3: Campos amarelos: entradas editáveis. | G3: Alertas indicam necessidade de conferência administrativa.
A5: Código | B5: Candidato fictício | C5: Data de cadastro | D5: Ministério | E5: Responsável | F5: Etapa atual | G5: Documentos | H5: Data prevista | I5: Status do cadastro | J5: Encontros realizados | K5: Última atualização | L5: Observações | M5: Alerta de conferência
A6: CB-FICT-001 | B6: Pessoa Fictícia Ipê 01 | C6: 46186 | D6: Acolhimento Fictício | E6: Responsável Fictício A | F6: Primeiro contato | G6: Não iniciado | I6: Em cadastro | J6: =IF(A6="","",COUNTIFS(Encontros!$B$6:$B$105,A6,Encontros!$F$6:$F$105,"Realizado")) | K6: 46269 | L6: Aguardando definição fictícia do próximo encontro. | M6: =IF(COUNTA(A6:I6,K6:L6)=0,"",IF(OR(A6="",B6="",C6="",D6="",E6="",F6="",G6="",I6="",K6=""),"Conferir campos essenciais",IF(COUNTIF($A$6:$A$105,A6)>1,"Código duplicado",IF(AND(I6="Apto para conferência",OR(G6<>"Completo",J6<Premissas!$H$4)),"Rever requisitos informados",IF(AND(H6<>"",H6<TODAY(),I6<>"Batismo registrado"),"Data prevista vencida",IF(AND(H6<>"",H6>=TODAY(),H6<=TODAY()+Premissas!$H$5,I6<>"Batismo registrado"),"Data próxima — conferir","Sem alerta"))))))
A7: CB-FICT-002 | B7: Pessoa Fictícia Cedro 02 | C7: 46201 | D7: Integração Fictícia | E7: Responsável Fictício B | F7: Encontro de preparação | G7: Em conferência | H7: 46321 | I7: Em acompanhamento | J7: =IF(A7="","",COUNTIFS(Encontros!$B$6:$B$105,A7,Encontros!$F$6:$F$105,"Realizado")) | K7: 46272 | L7: Conferir itens documentais informados. | M7: =IF(COUNTA(A7:I7,K7:L7)=0,"",IF(OR(A7="",B7="",C7="",D7="",E7="",F7="",G7="",I7="",K7=""),"Conferir campos essenciais",IF(COUNTIF($A$6:$A$105,A7)>1,"Código duplicado",IF(AND(I7="Apto para conferência",OR(G7<>"Completo",J7<Premissas!$H$4)),"Rever requisitos informados",IF(AND(H7<>"",H7<TODAY(),I7<>"Batismo registrado"),"Data prevista vencida",IF(AND(H7<>"",H7>=TODAY(),H7<=TODAY()+Premissas!$H$5,I7<>"Batismo registrado"),"Data próxima — conferir","Sem alerta"))))))
A8: CB-FICT-003 | B8: Pessoa Fictícia Aurora 03 | C8: 46216 | D8: Ensino Fictício | E8: Responsável Fictício C | F8: Avaliação de acompanhamento | G8: Completo | H8: 46296 | I8: Apto para conferência | J8: =IF(A8="","",COUNTIFS(Encontros!$B$6:$B$105,A8,Encontros!$F$6:$F$105,"Realizado")) | K8: 46274 | L8: Registro fictício pronto para conferência humana. | M8: =IF(COUNTA(A8:I8,K8:L8)=0,"",IF(OR(A8="",B8="",C8="",D8="",E8="",F8="",G8="",I8="",K8=""),"Conferir campos essenciais",IF(COUNTIF($A$6:$A$105,A8)>1,"Código duplicado",IF(AND(I8="Apto para conferência",OR(G8<>"Completo",J8<Premissas!$H$4)),"Rever requisitos informados",IF(AND(H8<>"",H8<TODAY(),I8<>"Batismo registrado"),"Data prevista vencida",IF(AND(H8<>"",H8>=TODAY(),H8<=TODAY()+Premissas!$H$5,I8<>"Batismo registrado"),"Data próxima — conferir","Sem alerta"))))))
A9: CB-FICT-004 | B9: Pessoa Fictícia Horizonte 04 | C9: 46221 | D9: Famílias Fictícias | E9: Responsável Fictício D | F9: Orientação inicial | G9: Pendente | I9: Pausado | J9: =IF(A9="","",COUNTIFS(Encontros!$B$6:$B$105,A9,Encontros!$F$6:$F$105,"Realizado")) | K9: 46264 | L9: Pausa administrativa fictícia registrada. | M9: =IF(COUNTA(A9:I9,K9:L9)=0,"",IF(OR(A9="",B9="",C9="",D9="",E9="",F9="",G9="",I9="",K9=""),"Conferir campos essenciais",IF(COUNTIF($A$6:$A$105,A9)>1,"Código duplicado",IF(AND(I9="Apto para conferência",OR(G9<>"Completo",J9<Premissas!$H$4)),"Rever requisitos informados",IF(AND(H9<>"",H9<TODAY(),I9<>"Batismo registrado"),"Data prevista vencida",IF(AND(H9<>"",H9>=TODAY(),H9<=TODAY()+Premissas!$H$5,I9<>"Batismo registrado"),"Data próxima — conferir","Sem alerta"))))))
A10: CB-FICT-005 | B10: Pessoa Fictícia Manacá 05 | C10: 46096 | D10: Acolhimento Fictício | E10: Responsável Fictício A | F10: Agendamento do batismo | G10: Completo | H10: 46256 | I10: Batismo registrado | J10: =IF(A10="","",COUNTIFS(Encontros!$B$6:$B$105,A10,Encontros!$F$6:$F$105,"Realizado")) | K10: 46258 | L10: Conclusão fictícia anotada no controle interno. | M10: =IF(COUNTA(A10:I10,K10:L10)=0,"",IF(OR(A10="",B10="",C10="",D10="",E10="",F10="",G10="",I10="",K10=""),"Conferir campos essenciais",IF(COUNTIF($A$6:$A$105,A10)>1,"Código duplicado",IF(AND(I10="Apto para conferência",OR(G10<>"Completo",J10<Premissas!$H$4)),"Rever requisitos informados",IF(AND(H10<>"",H10<TODAY(),I10<>"Batismo registrado"),"Data prevista vencida",IF(AND(H10<>"",H10>=TODAY(),H10<=TODAY()+Premissas!$H$5,I10<>"Batismo registrado"),"Data próxima — conferir","Sem alerta"))))))
A11: CB-FICT-006 | B11: Pessoa Fictícia Estrela 06 | C11: 46226 | D11: Integração Fictícia | E11: Responsável Fictício B | F11: Conferência documental | G11: Em conferência | H11: 46271 | I11: Em acompanhamento | J11: =IF(A11="","",COUNTIFS(Encontros!$B$6:$B$105,A11,Encontros!$F$6:$F$105,"Realizado")) | K11: 46273 | L11: Data prevista requer nova conferência. | M11: =IF(COUNTA(A11:I11,K11:L11)=0,"",IF(OR(A11="",B11="",C11="",D11="",E11="",F11="",G11="",I11="",K11=""),"Conferir campos essenciais",IF(COUNTIF($A$6:$A$105,A11)>1,"Código duplicado",IF(AND(I11="Apto para conferência",OR(G11<>"Completo",J11<Premissas!$H$4)),"Rever requisitos informados",IF(AND(H11<>"",H11<TODAY(),I11<>"Batismo registrado"),"Data prevista vencida",IF(AND(H11<>"",H11>=TODAY(),H11<=TODAY()+Premissas!$H$5,I11<>"Batismo registrado"),"Data próxima — conferir","Sem alerta"))))))
A12: CB-FICT-007 | B12: Pessoa Fictícia Bromélia 07 | C12: 46236 | D12: Juventude Fictícia | E12: Responsável Fictício E | F12: Avaliação de acompanhamento | G12: Pendente | H12: 46291 | I12: Apto para conferência | J12: =IF(A12="","",COUNTIFS(Encontros!$B$6:$B$105,A12,Encontros!$F$6:$F$105,"Realizado")) | K12: 46275 | L12: Status e documentos precisam ser revistos. | M12: =IF(COUNTA(A12:I12,K12:L12)=0,"",IF(OR(A12="",B12="",C12="",D12="",E12="",F12="",G12="",I12="",K12=""),"Conferir campos essenciais",IF(COUNTIF($A$6:$A$105,A12)>1,"Código duplicado",IF(AND(I12="Apto para conferência",OR(G12<>"Completo",J12<Premissas!$H$4)),"Rever requisitos informados",IF(AND(H12<>"",H12<TODAY(),I12<>"Batismo registrado"),"Data prevista vencida",IF(AND(H12<>"",H12>=TODAY(),H12<=TODAY()+Premissas!$H$5,I12<>"Batismo registrado"),"Data próxima — conferir","Sem alerta"))))))
A13: CB-FICT-008 | B13: Pessoa Fictícia Sol 08 | C13: 46241 | D13: Ensino Fictício | E13: Responsável Fictício C | F13: Encontro de preparação | G13: Completo | H13: 46331 | I13: Em acompanhamento | J13: =IF(A13="","",COUNTIFS(Encontros!$B$6:$B$105,A13,Encontros!$F$6:$F$105,"Realizado")) | K13: 46271 | L13: Encontro futuro fictício já agendado. | M13: =IF(COUNTA(A13:I13,K13:L13)=0,"",IF(OR(A13="",B13="",C13="",D13="",E13="",F13="",G13="",I13="",K13=""),"Conferir campos essenciais",IF(COUNTIF($A$6:$A$105,A13)>1,"Código duplicado",IF(AND(I13="Apto para conferência",OR(G13<>"Completo",J13<Premissas!$H$4)),"Rever requisitos informados",IF(AND(H13<>"",H13<TODAY(),I13<>"Batismo registrado"),"Data prevista vencida",IF(AND(H13<>"",H13>=TODAY(),H13<=TODAY()+Premissas!$H$5,I13<>"Batismo registrado"),"Data próxima — conferir","Sem alerta"))))))
A14: CB-FICT-009 | B14: Pessoa Fictícia Jardim 09 | C14: 46266 | D14: Acolhimento Fictício | E14: Responsável Fictício D | F14: Primeiro contato | G14: Não iniciado | I14: Em cadastro | J14: =IF(A14="","",COUNTIFS(Encontros!$B$6:$B$105,A14,Encontros!$F$6:$F$105,"Realizado")) | K14: 46274 | L14: Contato inicial fictício registrado. | M14: =IF(COUNTA(A14:I14,K14:L14)=0,"",IF(OR(A14="",B14="",C14="",D14="",E14="",F14="",G14="",I14="",K14=""),"Conferir campos essenciais",IF(COUNTIF($A$6:$A$105,A14)>1,"Código duplicado",IF(AND(I14="Apto para conferência",OR(G14<>"Completo",J14<Premissas!$H$4)),"Rever requisitos informados",IF(AND(H14<>"",H14<TODAY(),I14<>"Batismo registrado"),"Data prevista vencida",IF(AND(H14<>"",H14>=TODAY(),H14<=TODAY()+Premissas!$H$5,I14<>"Batismo registrado"),"Data próxima — conferir","Sem alerta"))))))
A15: CB-FICT-010 | B15: Pessoa Fictícia Vale 10 | C15: 46126 | D15: Famílias Fictícias | E15: Responsável Fictício E | F15: Agendamento do batismo | G15: Completo | H15: 46231 | I15: Batismo registrado | J15: =IF(A15="","",COUNTIFS(Encontros!$B$6:$B$105,A15,Encontros!$F$6:$F$105,"Realizado")) | K15: 46234 | L15: Conclusão fictícia anotada para histórico. | M15: =IF(COUNTA(A15:I15,K15:L15)=0,"",IF(OR(A15="",B15="",C15="",D15="",E15="",F15="",G15="",I15="",K15=""),"Conferir campos essenciais",IF(COUNTIF($A$6:$A$105,A15)>1,"Código duplicado",IF(AND(I15="Apto para conferência",OR(G15<>"Completo",J15<Premissas!$H$4)),"Rever requisitos informados",IF(AND(H15<>"",H15<TODAY(),I15<>"Batismo registrado"),"Data prevista vencida",IF(AND(H15<>"",H15>=TODAY(),H15<=TODAY()+Premissas!$H$5,I15<>"Batismo registrado"),"Data próxima — conferir","Sem alerta"))))))
J16: =IF(A16="","",COUNTIFS(Encontros!$B$6:$B$105,A16,Encontros!$F$6:$F$105,"Realizado")) | M16: =IF(COUNTA(A16:I16,K16:L16)=0,"",IF(OR(A16="",B16="",C16="",D16="",E16="",F16="",G16="",I16="",K16=""),"Conferir campos essenciais",IF(COUNTIF($A$6:$A$105,A16)>1,"Código duplicado",IF(AND(I16="Apto para conferência",OR(G16<>"Completo",J16<Premissas!$H$4)),"Rever requisitos informados",IF(AND(H16<>"",H16<TODAY(),I16<>"Batismo registrado"),"Data prevista vencida",IF(AND(H16<>"",H16>=TODAY(),H16<=TODAY()+Premissas!$H$5,I16<>"Batismo registrado"),"Data próxima — conferir","Sem alerta"))))))
J17: =IF(A17="","",COUNTIFS(Encontros!$B$6:$B$105,A17,Encontros!$F$6:$F$105,"Realizado")) | M17: =IF(COUNTA(A17:I17,K17:L17)=0,"",IF(OR(A17="",B17="",C17="",D17="",E17="",F17="",G17="",I17="",K17=""),"Conferir campos essenciais",IF(COUNTIF($A$6:$A$105,A17)>1,"Código duplicado",IF(AND(I17="Apto para conferência",OR(G17<>"Completo",J17<Premissas!$H$4)),"Rever requisitos informados",IF(AND(H17<>"",H17<TODAY(),I17<>"Batismo registrado"),"Data prevista vencida",IF(AND(H17<>"",H17>=TODAY(),H17<=TODAY()+Premissas!$H$5,I17<>"Batismo registrado"),"Data próxima — conferir","Sem alerta"))))))
J18: =IF(A18="","",COUNTIFS(Encontros!$B$6:$B$105,A18,Encontros!$F$6:$F$105,"Realizado")) | M18: =IF(COUNTA(A18:I18,K18:L18)=0,"",IF(OR(A18="",B18="",C18="",D18="",E18="",F18="",G18="",I18="",K18=""),"Conferir campos essenciais",IF(COUNTIF($A$6:$A$105,A18)>1,"Código duplicado",IF(AND(I18="Apto para conferência",OR(G18<>"Completo",J18<Premissas!$H$4)),"Rever requisitos informados",IF(AND(H18<>"",H18<TODAY(),I18<>"Batismo registrado"),"Data prevista vencida",IF(AND(H18<>"",H18>=TODAY(),H18<=TODAY()+Premissas!$H$5,I18<>"Batismo registrado"),"Data próxima — conferir","Sem alerta"))))))
J19: =IF(A19="","",COUNTIFS(Encontros!$B$6:$B$105,A19,Encontros!$F$6:$F$105,"Realizado")) | M19: =IF(COUNTA(A19:I19,K19:L19)=0,"",IF(OR(A19="",B19="",C19="",D19="",E19="",F19="",G19="",I19="",K19=""),"Conferir campos essenciais",IF(COUNTIF($A$6:$A$105,A19)>1,"Código duplicado",IF(AND(I19="Apto para conferência",OR(G19<>"Completo",J19<Premissas!$H$4)),"Rever requisitos informados",IF(AND(H19<>"",H19<TODAY(),I19<>"Batismo registrado"),"Data prevista vencida",IF(AND(H19<>"",H19>=TODAY(),H19<=TODAY()+Premissas!$H$5,I19<>"Batismo registrado"),"Data próxima — conferir","Sem alerta"))))))
J20: =IF(A20="","",COUNTIFS(Encontros!$B$6:$B$105,A20,Encontros!$F$6:$F$105,"Realizado")) | M20: =IF(COUNTA(A20:I20,K20:L20)=0,"",IF(OR(A20="",B20="",C20="",D20="",E20="",F20="",G20="",I20="",K20=""),"Conferir campos essenciais",IF(COUNTIF($A$6:$A$105,A20)>1,"Código duplicado",IF(AND(I20="Apto para conferência",OR(G20<>"Completo",J20<Premissas!$H$4)),"Rever requisitos informados",IF(AND(H20<>"",H20<TODAY(),I20<>"Batismo registrado"),"Data prevista vencida",IF(AND(H20<>"",H20>=TODAY(),H20<=TODAY()+Premissas!$H$5,I20<>"Batismo registrado"),"Data próxima — conferir","Sem alerta"))))))
J21: =IF(A21="","",COUNTIFS(Encontros!$B$6:$B$105,A21,Encontros!$F$6:$F$105,"Realizado")) | M21: =IF(COUNTA(A21:I21,K21:L21)=0,"",IF(OR(A21="",B21="",C21="",D21="",E21="",F21="",G21="",I21="",K21=""),"Conferir campos essenciais",IF(COUNTIF($A$6:$A$105,A21)>1,"Código duplicado",IF(AND(I21="Apto para conferência",OR(G21<>"Completo",J21<Premissas!$H$4)),"Rever requisitos informados",IF(AND(H21<>"",H21<TODAY(),I21<>"Batismo registrado"),"Data prevista vencida",IF(AND(H21<>"",H21>=TODAY(),H21<=TODAY()+Premissas!$H$5,I21<>"Batismo registrado"),"Data próxima — conferir","Sem alerta"))))))
J22: =IF(A22="","",COUNTIFS(Encontros!$B$6:$B$105,A22,Encontros!$F$6:$F$105,"Realizado")) | M22: =IF(COUNTA(A22:I22,K22:L22)=0,"",IF(OR(A22="",B22="",C22="",D22="",E22="",F22="",G22="",I22="",K22=""),"Conferir campos essenciais",IF(COUNTIF($A$6:$A$105,A22)>1,"Código duplicado",IF(AND(I22="Apto para conferência",OR(G22<>"Completo",J22<Premissas!$H$4)),"Rever requisitos informados",IF(AND(H22<>"",H22<TODAY(),I22<>"Batismo registrado"),"Data prevista vencida",IF(AND(H22<>"",H22>=TODAY(),H22<=TODAY()+Premissas!$H$5,I22<>"Batismo registrado"),"Data próxima — conferir","Sem alerta"))))))
J23: =IF(A23="","",COUNTIFS(Encontros!$B$6:$B$105,A23,Encontros!$F$6:$F$105,"Realizado")) | M23: =IF(COUNTA(A23:I23,K23:L23)=0,"",IF(OR(A23="",B23="",C23="",D23="",E23="",F23="",G23="",I23="",K23=""),"Conferir campos essenciais",IF(COUNTIF($A$6:$A$105,A23)>1,"Código duplicado",IF(AND(I23="Apto para conferência",OR(G23<>"Completo",J23<Premissas!$H$4)),"Rever requisitos informados",IF(AND(H23<>"",H23<TODAY(),I23<>"Batismo registrado"),"Data prevista vencida",IF(AND(H23<>"",H23>=TODAY(),H23<=TODAY()+Premissas!$H$5,I23<>"Batismo registrado"),"Data próxima — conferir","Sem alerta"))))))
J24: =IF(A24="","",COUNTIFS(Encontros!$B$6:$B$105,A24,Encontros!$F$6:$F$105,"Realizado")) | M24: =IF(COUNTA(A24:I24,K24:L24)=0,"",IF(OR(A24="",B24="",C24="",D24="",E24="",F24="",G24="",I24="",K24=""),"Conferir campos essenciais",IF(COUNTIF($A$6:$A$105,A24)>1,"Código duplicado",IF(AND(I24="Apto para conferência",OR(G24<>"Completo",J24<Premissas!$H$4)),"Rever requisitos informados",IF(AND(H24<>"",H24<TODAY(),I24<>"Batismo registrado"),"Data prevista vencida",IF(AND(H24<>"",H24>=TODAY(),H24<=TODAY()+Premissas!$H$5,I24<>"Batismo registrado"),"Data próxima — conferir","Sem alerta"))))))
J25: =IF(A25="","",COUNTIFS(Encontros!$B$6:$B$105,A25,Encontros!$F$6:$F$105,"Realizado")) | M25: =IF(COUNTA(A25:I25,K25:L25)=0,"",IF(OR(A25="",B25="",C25="",D25="",E25="",F25="",G25="",I25="",K25=""),"Conferir campos essenciais",IF(COUNTIF($A$6:$A$105,A25)>1,"Código duplicado",IF(AND(I25="Apto para conferência",OR(G25<>"Completo",J25<Premissas!$H$4)),"Rever requisitos informados",IF(AND(H25<>"",H25<TODAY(),I25<>"Batismo registrado"),"Data prevista vencida",IF(AND(H25<>"",H25>=TODAY(),H25<=TODAY()+Premissas!$H$5,I25<>"Batismo registrado"),"Data próxima — conferir","Sem alerta"))))))
J26: =IF(A26="","",COUNTIFS(Encontros!$B$6:$B$105,A26,Encontros!$F$6:$F$105,"Realizado")) | M26: =IF(COUNTA(A26:I26,K26:L26)=0,"",IF(OR(A26="",B26="",C26="",D26="",E26="",F26="",G26="",I26="",K26=""),"Conferir campos essenciais",IF(COUNTIF($A$6:$A$105,A26)>1,"Código duplicado",IF(AND(I26="Apto para conferência",OR(G26<>"Completo",J26<Premissas!$H$4)),"Rever requisitos informados",IF(AND(H26<>"",H26<TODAY(),I26<>"Batismo registrado"),"Data prevista vencida",IF(AND(H26<>"",H26>=TODAY(),H26<=TODAY()+Premissas!$H$5,I26<>"Batismo registrado"),"Data próxima — conferir","Sem alerta"))))))
J27: =IF(A27="","",COUNTIFS(Encontros!$B$6:$B$105,A27,Encontros!$F$6:$F$105,"Realizado")) | M27: =IF(COUNTA(A27:I27,K27:L27)=0,"",IF(OR(A27="",B27="",C27="",D27="",E27="",F27="",G27="",I27="",K27=""),"Conferir campos essenciais",IF(COUNTIF($A$6:$A$105,A27)>1,"Código duplicado",IF(AND(I27="Apto para conferência",OR(G27<>"Completo",J27<Premissas!$H$4)),"Rever requisitos informados",IF(AND(H27<>"",H27<TODAY(),I27<>"Batismo registrado"),"Data prevista vencida",IF(AND(H27<>"",H27>=TODAY(),H27<=TODAY()+Premissas!$H$5,I27<>"Batismo registrado"),"Data próxima — conferir","Sem alerta"))))))
... J105: =IF(A105="","",COUNTIFS(Encontros!$B$6:$B$105,A105,Encontros!$F$6:$F$105,"Realizado")) | M105: =IF(COUNTA(A105:I105,K105:L105)=0,"",IF(OR(A105="",B105="",C105="",D105="",E105="",F105="",G105="",I105="",K105=""),"Conferir campos essenciais",IF(COUNTIF($A$6:$A$105,A105)>1,"Código duplicado",IF(AND(I105="Apto para conferência",OR(G105<>"Completo",J105<Premissas!$H$4)),"Rever requisitos informados",IF(AND(H105<>"",H105<TODAY(),I105<>"Batismo registrado"),"Data prevista vencida",IF(AND(H105<>"",H105>=TODAY(),H105<=TODAY()+Premissas!$H$5,I105<>"Batismo registrado"),"Data próxima — conferir","Sem alerta"))))))

Sheet Encontros
A1: Encontros de acompanhamento
A3: Campos amarelos: entradas editáveis. | E3: Use códigos da planilha Candidatos; alertas pedem conferência.
A5: Registro | B5: Código do candidato | C5: Data | D5: Tipo de encontro | E5: Responsável | F5: Resultado | G5: Duração (horas) | H5: Observações | I5: Conferência
A6: ENC-FICT-001 | B6: CB-FICT-002 | C6: 46236 | D6: Conversa inicial | E6: Responsável Fictício B | F6: Realizado | G6: 1 | H6: Conversa administrativa fictícia concluída. | I6: =IF(COUNTA(A6:H6)=0,"",IF(OR(A6="",B6="",C6="",D6="",E6="",F6=""),"Conferir campos essenciais",IF(COUNTIF(Candidatos!$A$6:$A$105,B6)=0,"Código não localizado",IF(COUNTIF($A$6:$A$105,A6)>1,"Registro duplicado",IF(AND(F6="Realizado",G6=""),"Informar duração",IF(AND(C6>TODAY(),F6="Realizado"),"Data futura marcada como realizada","Sem alerta"))))))
A7: ENC-FICT-002 | B7: CB-FICT-002 | C7: 46256 | D7: Encontro de preparação | E7: Responsável Fictício B | F7: Realizado | G7: 1.5 | H7: Conteúdo fictício de preparação registrado. | I7: =IF(COUNTA(A7:H7)=0,"",IF(OR(A7="",B7="",C7="",D7="",E7="",F7=""),"Conferir campos essenciais",IF(COUNTIF(Candidatos!$A$6:$A$105,B7)=0,"Código não localizado",IF(COUNTIF($A$6:$A$105,A7)>1,"Registro duplicado",IF(AND(F7="Realizado",G7=""),"Informar duração",IF(AND(C7>TODAY(),F7="Realizado"),"Data futura marcada como realizada","Sem alerta"))))))
A8: ENC-FICT-003 | B8: CB-FICT-003 | C8: 46246 | D8: Encontro de preparação | E8: Responsável Fictício C | F8: Realizado | G8: 1.5 | H8: Participação fictícia anotada. | I8: =IF(COUNTA(A8:H8)=0,"",IF(OR(A8="",B8="",C8="",D8="",E8="",F8=""),"Conferir campos essenciais",IF(COUNTIF(Candidatos!$A$6:$A$105,B8)=0,"Código não localizado",IF(COUNTIF($A$6:$A$105,A8)>1,"Registro duplicado",IF(AND(F8="Realizado",G8=""),"Informar duração",IF(AND(C8>TODAY(),F8="Realizado"),"Data futura marcada como realizada","Sem alerta"))))))
A9: ENC-FICT-004 | B9: CB-FICT-003 | C9: 46266 | D9: Avaliação de acompanhamento | E9: Responsável Fictício C | F9: Realizado | G9: 1 | H9: Avaliação fictícia encaminhada para conferência. | I9: =IF(COUNTA(A9:H9)=0,"",IF(OR(A9="",B9="",C9="",D9="",E9="",F9=""),"Conferir campos essenciais",IF(COUNTIF(Candidatos!$A$6:$A$105,B9)=0,"Código não localizado",IF(COUNTIF($A$6:$A$105,A9)>1,"Registro duplicado",IF(AND(F9="Realizado",G9=""),"Informar duração",IF(AND(C9>TODAY(),F9="Realizado"),"Data futura marcada como realizada","Sem alerta"))))))
A10: ENC-FICT-005 | B10: CB-FICT-005 | C10: 46176 | D10: Conferência de documentos | E10: Responsável Fictício A | F10: Realizado | G10: 0.75 | H10: Conferência fictícia registrada. | I10: =IF(COUNTA(A10:H10)=0,"",IF(OR(A10="",B10="",C10="",D10="",E10="",F10=""),"Conferir campos essenciais",IF(COUNTIF(Candidatos!$A$6:$A$105,B10)=0,"Código não localizado",IF(COUNTIF($A$6:$A$105,A10)>1,"Registro duplicado",IF(AND(F10="Realizado",G10=""),"Informar duração",IF(AND(C10>TODAY(),F10="Realizado"),"Data futura marcada como realizada","Sem alerta"))))))
A11: ENC-FICT-006 | B11: CB-FICT-006 | C11: 46256 | D11: Conferência de documentos | E11: Responsável Fictício B | F11: Realizado | G11: 1 | H11: Itens fictícios ainda em conferência. | I11: =IF(COUNTA(A11:H11)=0,"",IF(OR(A11="",B11="",C11="",D11="",E11="",F11=""),"Conferir campos essenciais",IF(COUNTIF(Candidatos!$A$6:$A$105,B11)=0,"Código não localizado",IF(COUNTIF($A$6:$A$105,A11)>1,"Registro duplicado",IF(AND(F11="Realizado",G11=""),"Informar duração",IF(AND(C11>TODAY(),F11="Realizado"),"Data futura marcada como realizada","Sem alerta"))))))
A12: ENC-FICT-007 | B12: CB-FICT-007 | C12: 46264 | D12: Avaliação de acompanhamento | E12: Responsável Fictício E | F12: Realizado | G12: 1 | H12: Pendência fictícia anotada para revisão. | I12: =IF(COUNTA(A12:H12)=0,"",IF(OR(A12="",B12="",C12="",D12="",E12="",F12=""),"Conferir campos essenciais",IF(COUNTIF(Candidatos!$A$6:$A$105,B12)=0,"Código não localizado",IF(COUNTIF($A$6:$A$105,A12)>1,"Registro duplicado",IF(AND(F12="Realizado",G12=""),"Informar duração",IF(AND(C12>TODAY(),F12="Realizado"),"Data futura marcada como realizada","Sem alerta"))))))
A13: ENC-FICT-008 | B13: CB-FICT-008 | C13: 46286 | D13: Encontro de preparação | E13: Responsável Fictício C | F13: Agendado | H13: Agendamento fictício sujeito a confirmação. | I13: =IF(COUNTA(A13:H13)=0,"",IF(OR(A13="",B13="",C13="",D13="",E13="",F13=""),"Conferir campos essenciais",IF(COUNTIF(Candidatos!$A$6:$A$105,B13)=0,"Código não localizado",IF(COUNTIF($A$6:$A$105,A13)>1,"Registro duplicado",IF(AND(F13="Realizado",G13=""),"Informar duração",IF(AND(C13>TODAY(),F13="Realizado"),"Data futura marcada como realizada","Sem alerta"))))))
A14: ENC-FICT-009 | B14: CB-FICT-010 | C14: 46196 | D14: Conferência de documentos | E14: Responsável Fictício E | F14: Realizado | G14: 0.75 | H14: Conferência fictícia concluída. | I14: =IF(COUNTA(A14:H14)=0,"",IF(OR(A14="",B14="",C14="",D14="",E14="",F14=""),"Conferir campos essenciais",IF(COUNTIF(Candidatos!$A$6:$A$105,B14)=0,"Código não localizado",IF(COUNTIF($A$6:$A$105,A14)>1,"Registro duplicado",IF(AND(F14="Realizado",G14=""),"Informar duração",IF(AND(C14>TODAY(),F14="Realizado"),"Data futura marcada como realizada","Sem alerta"))))))
A15: ENC-FICT-010 | B15: CB-FICT-004 | C15: 46251 | D15: Orientação inicial | E15: Responsável Fictício D | F15: Ausente | H15: Ausência fictícia registrada sem nova data. | I15: =IF(COUNTA(A15:H15)=0,"",IF(OR(A15="",B15="",C15="",D15="",E15="",F15=""),"Conferir campos essenciais",IF(COUNTIF(Candidatos!$A$6:$A$105,B15)=0,"Código não localizado",IF(COUNTIF($A$6:$A$105,A15)>1,"Registro duplicado",IF(AND(F15="Realizado",G15=""),"Informar duração",IF(AND(C15>TODAY(),F15="Realizado"),"Data futura marcada como realizada","Sem alerta"))))))
I16: =IF(COUNTA(A16:H16)=0,"",IF(OR(A16="",B16="",C16="",D16="",E16="",F16=""),"Conferir campos essenciais",IF(COUNTIF(Candidatos!$A$6:$A$105,B16)=0,"Código não localizado",IF(COUNTIF($A$6:$A$105,A16)>1,"Registro duplicado",IF(AND(F16="Realizado",G16=""),"Informar duração",IF(AND(C16>TODAY(),F16="Realizado"),"Data futura marcada como realizada","Sem alerta"))))))
I17: =IF(COUNTA(A17:H17)=0,"",IF(OR(A17="",B17="",C17="",D17="",E17="",F17=""),"Conferir campos essenciais",IF(COUNTIF(Candidatos!$A$6:$A$105,B17)=0,"Código não localizado",IF(COUNTIF($A$6:$A$105,A17)>1,"Registro duplicado",IF(AND(F17="Realizado",G17=""),"Informar duração",IF(AND(C17>TODAY(),F17="Realizado"),"Data futura marcada como realizada","Sem alerta"))))))
I18: =IF(COUNTA(A18:H18)=0,"",IF(OR(A18="",B18="",C18="",D18="",E18="",F18=""),"Conferir campos essenciais",IF(COUNTIF(Candidatos!$A$6:$A$105,B18)=0,"Código não localizado",IF(COUNTIF($A$6:$A$105,A18)>1,"Registro duplicado",IF(AND(F18="Realizado",G18=""),"Informar duração",IF(AND(C18>TODAY(),F18="Realizado"),"Data futura marcada como realizada","Sem alerta"))))))
I19: =IF(COUNTA(A19:H19)=0,"",IF(OR(A19="",B19="",C19="",D19="",E19="",F19=""),"Conferir campos essenciais",IF(COUNTIF(Candidatos!$A$6:$A$105,B19)=0,"Código não localizado",IF(COUNTIF($A$6:$A$105,A19)>1,"Registro duplicado",IF(AND(F19="Realizado",G19=""),"Informar duração",IF(AND(C19>TODAY(),F19="Realizado"),"Data futura marcada como realizada","Sem alerta"))))))
I20: =IF(COUNTA(A20:H20)=0,"",IF(OR(A20="",B20="",C20="",D20="",E20="",F20=""),"Conferir campos essenciais",IF(COUNTIF(Candidatos!$A$6:$A$105,B20)=0,"Código não localizado",IF(COUNTIF($A$6:$A$105,A20)>1,"Registro duplicado",IF(AND(F20="Realizado",G20=""),"Informar duração",IF(AND(C20>TODAY(),F20="Realizado"),"Data futura marcada como realizada","Sem alerta"))))))
I21: =IF(COUNTA(A21:H21)=0,"",IF(OR(A21="",B21="",C21="",D21="",E21="",F21=""),"Conferir campos essenciais",IF(COUNTIF(Candidatos!$A$6:$A$105,B21)=0,"Código não localizado",IF(COUNTIF($A$6:$A$105,A21)>1,"Registro duplicado",IF(AND(F21="Realizado",G21=""),"Informar duração",IF(AND(C21>TODAY(),F21="Realizado"),"Data futura marcada como realizada","Sem alerta"))))))
I22: =IF(COUNTA(A22:H22)=0,"",IF(OR(A22="",B22="",C22="",D22="",E22="",F22=""),"Conferir campos essenciais",IF(COUNTIF(Candidatos!$A$6:$A$105,B22)=0,"Código não localizado",IF(COUNTIF($A$6:$A$105,A22)>1,"Registro duplicado",IF(AND(F22="Realizado",G22=""),"Informar duração",IF(AND(C22>TODAY(),F22="Realizado"),"Data futura marcada como realizada","Sem alerta"))))))
I23: =IF(COUNTA(A23:H23)=0,"",IF(OR(A23="",B23="",C23="",D23="",E23="",F23=""),"Conferir campos essenciais",IF(COUNTIF(Candidatos!$A$6:$A$105,B23)=0,"Código não localizado",IF(COUNTIF($A$6:$A$105,A23)>1,"Registro duplicado",IF(AND(F23="Realizado",G23=""),"Informar duração",IF(AND(C23>TODAY(),F23="Realizado"),"Data futura marcada como realizada","Sem alerta"))))))
I24: =IF(COUNTA(A24:H24)=0,"",IF(OR(A24="",B24="",C24="",D24="",E24="",F24=""),"Conferir campos essenciais",IF(COUNTIF(Candidatos!$A$6:$A$105,B24)=0,"Código não localizado",IF(COUNTIF($A$6:$A$105,A24)>1,"Registro duplicado",IF(AND(F24="Realizado",G24=""),"Informar duração",IF(AND(C24>TODAY(),F24="Realizado"),"Data futura marcada como realizada","Sem alerta"))))))
I25: =IF(COUNTA(A25:H25)=0,"",IF(OR(A25="",B25="",C25="",D25="",E25="",F25=""),"Conferir campos essenciais",IF(COUNTIF(Candidatos!$A$6:$A$105,B25)=0,"Código não localizado",IF(COUNTIF($A$6:$A$105,A25)>1,"Registro duplicado",IF(AND(F25="Realizado",G25=""),"Informar duração",IF(AND(C25>TODAY(),F25="Realizado"),"Data futura marcada como realizada","Sem alerta"))))))
I26: =IF(COUNTA(A26:H26)=0,"",IF(OR(A26="",B26="",C26="",D26="",E26="",F26=""),"Conferir campos essenciais",IF(COUNTIF(Candidatos!$A$6:$A$105,B26)=0,"Código não localizado",IF(COUNTIF($A$6:$A$105,A26)>1,"Registro duplicado",IF(AND(F26="Realizado",G26=""),"Informar duração",IF(AND(C26>TODAY(),F26="Realizado"),"Data futura marcada como realizada","Sem alerta"))))))
I27: =IF(COUNTA(A27:H27)=0,"",IF(OR(A27="",B27="",C27="",D27="",E27="",F27=""),"Conferir campos essenciais",IF(COUNTIF(Candidatos!$A$6:$A$105,B27)=0,"Código não localizado",IF(COUNTIF($A$6:$A$105,A27)>1,"Registro duplicado",IF(AND(F27="Realizado",G27=""),"Informar duração",IF(AND(C27>TODAY(),F27="Realizado"),"Data futura marcada como realizada","Sem alerta"))))))
... I105: =IF(COUNTA(A105:H105)=0,"",IF(OR(A105="",B105="",C105="",D105="",E105="",F105=""),"Conferir campos essenciais",IF(COUNTIF(Candidatos!$A$6:$A$105,B105)=0,"Código não localizado",IF(COUNTIF($A$6:$A$105,A105)>1,"Registro duplicado",IF(AND(F105="Realizado",G105=""),"Informar duração",IF(AND(C105>TODAY(),F105="Realizado"),"Data futura marcada como realizada","Sem alerta"))))))

Sheet Premissas
A1: Premissas e listas editáveis
A3: Status do cadastro | B3: Etapa atual | C3: Documentos | D3: Tipo de encontro | E3: Resultado | F3: Ministério | G3: Parâmetro | H3: Valor
A4: Em cadastro | B4: Primeiro contato | C4: Não iniciado | D4: Conversa inicial | E4: Agendado | F4: Acolhimento Fictício | G4: Mínimo de encontros para sinalização | H4: 1
A5: Em acompanhamento | B5: Orientação inicial | C5: Em conferência | D5: Orientação inicial | E5: Realizado | F5: Integração Fictícia | G5: Antecedência do alerta de data (dias) | H5: 30
A6: Pausado | B6: Encontro de preparação | C6: Pendente | D6: Encontro de preparação | E6: Ausente | F6: Ensino Fictício | G6: Data mínima aceita | H6: 45292
A7: Apto para conferência | B7: Conferência documental | C7: Completo | D7: Conferência de documentos | E7: Remarcado | F7: Juventude Fictícia | G7: Data máxima aceita | H7: 47483
A8: Batismo registrado | B8: Avaliação de acompanhamento | D8: Avaliação de acompanhamento | E8: Cancelado | F8: Famílias Fictícias | G8: Duração máxima de encontro (horas) | H8: 6
B9: Agendamento do batismo | G9: Duração mínima de encontro (horas) | H9: 0
A11: Todos os exemplos são fictícios. As listas e os limites podem ser ajustados antes do uso. Os alertas apenas indicam pontos para conferência humana.
