Workbook

Sheet Resumo
A1: Resumo da campanha de arrecadação
A2: =IF(Premissas!B4="","Campanha fictícia",Premissas!B4)
A3: Meta total | B3: =IF(Premissas!B5="","",Premissas!B5)
A4: Valor previsto ativo | B4: =IF(COUNT('Lançamentos'!$G$5:$G$104)=0,"",SUMIFS('Lançamentos'!$G$5:$G$104,'Lançamentos'!$I$5:$I$104,"<>Cancelado"))
A5: Valor registrado como recebido | B5: =IF(COUNTIFS('Lançamentos'!$I$5:$I$104,"Recebido",'Lançamentos'!$H$5:$H$104,">0")+COUNTIFS('Lançamentos'!$I$5:$I$104,"Parcial",'Lançamentos'!$H$5:$H$104,">0")=0,"",SUMIFS('Lançamentos'!$H$5:$H$104,'Lançamentos'!$I$5:$I$104,"Recebido")+SUMIFS('Lançamentos'!$H$5:$H$104,'Lançamentos'!$I$5:$I$104,"Parcial"))
A6: Saldo até a meta | B6: =IF(B3="","",MAX(B3-IF(B5="",0,B5),0))
A7: Atingimento da meta | B7: =IFERROR(IF(OR(B3="",B3=0,B5=""),"",B5/B3),"")
A8: Registros lançados | B8: =IF(COUNTA('Lançamentos'!$A$5:$A$104)=0,"",COUNTA('Lançamentos'!$A$5:$A$104))
A9: Saldo de compromissos | B9: =IF(COUNT('Lançamentos'!$J$5:$J$104)=0,"",SUM('Lançamentos'!$J$5:$J$104))
A10: Dias até o encerramento | B10: =IF(Premissas!B7="","",MAX(Premissas!B7-TODAY(),0))
A12: Canal | B12: Meta | C12: Recebido | D12: % da meta
A13: =IF(Premissas!D4="","",Premissas!D4) | B13: =IF(Premissas!E4="","",Premissas!E4) | C13: =IF(A13="","",IF(COUNTIFS('Lançamentos'!$C$5:$C$104,A13,'Lançamentos'!$I$5:$I$104,"Recebido",'Lançamentos'!$H$5:$H$104,">0")+COUNTIFS('Lançamentos'!$C$5:$C$104,A13,'Lançamentos'!$I$5:$I$104,"Parcial",'Lançamentos'!$H$5:$H$104,">0")=0,"",SUMIFS('Lançamentos'!$H$5:$H$104,'Lançamentos'!$C$5:$C$104,A13,'Lançamentos'!$I$5:$I$104,"Recebido")+SUMIFS('Lançamentos'!$H$5:$H$104,'Lançamentos'!$C$5:$C$104,A13,'Lançamentos'!$I$5:$I$104,"Parcial"))) | D13: =IFERROR(IF(OR(B13="",B13=0,C13=""),"",C13/B13),"") | F13: Mês | G13: Recebido
A14: =IF(Premissas!D5="","",Premissas!D5) | B14: =IF(Premissas!E5="","",Premissas!E5) | C14: =IF(A14="","",IF(COUNTIFS('Lançamentos'!$C$5:$C$104,A14,'Lançamentos'!$I$5:$I$104,"Recebido",'Lançamentos'!$H$5:$H$104,">0")+COUNTIFS('Lançamentos'!$C$5:$C$104,A14,'Lançamentos'!$I$5:$I$104,"Parcial",'Lançamentos'!$H$5:$H$104,">0")=0,"",SUMIFS('Lançamentos'!$H$5:$H$104,'Lançamentos'!$C$5:$C$104,A14,'Lançamentos'!$I$5:$I$104,"Recebido")+SUMIFS('Lançamentos'!$H$5:$H$104,'Lançamentos'!$C$5:$C$104,A14,'Lançamentos'!$I$5:$I$104,"Parcial"))) | D14: =IFERROR(IF(OR(B14="",B14=0,C14=""),"",C14/B14),"") | F14: =IF(Premissas!$B$6="","",EDATE(Premissas!$B$6,0)) | G14: =IFERROR(IF(OR(F14="",F14>Premissas!$B$7),"",IF(COUNTIFS('Lançamentos'!$A$5:$A$104,">="&F14,'Lançamentos'!$A$5:$A$104,"<"&EDATE(F14,1),'Lançamentos'!$I$5:$I$104,"Recebido",'Lançamentos'!$H$5:$H$104,">0")+COUNTIFS('Lançamentos'!$A$5:$A$104,">="&F14,'Lançamentos'!$A$5:$A$104,"<"&EDATE(F14,1),'Lançamentos'!$I$5:$I$104,"Parcial",'Lançamentos'!$H$5:$H$104,">0")=0,"",SUMIFS('Lançamentos'!$H$5:$H$104,'Lançamentos'!$A$5:$A$104,">="&F14,'Lançamentos'!$A$5:$A$104,"<"&EDATE(F14,1),'Lançamentos'!$I$5:$I$104,"Recebido")+SUMIFS('Lançamentos'!$H$5:$H$104,'Lançamentos'!$A$5:$A$104,">="&F14,'Lançamentos'!$A$5:$A$104,"<"&EDATE(F14,1),'Lançamentos'!$I$5:$I$104,"Parcial"))),"")
A15: =IF(Premissas!D6="","",Premissas!D6) | B15: =IF(Premissas!E6="","",Premissas!E6) | C15: =IF(A15="","",IF(COUNTIFS('Lançamentos'!$C$5:$C$104,A15,'Lançamentos'!$I$5:$I$104,"Recebido",'Lançamentos'!$H$5:$H$104,">0")+COUNTIFS('Lançamentos'!$C$5:$C$104,A15,'Lançamentos'!$I$5:$I$104,"Parcial",'Lançamentos'!$H$5:$H$104,">0")=0,"",SUMIFS('Lançamentos'!$H$5:$H$104,'Lançamentos'!$C$5:$C$104,A15,'Lançamentos'!$I$5:$I$104,"Recebido")+SUMIFS('Lançamentos'!$H$5:$H$104,'Lançamentos'!$C$5:$C$104,A15,'Lançamentos'!$I$5:$I$104,"Parcial"))) | D15: =IFERROR(IF(OR(B15="",B15=0,C15=""),"",C15/B15),"") | F15: =IF(Premissas!$B$6="","",EDATE(Premissas!$B$6,1)) | G15: =IFERROR(IF(OR(F15="",F15>Premissas!$B$7),"",IF(COUNTIFS('Lançamentos'!$A$5:$A$104,">="&F15,'Lançamentos'!$A$5:$A$104,"<"&EDATE(F15,1),'Lançamentos'!$I$5:$I$104,"Recebido",'Lançamentos'!$H$5:$H$104,">0")+COUNTIFS('Lançamentos'!$A$5:$A$104,">="&F15,'Lançamentos'!$A$5:$A$104,"<"&EDATE(F15,1),'Lançamentos'!$I$5:$I$104,"Parcial",'Lançamentos'!$H$5:$H$104,">0")=0,"",SUMIFS('Lançamentos'!$H$5:$H$104,'Lançamentos'!$A$5:$A$104,">="&F15,'Lançamentos'!$A$5:$A$104,"<"&EDATE(F15,1),'Lançamentos'!$I$5:$I$104,"Recebido")+SUMIFS('Lançamentos'!$H$5:$H$104,'Lançamentos'!$A$5:$A$104,">="&F15,'Lançamentos'!$A$5:$A$104,"<"&EDATE(F15,1),'Lançamentos'!$I$5:$I$104,"Parcial"))),"")
A16: =IF(Premissas!D7="","",Premissas!D7) | B16: =IF(Premissas!E7="","",Premissas!E7) | C16: =IF(A16="","",IF(COUNTIFS('Lançamentos'!$C$5:$C$104,A16,'Lançamentos'!$I$5:$I$104,"Recebido",'Lançamentos'!$H$5:$H$104,">0")+COUNTIFS('Lançamentos'!$C$5:$C$104,A16,'Lançamentos'!$I$5:$I$104,"Parcial",'Lançamentos'!$H$5:$H$104,">0")=0,"",SUMIFS('Lançamentos'!$H$5:$H$104,'Lançamentos'!$C$5:$C$104,A16,'Lançamentos'!$I$5:$I$104,"Recebido")+SUMIFS('Lançamentos'!$H$5:$H$104,'Lançamentos'!$C$5:$C$104,A16,'Lançamentos'!$I$5:$I$104,"Parcial"))) | D16: =IFERROR(IF(OR(B16="",B16=0,C16=""),"",C16/B16),"") | F16: =IF(Premissas!$B$6="","",EDATE(Premissas!$B$6,2)) | G16: =IFERROR(IF(OR(F16="",F16>Premissas!$B$7),"",IF(COUNTIFS('Lançamentos'!$A$5:$A$104,">="&F16,'Lançamentos'!$A$5:$A$104,"<"&EDATE(F16,1),'Lançamentos'!$I$5:$I$104,"Recebido",'Lançamentos'!$H$5:$H$104,">0")+COUNTIFS('Lançamentos'!$A$5:$A$104,">="&F16,'Lançamentos'!$A$5:$A$104,"<"&EDATE(F16,1),'Lançamentos'!$I$5:$I$104,"Parcial",'Lançamentos'!$H$5:$H$104,">0")=0,"",SUMIFS('Lançamentos'!$H$5:$H$104,'Lançamentos'!$A$5:$A$104,">="&F16,'Lançamentos'!$A$5:$A$104,"<"&EDATE(F16,1),'Lançamentos'!$I$5:$I$104,"Recebido")+SUMIFS('Lançamentos'!$H$5:$H$104,'Lançamentos'!$A$5:$A$104,">="&F16,'Lançamentos'!$A$5:$A$104,"<"&EDATE(F16,1),'Lançamentos'!$I$5:$I$104,"Parcial"))),"")
A17: =IF(Premissas!D8="","",Premissas!D8) | B17: =IF(Premissas!E8="","",Premissas!E8) | C17: =IF(A17="","",IF(COUNTIFS('Lançamentos'!$C$5:$C$104,A17,'Lançamentos'!$I$5:$I$104,"Recebido",'Lançamentos'!$H$5:$H$104,">0")+COUNTIFS('Lançamentos'!$C$5:$C$104,A17,'Lançamentos'!$I$5:$I$104,"Parcial",'Lançamentos'!$H$5:$H$104,">0")=0,"",SUMIFS('Lançamentos'!$H$5:$H$104,'Lançamentos'!$C$5:$C$104,A17,'Lançamentos'!$I$5:$I$104,"Recebido")+SUMIFS('Lançamentos'!$H$5:$H$104,'Lançamentos'!$C$5:$C$104,A17,'Lançamentos'!$I$5:$I$104,"Parcial"))) | D17: =IFERROR(IF(OR(B17="",B17=0,C17=""),"",C17/B17),"") | F17: =IF(Premissas!$B$6="","",EDATE(Premissas!$B$6,3)) | G17: =IFERROR(IF(OR(F17="",F17>Premissas!$B$7),"",IF(COUNTIFS('Lançamentos'!$A$5:$A$104,">="&F17,'Lançamentos'!$A$5:$A$104,"<"&EDATE(F17,1),'Lançamentos'!$I$5:$I$104,"Recebido",'Lançamentos'!$H$5:$H$104,">0")+COUNTIFS('Lançamentos'!$A$5:$A$104,">="&F17,'Lançamentos'!$A$5:$A$104,"<"&EDATE(F17,1),'Lançamentos'!$I$5:$I$104,"Parcial",'Lançamentos'!$H$5:$H$104,">0")=0,"",SUMIFS('Lançamentos'!$H$5:$H$104,'Lançamentos'!$A$5:$A$104,">="&F17,'Lançamentos'!$A$5:$A$104,"<"&EDATE(F17,1),'Lançamentos'!$I$5:$I$104,"Recebido")+SUMIFS('Lançamentos'!$H$5:$H$104,'Lançamentos'!$A$5:$A$104,">="&F17,'Lançamentos'!$A$5:$A$104,"<"&EDATE(F17,1),'Lançamentos'!$I$5:$I$104,"Parcial"))),"")
A18: =IF(Premissas!D9="","",Premissas!D9) | B18: =IF(Premissas!E9="","",Premissas!E9) | C18: =IF(A18="","",IF(COUNTIFS('Lançamentos'!$C$5:$C$104,A18,'Lançamentos'!$I$5:$I$104,"Recebido",'Lançamentos'!$H$5:$H$104,">0")+COUNTIFS('Lançamentos'!$C$5:$C$104,A18,'Lançamentos'!$I$5:$I$104,"Parcial",'Lançamentos'!$H$5:$H$104,">0")=0,"",SUMIFS('Lançamentos'!$H$5:$H$104,'Lançamentos'!$C$5:$C$104,A18,'Lançamentos'!$I$5:$I$104,"Recebido")+SUMIFS('Lançamentos'!$H$5:$H$104,'Lançamentos'!$C$5:$C$104,A18,'Lançamentos'!$I$5:$I$104,"Parcial"))) | D18: =IFERROR(IF(OR(B18="",B18=0,C18=""),"",C18/B18),"") | F18: =IF(Premissas!$B$6="","",EDATE(Premissas!$B$6,4)) | G18: =IFERROR(IF(OR(F18="",F18>Premissas!$B$7),"",IF(COUNTIFS('Lançamentos'!$A$5:$A$104,">="&F18,'Lançamentos'!$A$5:$A$104,"<"&EDATE(F18,1),'Lançamentos'!$I$5:$I$104,"Recebido",'Lançamentos'!$H$5:$H$104,">0")+COUNTIFS('Lançamentos'!$A$5:$A$104,">="&F18,'Lançamentos'!$A$5:$A$104,"<"&EDATE(F18,1),'Lançamentos'!$I$5:$I$104,"Parcial",'Lançamentos'!$H$5:$H$104,">0")=0,"",SUMIFS('Lançamentos'!$H$5:$H$104,'Lançamentos'!$A$5:$A$104,">="&F18,'Lançamentos'!$A$5:$A$104,"<"&EDATE(F18,1),'Lançamentos'!$I$5:$I$104,"Recebido")+SUMIFS('Lançamentos'!$H$5:$H$104,'Lançamentos'!$A$5:$A$104,">="&F18,'Lançamentos'!$A$5:$A$104,"<"&EDATE(F18,1),'Lançamentos'!$I$5:$I$104,"Parcial"))),"")
F19: =IF(Premissas!$B$6="","",EDATE(Premissas!$B$6,5)) | G19: =IFERROR(IF(OR(F19="",F19>Premissas!$B$7),"",IF(COUNTIFS('Lançamentos'!$A$5:$A$104,">="&F19,'Lançamentos'!$A$5:$A$104,"<"&EDATE(F19,1),'Lançamentos'!$I$5:$I$104,"Recebido",'Lançamentos'!$H$5:$H$104,">0")+COUNTIFS('Lançamentos'!$A$5:$A$104,">="&F19,'Lançamentos'!$A$5:$A$104,"<"&EDATE(F19,1),'Lançamentos'!$I$5:$I$104,"Parcial",'Lançamentos'!$H$5:$H$104,">0")=0,"",SUMIFS('Lançamentos'!$H$5:$H$104,'Lançamentos'!$A$5:$A$104,">="&F19,'Lançamentos'!$A$5:$A$104,"<"&EDATE(F19,1),'Lançamentos'!$I$5:$I$104,"Recebido")+SUMIFS('Lançamentos'!$H$5:$H$104,'Lançamentos'!$A$5:$A$104,">="&F19,'Lançamentos'!$A$5:$A$104,"<"&EDATE(F19,1),'Lançamentos'!$I$5:$I$104,"Parcial"))),"")
F20: =IF(Premissas!$B$6="","",EDATE(Premissas!$B$6,6)) | G20: =IFERROR(IF(OR(F20="",F20>Premissas!$B$7),"",IF(COUNTIFS('Lançamentos'!$A$5:$A$104,">="&F20,'Lançamentos'!$A$5:$A$104,"<"&EDATE(F20,1),'Lançamentos'!$I$5:$I$104,"Recebido",'Lançamentos'!$H$5:$H$104,">0")+COUNTIFS('Lançamentos'!$A$5:$A$104,">="&F20,'Lançamentos'!$A$5:$A$104,"<"&EDATE(F20,1),'Lançamentos'!$I$5:$I$104,"Parcial",'Lançamentos'!$H$5:$H$104,">0")=0,"",SUMIFS('Lançamentos'!$H$5:$H$104,'Lançamentos'!$A$5:$A$104,">="&F20,'Lançamentos'!$A$5:$A$104,"<"&EDATE(F20,1),'Lançamentos'!$I$5:$I$104,"Recebido")+SUMIFS('Lançamentos'!$H$5:$H$104,'Lançamentos'!$A$5:$A$104,">="&F20,'Lançamentos'!$A$5:$A$104,"<"&EDATE(F20,1),'Lançamentos'!$I$5:$I$104,"Parcial"))),"")
F21: =IF(Premissas!$B$6="","",EDATE(Premissas!$B$6,7)) | G21: =IFERROR(IF(OR(F21="",F21>Premissas!$B$7),"",IF(COUNTIFS('Lançamentos'!$A$5:$A$104,">="&F21,'Lançamentos'!$A$5:$A$104,"<"&EDATE(F21,1),'Lançamentos'!$I$5:$I$104,"Recebido",'Lançamentos'!$H$5:$H$104,">0")+COUNTIFS('Lançamentos'!$A$5:$A$104,">="&F21,'Lançamentos'!$A$5:$A$104,"<"&EDATE(F21,1),'Lançamentos'!$I$5:$I$104,"Parcial",'Lançamentos'!$H$5:$H$104,">0")=0,"",SUMIFS('Lançamentos'!$H$5:$H$104,'Lançamentos'!$A$5:$A$104,">="&F21,'Lançamentos'!$A$5:$A$104,"<"&EDATE(F21,1),'Lançamentos'!$I$5:$I$104,"Recebido")+SUMIFS('Lançamentos'!$H$5:$H$104,'Lançamentos'!$A$5:$A$104,">="&F21,'Lançamentos'!$A$5:$A$104,"<"&EDATE(F21,1),'Lançamentos'!$I$5:$I$104,"Parcial"))),"")
F22: =IF(Premissas!$B$6="","",EDATE(Premissas!$B$6,8)) | G22: =IFERROR(IF(OR(F22="",F22>Premissas!$B$7),"",IF(COUNTIFS('Lançamentos'!$A$5:$A$104,">="&F22,'Lançamentos'!$A$5:$A$104,"<"&EDATE(F22,1),'Lançamentos'!$I$5:$I$104,"Recebido",'Lançamentos'!$H$5:$H$104,">0")+COUNTIFS('Lançamentos'!$A$5:$A$104,">="&F22,'Lançamentos'!$A$5:$A$104,"<"&EDATE(F22,1),'Lançamentos'!$I$5:$I$104,"Parcial",'Lançamentos'!$H$5:$H$104,">0")=0,"",SUMIFS('Lançamentos'!$H$5:$H$104,'Lançamentos'!$A$5:$A$104,">="&F22,'Lançamentos'!$A$5:$A$104,"<"&EDATE(F22,1),'Lançamentos'!$I$5:$I$104,"Recebido")+SUMIFS('Lançamentos'!$H$5:$H$104,'Lançamentos'!$A$5:$A$104,">="&F22,'Lançamentos'!$A$5:$A$104,"<"&EDATE(F22,1),'Lançamentos'!$I$5:$I$104,"Parcial"))),"")
F23: =IF(Premissas!$B$6="","",EDATE(Premissas!$B$6,9)) | G23: =IFERROR(IF(OR(F23="",F23>Premissas!$B$7),"",IF(COUNTIFS('Lançamentos'!$A$5:$A$104,">="&F23,'Lançamentos'!$A$5:$A$104,"<"&EDATE(F23,1),'Lançamentos'!$I$5:$I$104,"Recebido",'Lançamentos'!$H$5:$H$104,">0")+COUNTIFS('Lançamentos'!$A$5:$A$104,">="&F23,'Lançamentos'!$A$5:$A$104,"<"&EDATE(F23,1),'Lançamentos'!$I$5:$I$104,"Parcial",'Lançamentos'!$H$5:$H$104,">0")=0,"",SUMIFS('Lançamentos'!$H$5:$H$104,'Lançamentos'!$A$5:$A$104,">="&F23,'Lançamentos'!$A$5:$A$104,"<"&EDATE(F23,1),'Lançamentos'!$I$5:$I$104,"Recebido")+SUMIFS('Lançamentos'!$H$5:$H$104,'Lançamentos'!$A$5:$A$104,">="&F23,'Lançamentos'!$A$5:$A$104,"<"&EDATE(F23,1),'Lançamentos'!$I$5:$I$104,"Parcial"))),"")
F24: =IF(Premissas!$B$6="","",EDATE(Premissas!$B$6,10)) | G24: =IFERROR(IF(OR(F24="",F24>Premissas!$B$7),"",IF(COUNTIFS('Lançamentos'!$A$5:$A$104,">="&F24,'Lançamentos'!$A$5:$A$104,"<"&EDATE(F24,1),'Lançamentos'!$I$5:$I$104,"Recebido",'Lançamentos'!$H$5:$H$104,">0")+COUNTIFS('Lançamentos'!$A$5:$A$104,">="&F24,'Lançamentos'!$A$5:$A$104,"<"&EDATE(F24,1),'Lançamentos'!$I$5:$I$104,"Parcial",'Lançamentos'!$H$5:$H$104,">0")=0,"",SUMIFS('Lançamentos'!$H$5:$H$104,'Lançamentos'!$A$5:$A$104,">="&F24,'Lançamentos'!$A$5:$A$104,"<"&EDATE(F24,1),'Lançamentos'!$I$5:$I$104,"Recebido")+SUMIFS('Lançamentos'!$H$5:$H$104,'Lançamentos'!$A$5:$A$104,">="&F24,'Lançamentos'!$A$5:$A$104,"<"&EDATE(F24,1),'Lançamentos'!$I$5:$I$104,"Parcial"))),"")
F25: =IF(Premissas!$B$6="","",EDATE(Premissas!$B$6,11)) | G25: =IFERROR(IF(OR(F25="",F25>Premissas!$B$7),"",IF(COUNTIFS('Lançamentos'!$A$5:$A$104,">="&F25,'Lançamentos'!$A$5:$A$104,"<"&EDATE(F25,1),'Lançamentos'!$I$5:$I$104,"Recebido",'Lançamentos'!$H$5:$H$104,">0")+COUNTIFS('Lançamentos'!$A$5:$A$104,">="&F25,'Lançamentos'!$A$5:$A$104,"<"&EDATE(F25,1),'Lançamentos'!$I$5:$I$104,"Parcial",'Lançamentos'!$H$5:$H$104,">0")=0,"",SUMIFS('Lançamentos'!$H$5:$H$104,'Lançamentos'!$A$5:$A$104,">="&F25,'Lançamentos'!$A$5:$A$104,"<"&EDATE(F25,1),'Lançamentos'!$I$5:$I$104,"Recebido")+SUMIFS('Lançamentos'!$H$5:$H$104,'Lançamentos'!$A$5:$A$104,">="&F25,'Lançamentos'!$A$5:$A$104,"<"&EDATE(F25,1),'Lançamentos'!$I$5:$I$104,"Parcial"))),"")

Sheet Lançamentos
A1: Lançamentos da campanha de arrecadação
A2: Registre apenas informações administrativas da campanha. Alertas vermelhos pedem conferência humana.
A4: Data | B4: Descrição | C4: Canal | D4: Evento | E4: Ministério | F4: Responsável | G4: Valor previsto | H4: Valor recebido | I4: Status | J4: Saldo previsto | K4: Observação
A5: 46034 | B5: Oferta do Culto Esperança Fictício | C5: Oferta presencial | D5: Culto Esperança Fictício | E5: Administração Fictícia | F5: Equipe Financeira Fictícia | G5: 4000 | H5: 4000 | I5: Recebido | J5: =IF(OR(A5="",G5=""),"",IF(I5="Cancelado",0,IFERROR(MAX(G5-IF(H5="",0,H5),0),""))) | K5: Exemplo fictício registrado integralmente
A6: 46050 | B6: Primeira etapa do Bazar Aurora Fictício | C6: Bazar solidário | D6: Bazar Aurora Fictício | E6: Ação Comunitária Fictícia | F6: Equipe de Eventos Fictícia | G6: 6500 | H6: 5200 | I6: Parcial | J6: =IF(OR(A6="",G6=""),"",IF(I6="Cancelado",0,IFERROR(MAX(G6-IF(H6="",0,H6),0),""))) | K6: Saldo fictício ainda sujeito a conferência
A7: 46068 | B7: Almoço Jardim Fictício — lote inicial | C7: Almoço beneficente | D7: Almoço Jardim Fictício | E7: Famílias Fictícias | F7: Equipe de Apoio Fictícia | G7: 7200 | H7: 7200 | I7: Recebido | J7: =IF(OR(A7="",G7=""),"",IF(I7="Cancelado",0,IFERROR(MAX(G7-IF(H7="",0,H7),0),""))) | K7: Lançamento demonstrativo fictício
A8: 46089 | B8: Divulgação da Campanha Horizonte Fictícia | C8: Campanha interna | D8: Encontro Horizonte Fictício | E8: Comunicação Fictícia | F8: Coordenação Fictícia A | G8: 3000 | I8: Em divulgação | J8: =IF(OR(A8="",G8=""),"",IF(I8="Cancelado",0,IFERROR(MAX(G8-IF(H8="",0,H8),0),""))) | K8: Previsão fictícia sem recebimento registrado
A9: 46114 | B9: Contribuição de organização totalmente fictícia | C9: Contribuição de organização fictícia | D9: Ação sem evento fictícia | E9: Administração Fictícia | F9: Secretaria Fictícia | G9: 8500 | H9: 9000 | I9: Recebido | J9: =IF(OR(A9="",G9=""),"",IF(I9="Cancelado",0,IFERROR(MAX(G9-IF(H9="",0,H9),0),""))) | K9: Valor acima do previsto para teste de alerta
A10: 46160 | B10: Feira Semente Fictícia — estande solidário | C10: Outro canal | D10: Feira Semente Fictícia | E10: Juventude Fictícia | F10: Equipe de Eventos Fictícia | G10: 5600 | H10: 2800 | I10: Parcial | J10: =IF(OR(A10="",G10=""),"",IF(I10="Cancelado",0,IFERROR(MAX(G10-IF(H10="",0,H10),0),""))) | K10: Exemplo fictício com recebimento parcial
A11: 46183 | B11: Segunda etapa da Campanha Horizonte Fictícia | C11: Campanha interna | D11: Encontro Horizonte Fictício | E11: Música Fictícia | F11: Coordenação Fictícia B | G11: 10000 | I11: Planejado | J11: =IF(OR(A11="",G11=""),"",IF(I11="Cancelado",0,IFERROR(MAX(G11-IF(H11="",0,H11),0),""))) | K11: Planejamento administrativo fictício
A12: 46208 | B12: Oferta especial do Encontro Horizonte Fictício | C12: Oferta presencial | D12: Encontro Horizonte Fictício | E12: Música Fictícia | F12: Equipe Financeira Fictícia | G12: 4500 | H12: 4500 | I12: Recebido | J12: =IF(OR(A12="",G12=""),"",IF(I12="Cancelado",0,IFERROR(MAX(G12-IF(H12="",0,H12),0),""))) | K12: Exemplo fictício registrado integralmente
A13: 46254 | B13: Segunda etapa do Bazar Aurora Fictício | C13: Bazar solidário | D13: Bazar Aurora Fictício | E13: Ação Comunitária Fictícia | F13: Equipe de Apoio Fictícia | G13: 6800 | I13: Em divulgação | J13: =IF(OR(A13="",G13=""),"",IF(I13="Cancelado",0,IFERROR(MAX(G13-IF(H13="",0,H13),0),""))) | K13: Previsão fictícia em divulgação
A14: 46267 | B14: Almoço Jardim Fictício — etapa final | C14: Almoço beneficente | D14: Almoço Jardim Fictício | E14: Famílias Fictícias | F14: Coordenação Fictícia A | G14: 5200 | H14: 5200 | I14: Recebido | J14: =IF(OR(A14="",G14=""),"",IF(I14="Cancelado",0,IFERROR(MAX(G14-IF(H14="",0,H14),0),""))) | K14: Lançamento demonstrativo fictício
J15: =IF(OR(A15="",G15=""),"",IF(I15="Cancelado",0,IFERROR(MAX(G15-IF(H15="",0,H15),0),"")))
J16: =IF(OR(A16="",G16=""),"",IF(I16="Cancelado",0,IFERROR(MAX(G16-IF(H16="",0,H16),0),"")))
J17: =IF(OR(A17="",G17=""),"",IF(I17="Cancelado",0,IFERROR(MAX(G17-IF(H17="",0,H17),0),"")))
J18: =IF(OR(A18="",G18=""),"",IF(I18="Cancelado",0,IFERROR(MAX(G18-IF(H18="",0,H18),0),"")))
J19: =IF(OR(A19="",G19=""),"",IF(I19="Cancelado",0,IFERROR(MAX(G19-IF(H19="",0,H19),0),"")))
J20: =IF(OR(A20="",G20=""),"",IF(I20="Cancelado",0,IFERROR(MAX(G20-IF(H20="",0,H20),0),"")))
J21: =IF(OR(A21="",G21=""),"",IF(I21="Cancelado",0,IFERROR(MAX(G21-IF(H21="",0,H21),0),"")))
J22: =IF(OR(A22="",G22=""),"",IF(I22="Cancelado",0,IFERROR(MAX(G22-IF(H22="",0,H22),0),"")))
J23: =IF(OR(A23="",G23=""),"",IF(I23="Cancelado",0,IFERROR(MAX(G23-IF(H23="",0,H23),0),"")))
J24: =IF(OR(A24="",G24=""),"",IF(I24="Cancelado",0,IFERROR(MAX(G24-IF(H24="",0,H24),0),"")))
J25: =IF(OR(A25="",G25=""),"",IF(I25="Cancelado",0,IFERROR(MAX(G25-IF(H25="",0,H25),0),"")))
J26: =IF(OR(A26="",G26=""),"",IF(I26="Cancelado",0,IFERROR(MAX(G26-IF(H26="",0,H26),0),"")))
... J104: =IF(OR(A104="",G104=""),"",IF(I104="Cancelado",0,IFERROR(MAX(G104-IF(H104="",0,H104),0),"")))

Sheet Premissas
A1: Premissas da campanha de arrecadação
A2: Células amarelas são editáveis. A diferença entre metas é apenas um alerta para conferência.
A3: Premissa | B3: Valor | D3: Canal | E3: Meta por canal | F3: Ministério | H3: Status | J3: Responsável | L3: Evento
A4: Nome da campanha | B4: Campanha Semeadura Fictícia - 2026 | D4: Oferta presencial | E4: 15000 | F4: Administração Fictícia | H4: Planejado | J4: Equipe Financeira Fictícia | L4: Culto Esperança Fictício
A5: Meta total | B5: 80000 | D5: Bazar solidário | E5: 14000 | F5: Ação Comunitária Fictícia | H5: Em divulgação | J5: Equipe de Eventos Fictícia | L5: Bazar Aurora Fictício
A6: Data inicial | B6: 46023 | D6: Almoço beneficente | E6: 16000 | F6: Música Fictícia | H6: Parcial | J6: Equipe de Apoio Fictícia | L6: Almoço Jardim Fictício
A7: Data final | B7: 46387 | D7: Campanha interna | E7: 12000 | F7: Famílias Fictícias | H7: Recebido | J7: Coordenação Fictícia A | L7: Encontro Horizonte Fictício
A8: Limite por lançamento | B8: 50000 | D8: Contribuição de organização fictícia | E8: 18000 | F8: Juventude Fictícia | H8: Cancelado | J8: Coordenação Fictícia B | L8: Feira Semente Fictícia
A9: Soma das metas por canal | B9: =IF(COUNT(E4:E9)=0,"",SUM(E4:E9)) | D9: Outro canal | E9: 5000 | F9: Comunicação Fictícia | J9: Secretaria Fictícia | L9: Ação sem evento fictícia
A10: Diferença para a meta total | B10: =IF(OR(B5="",B9=""),"",B5-B9)
