Workbook

Sheet Resumo
A1: Resumo do calendário de aniversários
A3: Indicador | B3: Resultado
A4: Registros preenchidos | B4: =COUNTIF('Aniversários'!$A$5:$A$104,"<>")
A5: Cadastros ativos | B5: =COUNTIF('Aniversários'!$F$5:$F$104,Premissas!$F$4)
A6: Aniversários hoje | B6: =COUNTIFS('Aniversários'!$F$5:$F$104,Premissas!$F$4,'Aniversários'!$I$5:$I$104,0)
A7: ="Próximos "&Premissas!$B$5&" dias" | B7: =IFERROR(COUNTIFS('Aniversários'!$F$5:$F$104,Premissas!$F$4,'Aniversários'!$I$5:$I$104,">=0",'Aniversários'!$I$5:$I$104,"<="&Premissas!$B$5),0)
A8: Ativos com preferência sem contato | B8: =COUNTIFS('Aniversários'!$F$5:$F$104,Premissas!$F$4,'Aniversários'!$D$5:$D$104,Premissas!$E$7)
A9: Registros a conferir | B9: =COUNTIF('Aniversários'!$K$5:$K$104,"Conferir dados")
A13: Mês (nº) | B13: Mês | C13: Aniversariantes ativos
A14: 1 | B14: Jan | C14: =COUNTIFS('Aniversários'!$F$5:$F$104,Premissas!$F$4,'Aniversários'!$J$5:$J$104,A14)
A15: 2 | B15: Fev | C15: =COUNTIFS('Aniversários'!$F$5:$F$104,Premissas!$F$4,'Aniversários'!$J$5:$J$104,A15)
A16: 3 | B16: Mar | C16: =COUNTIFS('Aniversários'!$F$5:$F$104,Premissas!$F$4,'Aniversários'!$J$5:$J$104,A16)
A17: 4 | B17: Abr | C17: =COUNTIFS('Aniversários'!$F$5:$F$104,Premissas!$F$4,'Aniversários'!$J$5:$J$104,A17)
A18: 5 | B18: Mai | C18: =COUNTIFS('Aniversários'!$F$5:$F$104,Premissas!$F$4,'Aniversários'!$J$5:$J$104,A18)
A19: 6 | B19: Jun | C19: =COUNTIFS('Aniversários'!$F$5:$F$104,Premissas!$F$4,'Aniversários'!$J$5:$J$104,A19)
A20: 7 | B20: Jul | C20: =COUNTIFS('Aniversários'!$F$5:$F$104,Premissas!$F$4,'Aniversários'!$J$5:$J$104,A20)
A21: 8 | B21: Ago | C21: =COUNTIFS('Aniversários'!$F$5:$F$104,Premissas!$F$4,'Aniversários'!$J$5:$J$104,A21)
A22: 9 | B22: Set | C22: =COUNTIFS('Aniversários'!$F$5:$F$104,Premissas!$F$4,'Aniversários'!$J$5:$J$104,A22)
A23: 10 | B23: Out | C23: =COUNTIFS('Aniversários'!$F$5:$F$104,Premissas!$F$4,'Aniversários'!$J$5:$J$104,A23)
A24: 11 | B24: Nov | C24: =COUNTIFS('Aniversários'!$F$5:$F$104,Premissas!$F$4,'Aniversários'!$J$5:$J$104,A24)
A25: 12 | B25: Dez | C25: =COUNTIFS('Aniversários'!$F$5:$F$104,Premissas!$F$4,'Aniversários'!$J$5:$J$104,A25)

Sheet Aniversários
A1: Calendário de aniversários dos membros
A2: Todos os exemplos abaixo são fictícios. Preencha apenas os campos amarelos e confira os alertas.
A4: Identificação do membro | B4: Data de nascimento | C4: Ministério | D4: Preferência de contato | E4: Responsável pelo contato | F4: Status do cadastro | G4: Próximo aniversário | H4: Idade a completar | I4: Dias restantes | J4: Mês (nº) | K4: Situação
A5: Membro Fictício Aurora 01 | B5: 32031 | C5: Acolhimento | D5: Aplicativo de mensagem | E5: Equipe Fictícia Alfa | F5: Ativo | G5: =IF(OR(A5="",B5="",F5<>Premissas!$F$4,Premissas!$B$4=""),"",IFERROR(DATE(YEAR(Premissas!$B$4)+IF(DATE(YEAR(Premissas!$B$4),MONTH(B5),DAY(B5))<Premissas!$B$4,1,0),MONTH(B5),DAY(B5)),"")) | H5: =IF(OR(B5="",G5=""),"",IFERROR(YEAR(G5)-YEAR(B5),"")) | I5: =IF(G5="","",IFERROR(G5-Premissas!$B$4,"")) | J5: =IF(OR(B5="",F5<>Premissas!$F$4),"",IFERROR(MONTH(B5),"")) | K5: =IF(A5="","",IF(F5="","Conferir dados",IF(F5<>Premissas!$F$4,"Cadastro não ativo",IF(OR(B5="",C5="",D5="",E5="",Premissas!$B$4="",Premissas!$B$5=""),"Conferir dados",IF(I5="","Conferir dados",IF(I5=0,"Hoje",IF(I5<=Premissas!$B$5,"Próximo","Agendado")))))))
A6: Membro Fictício Brisa 02 | B6: 32400 | C6: Música | D6: Telefone | E6: Equipe Fictícia Beta | F6: Ativo | G6: =IF(OR(A6="",B6="",F6<>Premissas!$F$4,Premissas!$B$4=""),"",IFERROR(DATE(YEAR(Premissas!$B$4)+IF(DATE(YEAR(Premissas!$B$4),MONTH(B6),DAY(B6))<Premissas!$B$4,1,0),MONTH(B6),DAY(B6)),"")) | H6: =IF(OR(B6="",G6=""),"",IFERROR(YEAR(G6)-YEAR(B6),"")) | I6: =IF(G6="","",IFERROR(G6-Premissas!$B$4,"")) | J6: =IF(OR(B6="",F6<>Premissas!$F$4),"",IFERROR(MONTH(B6),"")) | K6: =IF(A6="","",IF(F6="","Conferir dados",IF(F6<>Premissas!$F$4,"Cadastro não ativo",IF(OR(B6="",C6="",D6="",E6="",Premissas!$B$4="",Premissas!$B$5=""),"Conferir dados",IF(I6="","Conferir dados",IF(I6=0,"Hoje",IF(I6<=Premissas!$B$5,"Próximo","Agendado")))))))
A7: Membro Fictício Cedro 03 | B7: 32774 | C7: Ensino | D7: E-mail | E7: Equipe Fictícia Gama | F7: Ativo | G7: =IF(OR(A7="",B7="",F7<>Premissas!$F$4,Premissas!$B$4=""),"",IFERROR(DATE(YEAR(Premissas!$B$4)+IF(DATE(YEAR(Premissas!$B$4),MONTH(B7),DAY(B7))<Premissas!$B$4,1,0),MONTH(B7),DAY(B7)),"")) | H7: =IF(OR(B7="",G7=""),"",IFERROR(YEAR(G7)-YEAR(B7),"")) | I7: =IF(G7="","",IFERROR(G7-Premissas!$B$4,"")) | J7: =IF(OR(B7="",F7<>Premissas!$F$4),"",IFERROR(MONTH(B7),"")) | K7: =IF(A7="","",IF(F7="","Conferir dados",IF(F7<>Premissas!$F$4,"Cadastro não ativo",IF(OR(B7="",C7="",D7="",E7="",Premissas!$B$4="",Premissas!$B$5=""),"Conferir dados",IF(I7="","Conferir dados",IF(I7=0,"Hoje",IF(I7<=Premissas!$B$5,"Próximo","Agendado")))))))
A8: Membro Fictício Dália 04 | B8: 33156 | C8: Ação social | D8: Aplicativo de mensagem | E8: Equipe Fictícia Delta | F8: Ativo | G8: =IF(OR(A8="",B8="",F8<>Premissas!$F$4,Premissas!$B$4=""),"",IFERROR(DATE(YEAR(Premissas!$B$4)+IF(DATE(YEAR(Premissas!$B$4),MONTH(B8),DAY(B8))<Premissas!$B$4,1,0),MONTH(B8),DAY(B8)),"")) | H8: =IF(OR(B8="",G8=""),"",IFERROR(YEAR(G8)-YEAR(B8),"")) | I8: =IF(G8="","",IFERROR(G8-Premissas!$B$4,"")) | J8: =IF(OR(B8="",F8<>Premissas!$F$4),"",IFERROR(MONTH(B8),"")) | K8: =IF(A8="","",IF(F8="","Conferir dados",IF(F8<>Premissas!$F$4,"Cadastro não ativo",IF(OR(B8="",C8="",D8="",E8="",Premissas!$B$4="",Premissas!$B$5=""),"Conferir dados",IF(I8="","Conferir dados",IF(I8=0,"Hoje",IF(I8<=Premissas!$B$5,"Próximo","Agendado")))))))
A9: Membro Fictício Estrela 05 | B9: 33523 | C9: Intercessão | D9: Sem contato | E9: Equipe Fictícia Épsilon | F9: Ativo | G9: =IF(OR(A9="",B9="",F9<>Premissas!$F$4,Premissas!$B$4=""),"",IFERROR(DATE(YEAR(Premissas!$B$4)+IF(DATE(YEAR(Premissas!$B$4),MONTH(B9),DAY(B9))<Premissas!$B$4,1,0),MONTH(B9),DAY(B9)),"")) | H9: =IF(OR(B9="",G9=""),"",IFERROR(YEAR(G9)-YEAR(B9),"")) | I9: =IF(G9="","",IFERROR(G9-Premissas!$B$4,"")) | J9: =IF(OR(B9="",F9<>Premissas!$F$4),"",IFERROR(MONTH(B9),"")) | K9: =IF(A9="","",IF(F9="","Conferir dados",IF(F9<>Premissas!$F$4,"Cadastro não ativo",IF(OR(B9="",C9="",D9="",E9="",Premissas!$B$4="",Premissas!$B$5=""),"Conferir dados",IF(I9="","Conferir dados",IF(I9=0,"Hoje",IF(I9<=Premissas!$B$5,"Próximo","Agendado")))))))
A10: Membro Fictício Flora 06 | B10: 33933 | C10: Comunicação | D10: Telefone | E10: Equipe Fictícia Zeta | F10: Ativo | G10: =IF(OR(A10="",B10="",F10<>Premissas!$F$4,Premissas!$B$4=""),"",IFERROR(DATE(YEAR(Premissas!$B$4)+IF(DATE(YEAR(Premissas!$B$4),MONTH(B10),DAY(B10))<Premissas!$B$4,1,0),MONTH(B10),DAY(B10)),"")) | H10: =IF(OR(B10="",G10=""),"",IFERROR(YEAR(G10)-YEAR(B10),"")) | I10: =IF(G10="","",IFERROR(G10-Premissas!$B$4,"")) | J10: =IF(OR(B10="",F10<>Premissas!$F$4),"",IFERROR(MONTH(B10),"")) | K10: =IF(A10="","",IF(F10="","Conferir dados",IF(F10<>Premissas!$F$4,"Cadastro não ativo",IF(OR(B10="",C10="",D10="",E10="",Premissas!$B$4="",Premissas!$B$5=""),"Conferir dados",IF(I10="","Conferir dados",IF(I10=0,"Hoje",IF(I10<=Premissas!$B$5,"Próximo","Agendado")))))))
A11: Membro Fictício Girassol 07 | B11: 34008 | C11: Acolhimento | D11: E-mail | E11: Equipe Fictícia Eta | F11: Ativo | G11: =IF(OR(A11="",B11="",F11<>Premissas!$F$4,Premissas!$B$4=""),"",IFERROR(DATE(YEAR(Premissas!$B$4)+IF(DATE(YEAR(Premissas!$B$4),MONTH(B11),DAY(B11))<Premissas!$B$4,1,0),MONTH(B11),DAY(B11)),"")) | H11: =IF(OR(B11="",G11=""),"",IFERROR(YEAR(G11)-YEAR(B11),"")) | I11: =IF(G11="","",IFERROR(G11-Premissas!$B$4,"")) | J11: =IF(OR(B11="",F11<>Premissas!$F$4),"",IFERROR(MONTH(B11),"")) | K11: =IF(A11="","",IF(F11="","Conferir dados",IF(F11<>Premissas!$F$4,"Cadastro não ativo",IF(OR(B11="",C11="",D11="",E11="",Premissas!$B$4="",Premissas!$B$5=""),"Conferir dados",IF(I11="","Conferir dados",IF(I11=0,"Hoje",IF(I11<=Premissas!$B$5,"Próximo","Agendado")))))))
A12: Membro Fictício Horizonte 08 | B12: 34578 | C12: Ensino | D12: Aplicativo de mensagem | F12: Ativo | G12: =IF(OR(A12="",B12="",F12<>Premissas!$F$4,Premissas!$B$4=""),"",IFERROR(DATE(YEAR(Premissas!$B$4)+IF(DATE(YEAR(Premissas!$B$4),MONTH(B12),DAY(B12))<Premissas!$B$4,1,0),MONTH(B12),DAY(B12)),"")) | H12: =IF(OR(B12="",G12=""),"",IFERROR(YEAR(G12)-YEAR(B12),"")) | I12: =IF(G12="","",IFERROR(G12-Premissas!$B$4,"")) | J12: =IF(OR(B12="",F12<>Premissas!$F$4),"",IFERROR(MONTH(B12),"")) | K12: =IF(A12="","",IF(F12="","Conferir dados",IF(F12<>Premissas!$F$4,"Cadastro não ativo",IF(OR(B12="",C12="",D12="",E12="",Premissas!$B$4="",Premissas!$B$5=""),"Conferir dados",IF(I12="","Conferir dados",IF(I12=0,"Hoje",IF(I12<=Premissas!$B$5,"Próximo","Agendado")))))))
A13: Membro Fictício Íris 09 | B13: 34998 | C13: Música | D13: Telefone | E13: Equipe Fictícia Teta | F13: Em atualização | G13: =IF(OR(A13="",B13="",F13<>Premissas!$F$4,Premissas!$B$4=""),"",IFERROR(DATE(YEAR(Premissas!$B$4)+IF(DATE(YEAR(Premissas!$B$4),MONTH(B13),DAY(B13))<Premissas!$B$4,1,0),MONTH(B13),DAY(B13)),"")) | H13: =IF(OR(B13="",G13=""),"",IFERROR(YEAR(G13)-YEAR(B13),"")) | I13: =IF(G13="","",IFERROR(G13-Premissas!$B$4,"")) | J13: =IF(OR(B13="",F13<>Premissas!$F$4),"",IFERROR(MONTH(B13),"")) | K13: =IF(A13="","",IF(F13="","Conferir dados",IF(F13<>Premissas!$F$4,"Cadastro não ativo",IF(OR(B13="",C13="",D13="",E13="",Premissas!$B$4="",Premissas!$B$5=""),"Conferir dados",IF(I13="","Conferir dados",IF(I13=0,"Hoje",IF(I13<=Premissas!$B$5,"Próximo","Agendado")))))))
A14: Membro Fictício Jasmim 10 | B14: 35154 | C14: Ação social | D14: Sem contato | E14: Equipe Fictícia Iota | F14: Inativo | G14: =IF(OR(A14="",B14="",F14<>Premissas!$F$4,Premissas!$B$4=""),"",IFERROR(DATE(YEAR(Premissas!$B$4)+IF(DATE(YEAR(Premissas!$B$4),MONTH(B14),DAY(B14))<Premissas!$B$4,1,0),MONTH(B14),DAY(B14)),"")) | H14: =IF(OR(B14="",G14=""),"",IFERROR(YEAR(G14)-YEAR(B14),"")) | I14: =IF(G14="","",IFERROR(G14-Premissas!$B$4,"")) | J14: =IF(OR(B14="",F14<>Premissas!$F$4),"",IFERROR(MONTH(B14),"")) | K14: =IF(A14="","",IF(F14="","Conferir dados",IF(F14<>Premissas!$F$4,"Cadastro não ativo",IF(OR(B14="",C14="",D14="",E14="",Premissas!$B$4="",Premissas!$B$5=""),"Conferir dados",IF(I14="","Conferir dados",IF(I14=0,"Hoje",IF(I14<=Premissas!$B$5,"Próximo","Agendado")))))))
G15: =IF(OR(A15="",B15="",F15<>Premissas!$F$4,Premissas!$B$4=""),"",IFERROR(DATE(YEAR(Premissas!$B$4)+IF(DATE(YEAR(Premissas!$B$4),MONTH(B15),DAY(B15))<Premissas!$B$4,1,0),MONTH(B15),DAY(B15)),"")) | H15: =IF(OR(B15="",G15=""),"",IFERROR(YEAR(G15)-YEAR(B15),"")) | I15: =IF(G15="","",IFERROR(G15-Premissas!$B$4,"")) | J15: =IF(OR(B15="",F15<>Premissas!$F$4),"",IFERROR(MONTH(B15),"")) | K15: =IF(A15="","",IF(F15="","Conferir dados",IF(F15<>Premissas!$F$4,"Cadastro não ativo",IF(OR(B15="",C15="",D15="",E15="",Premissas!$B$4="",Premissas!$B$5=""),"Conferir dados",IF(I15="","Conferir dados",IF(I15=0,"Hoje",IF(I15<=Premissas!$B$5,"Próximo","Agendado")))))))
G16: =IF(OR(A16="",B16="",F16<>Premissas!$F$4,Premissas!$B$4=""),"",IFERROR(DATE(YEAR(Premissas!$B$4)+IF(DATE(YEAR(Premissas!$B$4),MONTH(B16),DAY(B16))<Premissas!$B$4,1,0),MONTH(B16),DAY(B16)),"")) | H16: =IF(OR(B16="",G16=""),"",IFERROR(YEAR(G16)-YEAR(B16),"")) | I16: =IF(G16="","",IFERROR(G16-Premissas!$B$4,"")) | J16: =IF(OR(B16="",F16<>Premissas!$F$4),"",IFERROR(MONTH(B16),"")) | K16: =IF(A16="","",IF(F16="","Conferir dados",IF(F16<>Premissas!$F$4,"Cadastro não ativo",IF(OR(B16="",C16="",D16="",E16="",Premissas!$B$4="",Premissas!$B$5=""),"Conferir dados",IF(I16="","Conferir dados",IF(I16=0,"Hoje",IF(I16<=Premissas!$B$5,"Próximo","Agendado")))))))
G17: =IF(OR(A17="",B17="",F17<>Premissas!$F$4,Premissas!$B$4=""),"",IFERROR(DATE(YEAR(Premissas!$B$4)+IF(DATE(YEAR(Premissas!$B$4),MONTH(B17),DAY(B17))<Premissas!$B$4,1,0),MONTH(B17),DAY(B17)),"")) | H17: =IF(OR(B17="",G17=""),"",IFERROR(YEAR(G17)-YEAR(B17),"")) | I17: =IF(G17="","",IFERROR(G17-Premissas!$B$4,"")) | J17: =IF(OR(B17="",F17<>Premissas!$F$4),"",IFERROR(MONTH(B17),"")) | K17: =IF(A17="","",IF(F17="","Conferir dados",IF(F17<>Premissas!$F$4,"Cadastro não ativo",IF(OR(B17="",C17="",D17="",E17="",Premissas!$B$4="",Premissas!$B$5=""),"Conferir dados",IF(I17="","Conferir dados",IF(I17=0,"Hoje",IF(I17<=Premissas!$B$5,"Próximo","Agendado")))))))
G18: =IF(OR(A18="",B18="",F18<>Premissas!$F$4,Premissas!$B$4=""),"",IFERROR(DATE(YEAR(Premissas!$B$4)+IF(DATE(YEAR(Premissas!$B$4),MONTH(B18),DAY(B18))<Premissas!$B$4,1,0),MONTH(B18),DAY(B18)),"")) | H18: =IF(OR(B18="",G18=""),"",IFERROR(YEAR(G18)-YEAR(B18),"")) | I18: =IF(G18="","",IFERROR(G18-Premissas!$B$4,"")) | J18: =IF(OR(B18="",F18<>Premissas!$F$4),"",IFERROR(MONTH(B18),"")) | K18: =IF(A18="","",IF(F18="","Conferir dados",IF(F18<>Premissas!$F$4,"Cadastro não ativo",IF(OR(B18="",C18="",D18="",E18="",Premissas!$B$4="",Premissas!$B$5=""),"Conferir dados",IF(I18="","Conferir dados",IF(I18=0,"Hoje",IF(I18<=Premissas!$B$5,"Próximo","Agendado")))))))
G19: =IF(OR(A19="",B19="",F19<>Premissas!$F$4,Premissas!$B$4=""),"",IFERROR(DATE(YEAR(Premissas!$B$4)+IF(DATE(YEAR(Premissas!$B$4),MONTH(B19),DAY(B19))<Premissas!$B$4,1,0),MONTH(B19),DAY(B19)),"")) | H19: =IF(OR(B19="",G19=""),"",IFERROR(YEAR(G19)-YEAR(B19),"")) | I19: =IF(G19="","",IFERROR(G19-Premissas!$B$4,"")) | J19: =IF(OR(B19="",F19<>Premissas!$F$4),"",IFERROR(MONTH(B19),"")) | K19: =IF(A19="","",IF(F19="","Conferir dados",IF(F19<>Premissas!$F$4,"Cadastro não ativo",IF(OR(B19="",C19="",D19="",E19="",Premissas!$B$4="",Premissas!$B$5=""),"Conferir dados",IF(I19="","Conferir dados",IF(I19=0,"Hoje",IF(I19<=Premissas!$B$5,"Próximo","Agendado")))))))
G20: =IF(OR(A20="",B20="",F20<>Premissas!$F$4,Premissas!$B$4=""),"",IFERROR(DATE(YEAR(Premissas!$B$4)+IF(DATE(YEAR(Premissas!$B$4),MONTH(B20),DAY(B20))<Premissas!$B$4,1,0),MONTH(B20),DAY(B20)),"")) | H20: =IF(OR(B20="",G20=""),"",IFERROR(YEAR(G20)-YEAR(B20),"")) | I20: =IF(G20="","",IFERROR(G20-Premissas!$B$4,"")) | J20: =IF(OR(B20="",F20<>Premissas!$F$4),"",IFERROR(MONTH(B20),"")) | K20: =IF(A20="","",IF(F20="","Conferir dados",IF(F20<>Premissas!$F$4,"Cadastro não ativo",IF(OR(B20="",C20="",D20="",E20="",Premissas!$B$4="",Premissas!$B$5=""),"Conferir dados",IF(I20="","Conferir dados",IF(I20=0,"Hoje",IF(I20<=Premissas!$B$5,"Próximo","Agendado")))))))
G21: =IF(OR(A21="",B21="",F21<>Premissas!$F$4,Premissas!$B$4=""),"",IFERROR(DATE(YEAR(Premissas!$B$4)+IF(DATE(YEAR(Premissas!$B$4),MONTH(B21),DAY(B21))<Premissas!$B$4,1,0),MONTH(B21),DAY(B21)),"")) | H21: =IF(OR(B21="",G21=""),"",IFERROR(YEAR(G21)-YEAR(B21),"")) | I21: =IF(G21="","",IFERROR(G21-Premissas!$B$4,"")) | J21: =IF(OR(B21="",F21<>Premissas!$F$4),"",IFERROR(MONTH(B21),"")) | K21: =IF(A21="","",IF(F21="","Conferir dados",IF(F21<>Premissas!$F$4,"Cadastro não ativo",IF(OR(B21="",C21="",D21="",E21="",Premissas!$B$4="",Premissas!$B$5=""),"Conferir dados",IF(I21="","Conferir dados",IF(I21=0,"Hoje",IF(I21<=Premissas!$B$5,"Próximo","Agendado")))))))
G22: =IF(OR(A22="",B22="",F22<>Premissas!$F$4,Premissas!$B$4=""),"",IFERROR(DATE(YEAR(Premissas!$B$4)+IF(DATE(YEAR(Premissas!$B$4),MONTH(B22),DAY(B22))<Premissas!$B$4,1,0),MONTH(B22),DAY(B22)),"")) | H22: =IF(OR(B22="",G22=""),"",IFERROR(YEAR(G22)-YEAR(B22),"")) | I22: =IF(G22="","",IFERROR(G22-Premissas!$B$4,"")) | J22: =IF(OR(B22="",F22<>Premissas!$F$4),"",IFERROR(MONTH(B22),"")) | K22: =IF(A22="","",IF(F22="","Conferir dados",IF(F22<>Premissas!$F$4,"Cadastro não ativo",IF(OR(B22="",C22="",D22="",E22="",Premissas!$B$4="",Premissas!$B$5=""),"Conferir dados",IF(I22="","Conferir dados",IF(I22=0,"Hoje",IF(I22<=Premissas!$B$5,"Próximo","Agendado")))))))
G23: =IF(OR(A23="",B23="",F23<>Premissas!$F$4,Premissas!$B$4=""),"",IFERROR(DATE(YEAR(Premissas!$B$4)+IF(DATE(YEAR(Premissas!$B$4),MONTH(B23),DAY(B23))<Premissas!$B$4,1,0),MONTH(B23),DAY(B23)),"")) | H23: =IF(OR(B23="",G23=""),"",IFERROR(YEAR(G23)-YEAR(B23),"")) | I23: =IF(G23="","",IFERROR(G23-Premissas!$B$4,"")) | J23: =IF(OR(B23="",F23<>Premissas!$F$4),"",IFERROR(MONTH(B23),"")) | K23: =IF(A23="","",IF(F23="","Conferir dados",IF(F23<>Premissas!$F$4,"Cadastro não ativo",IF(OR(B23="",C23="",D23="",E23="",Premissas!$B$4="",Premissas!$B$5=""),"Conferir dados",IF(I23="","Conferir dados",IF(I23=0,"Hoje",IF(I23<=Premissas!$B$5,"Próximo","Agendado")))))))
G24: =IF(OR(A24="",B24="",F24<>Premissas!$F$4,Premissas!$B$4=""),"",IFERROR(DATE(YEAR(Premissas!$B$4)+IF(DATE(YEAR(Premissas!$B$4),MONTH(B24),DAY(B24))<Premissas!$B$4,1,0),MONTH(B24),DAY(B24)),"")) | H24: =IF(OR(B24="",G24=""),"",IFERROR(YEAR(G24)-YEAR(B24),"")) | I24: =IF(G24="","",IFERROR(G24-Premissas!$B$4,"")) | J24: =IF(OR(B24="",F24<>Premissas!$F$4),"",IFERROR(MONTH(B24),"")) | K24: =IF(A24="","",IF(F24="","Conferir dados",IF(F24<>Premissas!$F$4,"Cadastro não ativo",IF(OR(B24="",C24="",D24="",E24="",Premissas!$B$4="",Premissas!$B$5=""),"Conferir dados",IF(I24="","Conferir dados",IF(I24=0,"Hoje",IF(I24<=Premissas!$B$5,"Próximo","Agendado")))))))
G25: =IF(OR(A25="",B25="",F25<>Premissas!$F$4,Premissas!$B$4=""),"",IFERROR(DATE(YEAR(Premissas!$B$4)+IF(DATE(YEAR(Premissas!$B$4),MONTH(B25),DAY(B25))<Premissas!$B$4,1,0),MONTH(B25),DAY(B25)),"")) | H25: =IF(OR(B25="",G25=""),"",IFERROR(YEAR(G25)-YEAR(B25),"")) | I25: =IF(G25="","",IFERROR(G25-Premissas!$B$4,"")) | J25: =IF(OR(B25="",F25<>Premissas!$F$4),"",IFERROR(MONTH(B25),"")) | K25: =IF(A25="","",IF(F25="","Conferir dados",IF(F25<>Premissas!$F$4,"Cadastro não ativo",IF(OR(B25="",C25="",D25="",E25="",Premissas!$B$4="",Premissas!$B$5=""),"Conferir dados",IF(I25="","Conferir dados",IF(I25=0,"Hoje",IF(I25<=Premissas!$B$5,"Próximo","Agendado")))))))
G26: =IF(OR(A26="",B26="",F26<>Premissas!$F$4,Premissas!$B$4=""),"",IFERROR(DATE(YEAR(Premissas!$B$4)+IF(DATE(YEAR(Premissas!$B$4),MONTH(B26),DAY(B26))<Premissas!$B$4,1,0),MONTH(B26),DAY(B26)),"")) | H26: =IF(OR(B26="",G26=""),"",IFERROR(YEAR(G26)-YEAR(B26),"")) | I26: =IF(G26="","",IFERROR(G26-Premissas!$B$4,"")) | J26: =IF(OR(B26="",F26<>Premissas!$F$4),"",IFERROR(MONTH(B26),"")) | K26: =IF(A26="","",IF(F26="","Conferir dados",IF(F26<>Premissas!$F$4,"Cadastro não ativo",IF(OR(B26="",C26="",D26="",E26="",Premissas!$B$4="",Premissas!$B$5=""),"Conferir dados",IF(I26="","Conferir dados",IF(I26=0,"Hoje",IF(I26<=Premissas!$B$5,"Próximo","Agendado")))))))
... G104: =IF(OR(A104="",B104="",F104<>Premissas!$F$4,Premissas!$B$4=""),"",IFERROR(DATE(YEAR(Premissas!$B$4)+IF(DATE(YEAR(Premissas!$B$4),MONTH(B104),DAY(B104))<Premissas!$B$4,1,0),MONTH(B104),DAY(B104)),"")) | H104: =IF(OR(B104="",G104=""),"",IFERROR(YEAR(G104)-YEAR(B104),"")) | I104: =IF(G104="","",IFERROR(G104-Premissas!$B$4,"")) | J104: =IF(OR(B104="",F104<>Premissas!$F$4),"",IFERROR(MONTH(B104),"")) | K104: =IF(A104="","",IF(F104="","Conferir dados",IF(F104<>Premissas!$F$4,"Cadastro não ativo",IF(OR(B104="",C104="",D104="",E104="",Premissas!$B$4="",Premissas!$B$5=""),"Conferir dados",IF(I104="","Conferir dados",IF(I104=0,"Hoje",IF(I104<=Premissas!$B$5,"Próximo","Agendado")))))))

Sheet Premissas
A1: Premissas do calendário de aniversários
A2: Células amarelas são editáveis. A primeira opção de status é tratada como cadastro ativo.
A3: Parâmetro | B3: Valor | C3: Orientação | D3: Ministérios editáveis | E3: Preferências editáveis | F3: Status editáveis
A4: Data de referência | B4: 46276 | C4: Data-base usada para calcular o próximo aniversário. | D4: Acolhimento | E4: Telefone | F4: Ativo
A5: Janela de destaque (dias) | B5: 30 | C5: Limite editável para classificar aniversários próximos. | D5: Música | E5: Aplicativo de mensagem | F5: Em atualização
A6: Idade máxima para validação | B6: 120 | C6: Limite de conferência para datas de nascimento. | D6: Ensino | E6: E-mail | F6: Inativo
D7: Ação social | E7: Sem contato
D8: Intercessão
D9: Comunicação
