Workbook

Sheet Resumo
A1: Cadastro de membros — Resumo administrativo
A2: Data de referência | B2: =TODAY()
A4: Indicador | B4: Resultado | D4: Ministério | E4: Ativos
A5: Cadastros preenchidos | B5: =COUNTIF(Membros!$A$5:$A$104,"<>") | D5: =IF(Premissas!$B$4="","",Premissas!$B$4) | E5: =IF($D5="","",COUNTIFS(Membros!$A$5:$A$104,"<>",Membros!$G$5:$G$104,$D5,Membros!$H$5:$H$104,"Ativo"))
A6: Membros ativos | B6: =COUNTIFS(Membros!$A$5:$A$104,"<>",Membros!$H$5:$H$104,"Ativo") | D6: =IF(Premissas!$B$5="","",Premissas!$B$5) | E6: =IF($D6="","",COUNTIFS(Membros!$A$5:$A$104,"<>",Membros!$G$5:$G$104,$D6,Membros!$H$5:$H$104,"Ativo"))
A7: Cadastros em atualização | B7: =COUNTIFS(Membros!$A$5:$A$104,"<>",Membros!$H$5:$H$104,"Em atualização") | D7: =IF(Premissas!$B$6="","",Premissas!$B$6) | E7: =IF($D7="","",COUNTIFS(Membros!$A$5:$A$104,"<>",Membros!$G$5:$G$104,$D7,Membros!$H$5:$H$104,"Ativo"))
A8: Revisões vencidas | B8: =COUNTIF(Membros!$L$5:$L$104,"Revisão vencida") | D8: =IF(Premissas!$B$7="","",Premissas!$B$7) | E8: =IF($D8="","",COUNTIFS(Membros!$A$5:$A$104,"<>",Membros!$G$5:$G$104,$D8,Membros!$H$5:$H$104,"Ativo"))
A9: Revisões próximas | B9: =COUNTIF(Membros!$L$5:$L$104,"Revisão próxima") | D9: =IF(Premissas!$B$8="","",Premissas!$B$8) | E9: =IF($D9="","",COUNTIFS(Membros!$A$5:$A$104,"<>",Membros!$G$5:$G$104,$D9,Membros!$H$5:$H$104,"Ativo"))
A10: Sem e-mail informado | B10: =COUNTIFS(Membros!$A$5:$A$104,"<>",Membros!$E$5:$E$104,"") | D10: =IF(Premissas!$B$9="","",Premissas!$B$9) | E10: =IF($D10="","",COUNTIFS(Membros!$A$5:$A$104,"<>",Membros!$G$5:$G$104,$D10,Membros!$H$5:$H$104,"Ativo"))
A11: Entradas nos últimos 12 meses | B11: =COUNTIFS(Membros!$A$5:$A$104,"<>",Membros!$F$5:$F$104,">="&EDATE(TODAY(),-12),Membros!$F$5:$F$104,"<="&TODAY())
A12: Percentual ativo | B12: =IF(B5=0,"",IFERROR(B6/B5,""))

Sheet Membros
A1: Cadastro de membros da congregação
A2: Os dados de exemplo são fictícios. Preencha as células amarelas e confira os alertas manualmente. | N2: =IF(Premissas!$A$4="","",Premissas!$A$4) | O2: =IF(Premissas!$B$4="","",Premissas!$B$4) | P2: =IF(Premissas!$C$4="","",Premissas!$C$4)
N3: =IF(Premissas!$A$5="","",Premissas!$A$5) | O3: =IF(Premissas!$B$5="","",Premissas!$B$5) | P3: =IF(Premissas!$C$5="","",Premissas!$C$5)
A4: ID do cadastro | B4: Nome fictício | C4: Data de nascimento | D4: Telefone fictício | E4: E-mail fictício | F4: Data de entrada | G4: Ministério | H4: Situação cadastral | I4: Responsável pelo cadastro | J4: Última revisão | K4: Próxima revisão | L4: Alerta de conferência | N4: =IF(Premissas!$A$6="","",Premissas!$A$6) | O4: =IF(Premissas!$B$6="","",Premissas!$B$6) | P4: =IF(Premissas!$C$6="","",Premissas!$C$6)
A5: MB-FIC-001 | B5: Pessoa Fictícia Alfa | C5: 32188 | D5: (00) 90000-0001 | E5: alfa@exemplo.invalid | F5: 44997 | G5: Equipe de Acolhimento Fictícia | H5: Ativo | I5: Secretaria Fictícia Aurora | J5: 46254 | K5: =IF(OR($A5="",$J5="",Premissas!$D$4=""),"",IFERROR(EDATE($J5,Premissas!$D$4),"")) | L5: =IF($A5="","",IF($H5="Em atualização","Conferir situação",IF(OR($H5="Inativo",$H5="Transferido"),"Sem alerta",IF($H5<>"Ativo","Conferir situação",IF($J5="","Informar revisão",IF(OR($K5="",Premissas!$E$4=""),"Conferir premissas",IF($K5<TODAY(),"Revisão vencida",IF($K5<=TODAY()+Premissas!$E$4,"Revisão próxima","Em dia")))))))) | N5: =IF(Premissas!$A$7="","",Premissas!$A$7) | O5: =IF(Premissas!$B$7="","",Premissas!$B$7)
A6: MB-FIC-002 | B6: Pessoa Fictícia Beta | C6: 33423 | D6: (00) 90000-0002 | E6: beta@exemplo.invalid | F6: 44822 | G6: Música Fictícia | H6: Ativo | I6: Secretaria Fictícia Cedro | J6: 45848 | K6: =IF(OR($A6="",$J6="",Premissas!$D$4=""),"",IFERROR(EDATE($J6,Premissas!$D$4),"")) | L6: =IF($A6="","",IF($H6="Em atualização","Conferir situação",IF(OR($H6="Inativo",$H6="Transferido"),"Sem alerta",IF($H6<>"Ativo","Conferir situação",IF($J6="","Informar revisão",IF(OR($K6="",Premissas!$E$4=""),"Conferir premissas",IF($K6<TODAY(),"Revisão vencida",IF($K6<=TODAY()+Premissas!$E$4,"Revisão próxima","Em dia")))))))) | O6: =IF(Premissas!$B$8="","",Premissas!$B$8)
A7: MB-FIC-003 | B7: Pessoa Fictícia Gama | C7: 29182 | D7: (00) 90000-0003 | F7: 45319 | G7: Apoio Comunitário Fictício | H7: Em atualização | I7: Equipe Fictícia Horizonte | J7: 46095 | K7: =IF(OR($A7="",$J7="",Premissas!$D$4=""),"",IFERROR(EDATE($J7,Premissas!$D$4),"")) | L7: =IF($A7="","",IF($H7="Em atualização","Conferir situação",IF(OR($H7="Inativo",$H7="Transferido"),"Sem alerta",IF($H7<>"Ativo","Conferir situação",IF($J7="","Informar revisão",IF(OR($K7="",Premissas!$E$4=""),"Conferir premissas",IF($K7<TODAY(),"Revisão vencida",IF($K7<=TODAY()+Premissas!$E$4,"Revisão próxima","Em dia")))))))) | O7: =IF(Premissas!$B$9="","",Premissas!$B$9)
A8: MB-FIC-004 | B8: Pessoa Fictícia Delta | C8: 31176 | D8: (00) 90000-0004 | E8: delta@exemplo.invalid | F8: 44352 | G8: Ensino Fictício | H8: Inativo | I8: Secretaria Fictícia Aurora | J8: 45992 | K8: =IF(OR($A8="",$J8="",Premissas!$D$4=""),"",IFERROR(EDATE($J8,Premissas!$D$4),"")) | L8: =IF($A8="","",IF($H8="Em atualização","Conferir situação",IF(OR($H8="Inativo",$H8="Transferido"),"Sem alerta",IF($H8<>"Ativo","Conferir situação",IF($J8="","Informar revisão",IF(OR($K8="",Premissas!$E$4=""),"Conferir premissas",IF($K8<TODAY(),"Revisão vencida",IF($K8<=TODAY()+Premissas!$E$4,"Revisão próxima","Em dia"))))))))
A9: MB-FIC-005 | B9: Pessoa Fictícia Épsilon | C9: 36055 | D9: (00) 90000-0005 | E9: epsilon@exemplo.invalid | F9: 46063 | G9: Intercessão Fictícia | H9: Ativo | I9: Secretaria Fictícia Cedro | K9: =IF(OR($A9="",$J9="",Premissas!$D$4=""),"",IFERROR(EDATE($J9,Premissas!$D$4),"")) | L9: =IF($A9="","",IF($H9="Em atualização","Conferir situação",IF(OR($H9="Inativo",$H9="Transferido"),"Sem alerta",IF($H9<>"Ativo","Conferir situação",IF($J9="","Informar revisão",IF(OR($K9="",Premissas!$E$4=""),"Conferir premissas",IF($K9<TODAY(),"Revisão vencida",IF($K9<=TODAY()+Premissas!$E$4,"Revisão próxima","Em dia"))))))))
A10: MB-FIC-006 | B10: Pessoa Fictícia Zeta | C10: 26663 | D10: (00) 90000-0006 | E10: zeta@exemplo.invalid | F10: 44059 | G10: Sem ministério | H10: Transferido | I10: Equipe Fictícia Horizonte | J10: 46044 | K10: =IF(OR($A10="",$J10="",Premissas!$D$4=""),"",IFERROR(EDATE($J10,Premissas!$D$4),"")) | L10: =IF($A10="","",IF($H10="Em atualização","Conferir situação",IF(OR($H10="Inativo",$H10="Transferido"),"Sem alerta",IF($H10<>"Ativo","Conferir situação",IF($J10="","Informar revisão",IF(OR($K10="",Premissas!$E$4=""),"Conferir premissas",IF($K10<TODAY(),"Revisão vencida",IF($K10<=TODAY()+Premissas!$E$4,"Revisão próxima","Em dia"))))))))
A11: MB-FIC-007 | B11: Pessoa Fictícia Eta | C11: 34404 | D11: (00) 90000-0007 | E11: eta@exemplo.invalid | F11: 45753 | G11: Equipe de Acolhimento Fictícia | H11: Ativo | I11: Secretaria Fictícia Aurora | J11: 45931 | K11: =IF(OR($A11="",$J11="",Premissas!$D$4=""),"",IFERROR(EDATE($J11,Premissas!$D$4),"")) | L11: =IF($A11="","",IF($H11="Em atualização","Conferir situação",IF(OR($H11="Inativo",$H11="Transferido"),"Sem alerta",IF($H11<>"Ativo","Conferir situação",IF($J11="","Informar revisão",IF(OR($K11="",Premissas!$E$4=""),"Conferir premissas",IF($K11<TODAY(),"Revisão vencida",IF($K11<=TODAY()+Premissas!$E$4,"Revisão próxima","Em dia"))))))))
A12: MB-FIC-008 | B12: Pessoa Fictícia Teta | C12: 30189 | D12: (00) 90000-0008 | F12: 45494 | G12: Música Fictícia | H12: Ativo | I12: Secretaria Fictícia Cedro | J12: 45971 | K12: =IF(OR($A12="",$J12="",Premissas!$D$4=""),"",IFERROR(EDATE($J12,Premissas!$D$4),"")) | L12: =IF($A12="","",IF($H12="Em atualização","Conferir situação",IF(OR($H12="Inativo",$H12="Transferido"),"Sem alerta",IF($H12<>"Ativo","Conferir situação",IF($J12="","Informar revisão",IF(OR($K12="",Premissas!$E$4=""),"Conferir premissas",IF($K12<TODAY(),"Revisão vencida",IF($K12<=TODAY()+Premissas!$E$4,"Revisão próxima","Em dia"))))))))
A13: MB-FIC-009 | B13: Pessoa Fictícia Iota | C13: 36904 | D13: (00) 90000-0009 | E13: iota@exemplo.invalid | F13: 46264 | G13: Ensino Fictício | H13: Ativo | I13: Equipe Fictícia Horizonte | J13: 46270 | K13: =IF(OR($A13="",$J13="",Premissas!$D$4=""),"",IFERROR(EDATE($J13,Premissas!$D$4),"")) | L13: =IF($A13="","",IF($H13="Em atualização","Conferir situação",IF(OR($H13="Inativo",$H13="Transferido"),"Sem alerta",IF($H13<>"Ativo","Conferir situação",IF($J13="","Informar revisão",IF(OR($K13="",Premissas!$E$4=""),"Conferir premissas",IF($K13<TODAY(),"Revisão vencida",IF($K13<=TODAY()+Premissas!$E$4,"Revisão próxima","Em dia"))))))))
A14: MB-FIC-010 | B14: Pessoa Fictícia Kappa | C14: 33153 | D14: (00) 90000-0010 | E14: kappa@exemplo.invalid | F14: 45249 | G14: Apoio Comunitário Fictício | H14: Em atualização | I14: Secretaria Fictícia Aurora | J14: 46006 | K14: =IF(OR($A14="",$J14="",Premissas!$D$4=""),"",IFERROR(EDATE($J14,Premissas!$D$4),"")) | L14: =IF($A14="","",IF($H14="Em atualização","Conferir situação",IF(OR($H14="Inativo",$H14="Transferido"),"Sem alerta",IF($H14<>"Ativo","Conferir situação",IF($J14="","Informar revisão",IF(OR($K14="",Premissas!$E$4=""),"Conferir premissas",IF($K14<TODAY(),"Revisão vencida",IF($K14<=TODAY()+Premissas!$E$4,"Revisão próxima","Em dia"))))))))
K15: =IF(OR($A15="",$J15="",Premissas!$D$4=""),"",IFERROR(EDATE($J15,Premissas!$D$4),"")) | L15: =IF($A15="","",IF($H15="Em atualização","Conferir situação",IF(OR($H15="Inativo",$H15="Transferido"),"Sem alerta",IF($H15<>"Ativo","Conferir situação",IF($J15="","Informar revisão",IF(OR($K15="",Premissas!$E$4=""),"Conferir premissas",IF($K15<TODAY(),"Revisão vencida",IF($K15<=TODAY()+Premissas!$E$4,"Revisão próxima","Em dia"))))))))
K16: =IF(OR($A16="",$J16="",Premissas!$D$4=""),"",IFERROR(EDATE($J16,Premissas!$D$4),"")) | L16: =IF($A16="","",IF($H16="Em atualização","Conferir situação",IF(OR($H16="Inativo",$H16="Transferido"),"Sem alerta",IF($H16<>"Ativo","Conferir situação",IF($J16="","Informar revisão",IF(OR($K16="",Premissas!$E$4=""),"Conferir premissas",IF($K16<TODAY(),"Revisão vencida",IF($K16<=TODAY()+Premissas!$E$4,"Revisão próxima","Em dia"))))))))
K17: =IF(OR($A17="",$J17="",Premissas!$D$4=""),"",IFERROR(EDATE($J17,Premissas!$D$4),"")) | L17: =IF($A17="","",IF($H17="Em atualização","Conferir situação",IF(OR($H17="Inativo",$H17="Transferido"),"Sem alerta",IF($H17<>"Ativo","Conferir situação",IF($J17="","Informar revisão",IF(OR($K17="",Premissas!$E$4=""),"Conferir premissas",IF($K17<TODAY(),"Revisão vencida",IF($K17<=TODAY()+Premissas!$E$4,"Revisão próxima","Em dia"))))))))
K18: =IF(OR($A18="",$J18="",Premissas!$D$4=""),"",IFERROR(EDATE($J18,Premissas!$D$4),"")) | L18: =IF($A18="","",IF($H18="Em atualização","Conferir situação",IF(OR($H18="Inativo",$H18="Transferido"),"Sem alerta",IF($H18<>"Ativo","Conferir situação",IF($J18="","Informar revisão",IF(OR($K18="",Premissas!$E$4=""),"Conferir premissas",IF($K18<TODAY(),"Revisão vencida",IF($K18<=TODAY()+Premissas!$E$4,"Revisão próxima","Em dia"))))))))
K19: =IF(OR($A19="",$J19="",Premissas!$D$4=""),"",IFERROR(EDATE($J19,Premissas!$D$4),"")) | L19: =IF($A19="","",IF($H19="Em atualização","Conferir situação",IF(OR($H19="Inativo",$H19="Transferido"),"Sem alerta",IF($H19<>"Ativo","Conferir situação",IF($J19="","Informar revisão",IF(OR($K19="",Premissas!$E$4=""),"Conferir premissas",IF($K19<TODAY(),"Revisão vencida",IF($K19<=TODAY()+Premissas!$E$4,"Revisão próxima","Em dia"))))))))
K20: =IF(OR($A20="",$J20="",Premissas!$D$4=""),"",IFERROR(EDATE($J20,Premissas!$D$4),"")) | L20: =IF($A20="","",IF($H20="Em atualização","Conferir situação",IF(OR($H20="Inativo",$H20="Transferido"),"Sem alerta",IF($H20<>"Ativo","Conferir situação",IF($J20="","Informar revisão",IF(OR($K20="",Premissas!$E$4=""),"Conferir premissas",IF($K20<TODAY(),"Revisão vencida",IF($K20<=TODAY()+Premissas!$E$4,"Revisão próxima","Em dia"))))))))
K21: =IF(OR($A21="",$J21="",Premissas!$D$4=""),"",IFERROR(EDATE($J21,Premissas!$D$4),"")) | L21: =IF($A21="","",IF($H21="Em atualização","Conferir situação",IF(OR($H21="Inativo",$H21="Transferido"),"Sem alerta",IF($H21<>"Ativo","Conferir situação",IF($J21="","Informar revisão",IF(OR($K21="",Premissas!$E$4=""),"Conferir premissas",IF($K21<TODAY(),"Revisão vencida",IF($K21<=TODAY()+Premissas!$E$4,"Revisão próxima","Em dia"))))))))
K22: =IF(OR($A22="",$J22="",Premissas!$D$4=""),"",IFERROR(EDATE($J22,Premissas!$D$4),"")) | L22: =IF($A22="","",IF($H22="Em atualização","Conferir situação",IF(OR($H22="Inativo",$H22="Transferido"),"Sem alerta",IF($H22<>"Ativo","Conferir situação",IF($J22="","Informar revisão",IF(OR($K22="",Premissas!$E$4=""),"Conferir premissas",IF($K22<TODAY(),"Revisão vencida",IF($K22<=TODAY()+Premissas!$E$4,"Revisão próxima","Em dia"))))))))
K23: =IF(OR($A23="",$J23="",Premissas!$D$4=""),"",IFERROR(EDATE($J23,Premissas!$D$4),"")) | L23: =IF($A23="","",IF($H23="Em atualização","Conferir situação",IF(OR($H23="Inativo",$H23="Transferido"),"Sem alerta",IF($H23<>"Ativo","Conferir situação",IF($J23="","Informar revisão",IF(OR($K23="",Premissas!$E$4=""),"Conferir premissas",IF($K23<TODAY(),"Revisão vencida",IF($K23<=TODAY()+Premissas!$E$4,"Revisão próxima","Em dia"))))))))
K24: =IF(OR($A24="",$J24="",Premissas!$D$4=""),"",IFERROR(EDATE($J24,Premissas!$D$4),"")) | L24: =IF($A24="","",IF($H24="Em atualização","Conferir situação",IF(OR($H24="Inativo",$H24="Transferido"),"Sem alerta",IF($H24<>"Ativo","Conferir situação",IF($J24="","Informar revisão",IF(OR($K24="",Premissas!$E$4=""),"Conferir premissas",IF($K24<TODAY(),"Revisão vencida",IF($K24<=TODAY()+Premissas!$E$4,"Revisão próxima","Em dia"))))))))
K25: =IF(OR($A25="",$J25="",Premissas!$D$4=""),"",IFERROR(EDATE($J25,Premissas!$D$4),"")) | L25: =IF($A25="","",IF($H25="Em atualização","Conferir situação",IF(OR($H25="Inativo",$H25="Transferido"),"Sem alerta",IF($H25<>"Ativo","Conferir situação",IF($J25="","Informar revisão",IF(OR($K25="",Premissas!$E$4=""),"Conferir premissas",IF($K25<TODAY(),"Revisão vencida",IF($K25<=TODAY()+Premissas!$E$4,"Revisão próxima","Em dia"))))))))
K26: =IF(OR($A26="",$J26="",Premissas!$D$4=""),"",IFERROR(EDATE($J26,Premissas!$D$4),"")) | L26: =IF($A26="","",IF($H26="Em atualização","Conferir situação",IF(OR($H26="Inativo",$H26="Transferido"),"Sem alerta",IF($H26<>"Ativo","Conferir situação",IF($J26="","Informar revisão",IF(OR($K26="",Premissas!$E$4=""),"Conferir premissas",IF($K26<TODAY(),"Revisão vencida",IF($K26<=TODAY()+Premissas!$E$4,"Revisão próxima","Em dia"))))))))
... K104: =IF(OR($A104="",$J104="",Premissas!$D$4=""),"",IFERROR(EDATE($J104,Premissas!$D$4),"")) | L104: =IF($A104="","",IF($H104="Em atualização","Conferir situação",IF(OR($H104="Inativo",$H104="Transferido"),"Sem alerta",IF($H104<>"Ativo","Conferir situação",IF($J104="","Informar revisão",IF(OR($K104="",Premissas!$E$4=""),"Conferir premissas",IF($K104<TODAY(),"Revisão vencida",IF($K104<=TODAY()+Premissas!$E$4,"Revisão próxima","Em dia"))))))))

Sheet Premissas
A1: Premissas e listas editáveis
A2: As opções alimentam as validações do cadastro. Alterações devem ser conferidas antes do uso.
A3: Situações cadastrais | B3: Ministérios | C3: Responsáveis pelo cadastro | D3: Revisão (meses) | E3: Aviso (dias)
A4: Ativo | B4: Equipe de Acolhimento Fictícia | C4: Secretaria Fictícia Aurora | D4: 12 | E4: 30
A5: Em atualização | B5: Música Fictícia | C5: Secretaria Fictícia Cedro
A6: Inativo | B6: Apoio Comunitário Fictício | C6: Equipe Fictícia Horizonte
A7: Transferido | B7: Ensino Fictício
B8: Intercessão Fictícia
B9: Sem ministério
